BEGIN:VCALENDAR
VERSION:2.0
PRODID:-//Napa Valley Insight Meditation - ECPv6.15.20//NONSGML v1.0//EN
CALSCALE:GREGORIAN
METHOD:PUBLISH
X-WR-CALNAME:Napa Valley Insight Meditation
X-ORIGINAL-URL:https://www.napainsight.org
X-WR-CALDESC:Events for Napa Valley Insight Meditation
REFRESH-INTERVAL;VALUE=DURATION:PT1H
X-Robots-Tag:noindex
X-PUBLISHED-TTL:PT1H
BEGIN:VTIMEZONE
TZID:America/Los_Angeles
BEGIN:DAYLIGHT
TZOFFSETFROM:-0800
TZOFFSETTO:-0700
TZNAME:PDT
DTSTART:20180311T100000
END:DAYLIGHT
BEGIN:STANDARD
TZOFFSETFROM:-0700
TZOFFSETTO:-0800
TZNAME:PST
DTSTART:20181104T090000
END:STANDARD
BEGIN:DAYLIGHT
TZOFFSETFROM:-0800
TZOFFSETTO:-0700
TZNAME:PDT
DTSTART:20190310T100000
END:DAYLIGHT
BEGIN:STANDARD
TZOFFSETFROM:-0700
TZOFFSETTO:-0800
TZNAME:PST
DTSTART:20191103T090000
END:STANDARD
BEGIN:DAYLIGHT
TZOFFSETFROM:-0800
TZOFFSETTO:-0700
TZNAME:PDT
DTSTART:20200308T100000
END:DAYLIGHT
BEGIN:STANDARD
TZOFFSETFROM:-0700
TZOFFSETTO:-0800
TZNAME:PST
DTSTART:20201101T090000
END:STANDARD
END:VTIMEZONE
BEGIN:VEVENT
DTSTART;TZID=America/Los_Angeles:20191005T100000
DTEND;TZID=America/Los_Angeles:20191005T160000
DTSTAMP:20260421T024728
CREATED:20190709T005120Z
LAST-MODIFIED:20190909T001303Z
UID:10001069-1570269600-1570291200@www.napainsight.org
SUMMARY:Daylong with Ayya Santacitta: THE HEART'S WISH TO AWAKEN
DESCRIPTION:THE HEART’S WISH TO AWAKEN \nIt is easy to fritter away our time on the myriad possibilities of contemporary life. Following the Buddha’s advice on the Iddhipada (Four Roads to Success)\, we will investigate how to use our energy for the path of awakening. \nThere will be periods of silent meditation\, discussion\, walking meditation\, and dharma talks throughout the day. \nCarpooling is essential for this event! We only have the option of 20 parking spaces. Please contact the organizer to let us know how many people will be in your car. Thank you. \nPlease arrive early to have time to park\, find the building (Casa Vista)\, and settle in. Please bring water or other beverage\, and a bag lunch. \nTo Attend: Click Here To Register \nSantacitta Bhikkhuni was born in Austria and did her graduate studies in Cultural Anthropology\, focusing on dance\, theatre and ritual. She also worked in avant-garde dance theatre as a performer and costume designer. In 1988 she met Ajahn Buddhadasa in southern Thailand\, who sparked her interest in Buddhist monastic life. She has trained as a nun in both the East and West since 1993\, primarily in the lineage of Ajahn Chah\, and has practiced meditation for over 30 years. Since 2002\, she has also received teachings in the lineage of Dilgo Khyentse Rinpoche. \nSantacitta Bhikkhuni co-founded Aloka Vihara Forest Monastery in 2009 and received Bhikkhuni Ordination in 2011. She is particularly interested in creating sanctuary close to nature and bringing wisdom traditions to the environmental movement.
URL:https://www.napainsight.org/event/daylong-with-ayya-santacitta/
LOCATION:Westerbeke Ranch Conference\, 2300 Grove St\, Sonoma\, CA\, 95476\, United States
ATTACH;FMTTYPE=image/jpeg:https://www.napainsight.org/wp-content/uploads/2019/07/Santacitta-bio-final-400x400.jpg
END:VEVENT
END:VCALENDAR