BEGIN:VCALENDAR
VERSION:2.0
PRODID:-//Napa Valley Insight Meditation - ECPv6.15.20//NONSGML v1.0//EN
CALSCALE:GREGORIAN
METHOD:PUBLISH
X-ORIGINAL-URL:https://www.napainsight.org
X-WR-CALDESC:Events for Napa Valley Insight Meditation
REFRESH-INTERVAL;VALUE=DURATION:PT1H
X-Robots-Tag:noindex
X-PUBLISHED-TTL:PT1H
BEGIN:VTIMEZONE
TZID:America/Los_Angeles
BEGIN:DAYLIGHT
TZOFFSETFROM:-0800
TZOFFSETTO:-0700
TZNAME:PDT
DTSTART:20150308T100000
END:DAYLIGHT
BEGIN:STANDARD
TZOFFSETFROM:-0700
TZOFFSETTO:-0800
TZNAME:PST
DTSTART:20151101T090000
END:STANDARD
BEGIN:DAYLIGHT
TZOFFSETFROM:-0800
TZOFFSETTO:-0700
TZNAME:PDT
DTSTART:20160313T100000
END:DAYLIGHT
BEGIN:STANDARD
TZOFFSETFROM:-0700
TZOFFSETTO:-0800
TZNAME:PST
DTSTART:20161106T090000
END:STANDARD
BEGIN:DAYLIGHT
TZOFFSETFROM:-0800
TZOFFSETTO:-0700
TZNAME:PDT
DTSTART:20170312T100000
END:DAYLIGHT
BEGIN:STANDARD
TZOFFSETFROM:-0700
TZOFFSETTO:-0800
TZNAME:PST
DTSTART:20171105T090000
END:STANDARD
BEGIN:DAYLIGHT
TZOFFSETFROM:-0800
TZOFFSETTO:-0700
TZNAME:PDT
DTSTART:20180311T100000
END:DAYLIGHT
BEGIN:STANDARD
TZOFFSETFROM:-0700
TZOFFSETTO:-0800
TZNAME:PST
DTSTART:20181104T090000
END:STANDARD
END:VTIMEZONE
BEGIN:VEVENT
DTSTART;TZID=America/Los_Angeles:20170716T043000
DTEND;TZID=America/Los_Angeles:20170716T073000
DTSTAMP:20260421T141515
CREATED:20170704T030035Z
LAST-MODIFIED:20170704T030035Z
UID:10001108-1500179400-1500190200@www.napainsight.org
SUMMARY:Super Fun Picnic @ Fuller Park
DESCRIPTION:It’s time to get your summer on and come together for a Sangha style pot luck! \nCome join us for NVIM’s second annual “Super Fun Picnic\, on Sunday June 16th\, starting at 11:30 am. We will be meeting at Fuller Park in downtown Napa at the Elm site picnic tables (north side of the park). \nDetails: Please bring a dish to share\, all family and friends are welcome. \nWe will have games\, such as horseshoe\, bat mitten\, board games if you would like to participate and play. \nNVIM will provide biodegradable (non-tree) plates\, cutlery and cups\, napkins\, and water. \nPlease feel free to bring blankets if you would like to lounge on the grass. There are several picnic tables at the site as well. \nContact Erika (erika@napainsight.org) to RSVP and let us know what dish you’d like to bring. \nHope to see you there!!
URL:https://www.napainsight.org/event/super-fun-picnic-fuller-park/
LOCATION:Fuller Park Elm Site Tables\, 560 Jefferson St\, Napa\, CA\, 94559\, United States
END:VEVENT
BEGIN:VEVENT
DTSTART;TZID=America/Los_Angeles:20160612T043000
DTEND;TZID=America/Los_Angeles:20160612T073000
DTSTAMP:20260421T141515
CREATED:20160526T112732Z
LAST-MODIFIED:20160606T005119Z
UID:10000985-1465705800-1465716600@www.napainsight.org
SUMMARY:Super Fun Picnic
DESCRIPTION:It’s time to get your summer on and come together for a Sangha style pot luck! \nCome join us for our “Super Fun Picnic\, on Sunday June 12th\, starting at 11:30am. We will be meeting at Fuller Park in downtown Napa at the Elm site picnic tables (north side of the part). \nDetails: Please bring a dish to share\, all family and friends are welcome. \nWe will have games\, such as horseshoe\, bat mitten\, board games if you would like to participate and play. \nNVIM will provide biodegradable (non-tree) plates\, cutlery and cups\, napkins\, and water. \nPlease feel free to bring blankets if you would like to lounge on the grass. There are several picnic tables at the site as well. \nContact Erika (ekria@napainsight.org) to RSVP and let us know what dish you’d like to bring. \nHope to see you there!!
URL:https://www.napainsight.org/event/super-fun-picnic/
LOCATION:Fuller Park Elm Site Tables\, 560 Jefferson St\, Napa\, CA\, 94559\, United States
END:VEVENT
END:VCALENDAR