BEGIN:VCALENDAR
VERSION:2.0
PRODID:-//Napa Valley Insight Meditation - ECPv6.15.20//NONSGML v1.0//EN
CALSCALE:GREGORIAN
METHOD:PUBLISH
X-WR-CALNAME:Napa Valley Insight Meditation
X-ORIGINAL-URL:https://www.napainsight.org
X-WR-CALDESC:Events for Napa Valley Insight Meditation
REFRESH-INTERVAL;VALUE=DURATION:PT1H
X-Robots-Tag:noindex
X-PUBLISHED-TTL:PT1H
BEGIN:VTIMEZONE
TZID:America/Los_Angeles
BEGIN:DAYLIGHT
TZOFFSETFROM:-0800
TZOFFSETTO:-0700
TZNAME:PDT
DTSTART:20240310T100000
END:DAYLIGHT
BEGIN:STANDARD
TZOFFSETFROM:-0700
TZOFFSETTO:-0800
TZNAME:PST
DTSTART:20241103T090000
END:STANDARD
BEGIN:DAYLIGHT
TZOFFSETFROM:-0800
TZOFFSETTO:-0700
TZNAME:PDT
DTSTART:20250309T100000
END:DAYLIGHT
BEGIN:STANDARD
TZOFFSETFROM:-0700
TZOFFSETTO:-0800
TZNAME:PST
DTSTART:20251102T090000
END:STANDARD
BEGIN:DAYLIGHT
TZOFFSETFROM:-0800
TZOFFSETTO:-0700
TZNAME:PDT
DTSTART:20260308T100000
END:DAYLIGHT
BEGIN:STANDARD
TZOFFSETFROM:-0700
TZOFFSETTO:-0800
TZNAME:PST
DTSTART:20261101T090000
END:STANDARD
END:VTIMEZONE
BEGIN:VEVENT
DTSTART;TZID=America/Los_Angeles:20250501T090000
DTEND;TZID=America/Los_Angeles:20250501T100000
DTSTAMP:20260421T024645
CREATED:20250417T010759Z
LAST-MODIFIED:20250417T010759Z
UID:10001590-1746090000-1746093600@www.napainsight.org
SUMMARY:Thursday Morning Online Meditation
DESCRIPTION:NVIM will continue to host our Thursday morning meditations by Zoom. Morning meditation is led by Debbie Darrin\, and others\, and begins promptly at 9:00am. All are welcome. \nThursday morning sits begin with an inspirational reading\, followed by a 30-minute mostly silent meditation period and a short 10-minute period in which individuals may comment on their own practice while the group listens in silence. \nTo receive the Zoom link one day in advance\,  sign up for our mailing list at: https://www.napainsight.org/contact/newsletter/
URL:https://www.napainsight.org/event/thursday-morning-online-meditation-8/2025-05-01/
ATTACH;FMTTYPE=image/jpeg:https://www.napainsight.org/wp-content/uploads/2015/02/Buddha-and-Ocean-e1424996759864.jpg
LOCATION:https://www.napainsight.org/event/thursday-morning-online-meditation-8/2025-05-01/
END:VEVENT
BEGIN:VEVENT
DTSTART;TZID=America/Los_Angeles:20250506T190000
DTEND;TZID=America/Los_Angeles:20250506T203000
DTSTAMP:20260421T024645
CREATED:20250210T032528Z
LAST-MODIFIED:20250309T073138Z
UID:10001353-1746558000-1746563400@www.napainsight.org
SUMMARY:An Evening with Kevin Griffin
DESCRIPTION:This Tuesday we warmly welcome Kevin Griffin back to NVIM. Kevin is an author\, longtime Buddhist practitioner who trained as a Community Dharma Leader at Spirit Rock\, and innovator in the field of addiction treatment. His newest book is Buddhism & the Twelve Steps: Daily Reflections – Thoughts on Dharma and Recovery. Learn more about Kevin and his books here: https://www.kevingriffin.net/ \nNVIM COVID Guidelines for Attendance (updated 10/1/22): \n\nFull vaccination (2 COVID shots and at least booster) is strongly recommended.\nSocial distancing between chairs will be maintained for those who choose.\n Masks are OPTIONAL. If you feel comfortable\, you do not need to wear a mask. If you are a vulnerable person\, or live with a vulnerable person\, consider wearing a well-fitting mask during sangha.
URL:https://www.napainsight.org/event/an-evening-with-kevin-griffin-5/
LOCATION:Napa Valley Unitarian Universalists\, 1625 Salvador Ave\, Napa\, CA\, 94559
CATEGORIES:An Evening with
ATTACH;FMTTYPE=image/jpeg:https://www.napainsight.org/wp-content/uploads/2021/06/Kevin-Griffin2.jpg
END:VEVENT
BEGIN:VEVENT
DTSTART;TZID=America/Los_Angeles:20250508T090000
DTEND;TZID=America/Los_Angeles:20250508T100000
DTSTAMP:20260421T024645
CREATED:20250417T010759Z
LAST-MODIFIED:20250417T010759Z
UID:10001591-1746694800-1746698400@www.napainsight.org
SUMMARY:Thursday Morning Online Meditation
DESCRIPTION:NVIM will continue to host our Thursday morning meditations by Zoom. Morning meditation is led by Debbie Darrin\, and others\, and begins promptly at 9:00am. All are welcome. \nThursday morning sits begin with an inspirational reading\, followed by a 30-minute mostly silent meditation period and a short 10-minute period in which individuals may comment on their own practice while the group listens in silence. \nTo receive the Zoom link one day in advance\,  sign up for our mailing list at: https://www.napainsight.org/contact/newsletter/
URL:https://www.napainsight.org/event/thursday-morning-online-meditation-8/2025-05-08/
ATTACH;FMTTYPE=image/jpeg:https://www.napainsight.org/wp-content/uploads/2015/02/Buddha-and-Ocean-e1424996759864.jpg
LOCATION:https://www.napainsight.org/event/thursday-morning-online-meditation-8/2025-05-08/
END:VEVENT
BEGIN:VEVENT
DTSTART;TZID=America/Los_Angeles:20250513T190000
DTEND;TZID=America/Los_Angeles:20250513T203000
DTSTAMP:20260421T024645
CREATED:20250314T195729Z
LAST-MODIFIED:20250314T195729Z
UID:10001584-1747162800-1747168200@www.napainsight.org
SUMMARY:Meditation & Reflection with Lori Stelling
DESCRIPTION:This Tuesday evening sangha will be led by Lori Stelling. Lori has practiced Insight Meditation since 2002 and serves as a local teacher and Board member for NVIM. She has received mentoring from vipassana teachers since 2007\, is a Certified Mindfulness Meditation Teacher through UC Berkeley’s Greater Good Science Center\, and has engaged in on-going Buddhist Studies through Aloka Vihara\, Sacred Mountain Sangha\, Dharmagiri\, Spirit Rock Meditation Center\, and others\, for two decades. Lori is a certified life coach\, with advanced Enneagram training\, offering life coaching for women\, and community meditation classes for adults of all ages. \nCOVID Recommendations For Gathering Safely\n(recommended by https://covid19.ca.gov “Current Safety Measures”): \n\nIf you have recently been exposed to COVID\, it is recommended that you wear a mask indoors through day 10.\nIf you test positive for COVID without symptoms\, please do not attend sangha for at least 5 full days and wear a mask indoors through day 10.\nIf you test positive for COVID and have symptoms\, please do not attend sangha for at least 5 full days; and then do not return until your symptoms are mild\, improving\, and you are fever-free for at least 24 hours. Wear a mask indoors through Day 10.
URL:https://www.napainsight.org/event/meditation-reflection-with-lori-stelling-14/
LOCATION:Napa Valley Unitarian Universalists\, 1625 Salvador Ave\, Napa\, CA\, 94559
ATTACH;FMTTYPE=image/jpeg:https://www.napainsight.org/wp-content/uploads/2021/06/Reflecting-Lotus.jpg
END:VEVENT
BEGIN:VEVENT
DTSTART;TZID=America/Los_Angeles:20250515T090000
DTEND;TZID=America/Los_Angeles:20250515T100000
DTSTAMP:20260421T024645
CREATED:20250417T010759Z
LAST-MODIFIED:20250417T010759Z
UID:10001592-1747299600-1747303200@www.napainsight.org
SUMMARY:Thursday Morning Online Meditation
DESCRIPTION:NVIM will continue to host our Thursday morning meditations by Zoom. Morning meditation is led by Debbie Darrin\, and others\, and begins promptly at 9:00am. All are welcome. \nThursday morning sits begin with an inspirational reading\, followed by a 30-minute mostly silent meditation period and a short 10-minute period in which individuals may comment on their own practice while the group listens in silence. \nTo receive the Zoom link one day in advance\,  sign up for our mailing list at: https://www.napainsight.org/contact/newsletter/
URL:https://www.napainsight.org/event/thursday-morning-online-meditation-8/2025-05-15/
ATTACH;FMTTYPE=image/jpeg:https://www.napainsight.org/wp-content/uploads/2015/02/Buddha-and-Ocean-e1424996759864.jpg
LOCATION:https://www.napainsight.org/event/thursday-morning-online-meditation-8/2025-05-15/
END:VEVENT
BEGIN:VEVENT
DTSTART;TZID=America/Los_Angeles:20250520T190000
DTEND;TZID=America/Los_Angeles:20250520T203000
DTSTAMP:20260421T024645
CREATED:20250314T200229Z
LAST-MODIFIED:20250314T200351Z
UID:10001585-1747767600-1747773000@www.napainsight.org
SUMMARY:Meditation & Reflection with Forrest Hill
DESCRIPTION:The evening will be led by Forrest Hill. Forrest has been practicing Insight Meditation since 2004 and is a founding member of Napa Valley Insight Meditation. He is a graduate of the the 2 year Community Dharma Leaders Program at Spirit Rock Meditation Center. \nCOVID Recommendations For Gathering Safely\n(recommended by https://covid19.ca.gov “Current Safety Measures”): \n\nIf you have recently been exposed to COVID\, it is recommended that you wear a mask indoors through day 10.\nIf you test positive for COVID without symptoms\, please do not attend sangha for at least 5 full days and wear a mask indoors through day 10.\nIf you test positive for COVID and have symptoms\, please do not attend sangha for at least 5 full days; and then do not return until your symptoms are mild\, improving\, and you are fever-free for at least 24 hours. Wear a mask indoors through Day 10.
URL:https://www.napainsight.org/event/meditation-reflection-with-forrest-hill-19/
LOCATION:Napa Valley Unitarian Universalists\, 1625 Salvador Ave\, Napa\, CA\, 94559
ATTACH;FMTTYPE=image/jpeg:https://www.napainsight.org/wp-content/uploads/2025/03/Untitled-design-26-e1741982620605.jpg
END:VEVENT
BEGIN:VEVENT
DTSTART;TZID=America/Los_Angeles:20250522T090000
DTEND;TZID=America/Los_Angeles:20250522T100000
DTSTAMP:20260421T024645
CREATED:20250417T010759Z
LAST-MODIFIED:20250417T010759Z
UID:10001593-1747904400-1747908000@www.napainsight.org
SUMMARY:Thursday Morning Online Meditation
DESCRIPTION:NVIM will continue to host our Thursday morning meditations by Zoom. Morning meditation is led by Debbie Darrin\, and others\, and begins promptly at 9:00am. All are welcome. \nThursday morning sits begin with an inspirational reading\, followed by a 30-minute mostly silent meditation period and a short 10-minute period in which individuals may comment on their own practice while the group listens in silence. \nTo receive the Zoom link one day in advance\,  sign up for our mailing list at: https://www.napainsight.org/contact/newsletter/
URL:https://www.napainsight.org/event/thursday-morning-online-meditation-8/2025-05-22/
ATTACH;FMTTYPE=image/jpeg:https://www.napainsight.org/wp-content/uploads/2015/02/Buddha-and-Ocean-e1424996759864.jpg
LOCATION:https://www.napainsight.org/event/thursday-morning-online-meditation-8/2025-05-22/
END:VEVENT
BEGIN:VEVENT
DTSTART;TZID=America/Los_Angeles:20250527T190000
DTEND;TZID=America/Los_Angeles:20250527T203000
DTSTAMP:20260421T024645
CREATED:20250314T200539Z
LAST-MODIFIED:20250314T200539Z
UID:10001586-1748372400-1748377800@www.napainsight.org
SUMMARY:Meditation & Reflection with Mike Coughlin
DESCRIPTION:This Tuesday evening sangha will be led by Mike Coughlin. Mike is a public school administrator\, trained mediator\, and has been practicing mindfulness in the vipassana tradition for over 15 years. He has received training through Spirit Rock Meditation Center\, Mindful Schools and is a Certified Mindfulness Facilitator through the Semel Institute for Neuroscience & Human Behavior at the University of California\, Los Angeles. Mike has over 20 years of experience working with high-risk youth\, most specifically in residential and day treatment programs\, as well as years of mediation experience in Alternative Dispute Resolution. \nCOVID Recommendations For Gathering Safely\n(recommended by https://covid19.ca.gov “Current Safety Measures”): \n\nIf you have recently been exposed to COVID\, it is recommended that you wear a mask indoors through day 10.\nIf you test positive for COVID without symptoms\, please do not attend sangha for at least 5 full days and wear a mask indoors through day 10.\nIf you test positive for COVID and have symptoms\, please do not attend sangha for at least 5 full days; and then do not return until your symptoms are mild\, improving\, and you are fever-free for at least 24 hours. Wear a mask indoors through Day 10.
URL:https://www.napainsight.org/event/meditation-reflection-with-mike-coughlin-16/
LOCATION:Napa Valley Unitarian Universalists\, 1625 Salvador Ave\, Napa\, CA\, 94559
ATTACH;FMTTYPE=image/jpeg:https://www.napainsight.org/wp-content/uploads/2024/12/IMG_1965-e1733717378878.jpeg
END:VEVENT
BEGIN:VEVENT
DTSTART;TZID=America/Los_Angeles:20250529T090000
DTEND;TZID=America/Los_Angeles:20250529T100000
DTSTAMP:20260421T024645
CREATED:20250417T010759Z
LAST-MODIFIED:20250417T010759Z
UID:10001594-1748509200-1748512800@www.napainsight.org
SUMMARY:Thursday Morning Online Meditation
DESCRIPTION:NVIM will continue to host our Thursday morning meditations by Zoom. Morning meditation is led by Debbie Darrin\, and others\, and begins promptly at 9:00am. All are welcome. \nThursday morning sits begin with an inspirational reading\, followed by a 30-minute mostly silent meditation period and a short 10-minute period in which individuals may comment on their own practice while the group listens in silence. \nTo receive the Zoom link one day in advance\,  sign up for our mailing list at: https://www.napainsight.org/contact/newsletter/
URL:https://www.napainsight.org/event/thursday-morning-online-meditation-8/2025-05-29/
ATTACH;FMTTYPE=image/jpeg:https://www.napainsight.org/wp-content/uploads/2015/02/Buddha-and-Ocean-e1424996759864.jpg
LOCATION:https://www.napainsight.org/event/thursday-morning-online-meditation-8/2025-05-29/
END:VEVENT
END:VCALENDAR