BEGIN:VCALENDAR
VERSION:2.0
PRODID:-//Napa Valley Insight Meditation - ECPv6.15.20//NONSGML v1.0//EN
CALSCALE:GREGORIAN
METHOD:PUBLISH
X-ORIGINAL-URL:https://www.napainsight.org
X-WR-CALDESC:Events for Napa Valley Insight Meditation
REFRESH-INTERVAL;VALUE=DURATION:PT1H
X-Robots-Tag:noindex
X-PUBLISHED-TTL:PT1H
BEGIN:VTIMEZONE
TZID:America/Los_Angeles
BEGIN:DAYLIGHT
TZOFFSETFROM:-0800
TZOFFSETTO:-0700
TZNAME:PDT
DTSTART:20230312T100000
END:DAYLIGHT
BEGIN:STANDARD
TZOFFSETFROM:-0700
TZOFFSETTO:-0800
TZNAME:PST
DTSTART:20231105T090000
END:STANDARD
BEGIN:DAYLIGHT
TZOFFSETFROM:-0800
TZOFFSETTO:-0700
TZNAME:PDT
DTSTART:20240310T100000
END:DAYLIGHT
BEGIN:STANDARD
TZOFFSETFROM:-0700
TZOFFSETTO:-0800
TZNAME:PST
DTSTART:20241103T090000
END:STANDARD
BEGIN:DAYLIGHT
TZOFFSETFROM:-0800
TZOFFSETTO:-0700
TZNAME:PDT
DTSTART:20250309T100000
END:DAYLIGHT
BEGIN:STANDARD
TZOFFSETFROM:-0700
TZOFFSETTO:-0800
TZNAME:PST
DTSTART:20251102T090000
END:STANDARD
END:VTIMEZONE
BEGIN:VEVENT
DTSTART;TZID=America/Los_Angeles:20241105T190000
DTEND;TZID=America/Los_Angeles:20241105T203000
DTSTAMP:20260421T105706
CREATED:20240917T153639Z
LAST-MODIFIED:20240917T153639Z
UID:10001565-1730833200-1730838600@www.napainsight.org
SUMMARY:Meditation & Reflection with Mike Coughlin
DESCRIPTION:This Tuesday evening sangha will be led by Mike Coughlin. Mike is a public school administrator\, trained mediator\, and has been practicing mindfulness in the vipassana tradition for over 15 years. He has received training through Spirit Rock Meditation Center\, Mindful Schools and is a Certified Mindfulness Facilitator through the Semel Institute for Neuroscience & Human Behavior at the University of California\, Los Angeles. Mike has over 20 years of experience working with high-risk youth\, most specifically in residential and day treatment programs\, as well as years of mediation experience in Alternative Dispute Resolution. \nCOVID Recommendations For Gathering Safely\n(recommended by https://covid19.ca.gov “Current Safety Measures”): \n\nIf you have recently been exposed to COVID\, it is recommended that you wear a mask indoors through day 10.\nIf you test positive for COVID without symptoms\, please do not attend sangha for at least 5 full days and wear a mask indoors through day 10.\nIf you test positive for COVID and have symptoms\, please do not attend sangha for at least 5 full days; and then do not return until your symptoms are mild\, improving\, and you are fever-free for at least 24 hours. Wear a mask indoors through Day 10.
URL:https://www.napainsight.org/event/meditation-reflection-with-mike-coughlin-11/
LOCATION:Napa Valley Unitarian Universalists\, 1625 Salvador Ave\, Napa\, CA\, 94559
ATTACH;FMTTYPE=image/jpeg:https://www.napainsight.org/wp-content/uploads/2020/01/Mike-Coughlin2-e1726587384348.jpg
END:VEVENT
BEGIN:VEVENT
DTSTART;TZID=America/Los_Angeles:20241112T190000
DTEND;TZID=America/Los_Angeles:20241112T203000
DTSTAMP:20260421T105706
CREATED:20240917T153329Z
LAST-MODIFIED:20241020T025134Z
UID:10001564-1731438000-1731443400@www.napainsight.org
SUMMARY:Special Guest Teacher: Stephanie Noble
DESCRIPTION:This Tuesday\, NVIM welcomes Stephanie Noble to our sangha. Stephanie is the author of three meditative books\, including her most recent book “Invitation to Insight.” She has taught the Marin Insight women’s meditation group since 2004 and serves as a board member of the Buddhist Insight Network. Learn more about Stephanie here: https://stephanienoble.com/about-2/ \nCOVID Recommendations For Gathering Safely\n(recommended by https://covid19.ca.gov “Current Safety Measures”): \n\nIf you have recently been exposed to COVID\, it is recommended that you wear a mask indoors through day 10.\nIf you test positive for COVID without symptoms\, please do not attend sangha for at least 5 full days and wear a mask indoors through day 10.\nIf you test positive for COVID and have symptoms\, please do not attend sangha for at least 5 full days; and then do not return until your symptoms are mild\, improving\, and you are fever-free for at least 24 hours. Wear a mask indoors through Day 10.
URL:https://www.napainsight.org/event/special-guest-teacher-stephanie-noble/
LOCATION:Napa Valley Unitarian Universalists\, 1625 Salvador Ave\, Napa\, CA\, 94559
ATTACH;FMTTYPE=image/webp:https://www.napainsight.org/wp-content/uploads/2024/09/stephanie_noble_couch_smile_crop-e1726587198414.webp
END:VEVENT
BEGIN:VEVENT
DTSTART;TZID=America/Los_Angeles:20241119T190000
DTEND;TZID=America/Los_Angeles:20241119T203000
DTSTAMP:20260421T105706
CREATED:20241020T030014Z
LAST-MODIFIED:20241020T031457Z
UID:10001566-1732042800-1732048200@www.napainsight.org
SUMMARY:Meditation & Reflection with Lori Stelling
DESCRIPTION:This Tuesday evening sangha will be led by Lori Stelling. Lori has practiced Insight Meditation since 2002 and serves as a local teacher and Board member for NVIM. She has received mentoring from vipassana teachers since 2007\, is a Certified Mindfulness Meditation Teacher through UC Berkeley’s Greater Good Science Center\, and has engaged in on-going Buddhist Studies through Aloka Vihara\, Sacred Mountain Sangha\, Dharmagiri\, Spirit Rock Meditation Center\, and others\, for two decades. Lori is a certified life coach\, with advanced Enneagram training\, offering life coaching for women\, and community meditation classes for adults of all ages. \nCOVID Recommendations For Gathering Safely\n(recommended by https://covid19.ca.gov “Current Safety Measures”): \n\nIf you have recently been exposed to COVID\, it is recommended that you wear a mask indoors through day 10.\nIf you test positive for COVID without symptoms\, please do not attend sangha for at least 5 full days and wear a mask indoors through day 10.\nIf you test positive for COVID and have symptoms\, please do not attend sangha for at least 5 full days; and then do not return until your symptoms are mild\, improving\, and you are fever-free for at least 24 hours. Wear a mask indoors through Day 10.
URL:https://www.napainsight.org/event/meditation-reflection-with-lori-stelling-12/
LOCATION:Napa Valley Unitarian Universalists\, 1625 Salvador Ave\, Napa\, CA\, 94559
ATTACH;FMTTYPE=image/jpeg:https://www.napainsight.org/wp-content/uploads/2021/06/Reflecting-Lotus.jpg
END:VEVENT
BEGIN:VEVENT
DTSTART;TZID=America/Los_Angeles:20241126T190000
DTEND;TZID=America/Los_Angeles:20241126T203000
DTSTAMP:20260421T105706
CREATED:20241020T030148Z
LAST-MODIFIED:20241020T031251Z
UID:10001567-1732647600-1732653000@www.napainsight.org
SUMMARY:Meditation & Reflection with Mike Coughlin
DESCRIPTION:This Tuesday evening sangha will be led by Mike Coughlin. Mike is a public school administrator\, trained mediator\, and has been practicing mindfulness in the vipassana tradition for over 15 years. He has received training through Spirit Rock Meditation Center\, Mindful Schools and is a Certified Mindfulness Facilitator through the Semel Institute for Neuroscience & Human Behavior at the University of California\, Los Angeles. Mike has over 20 years of experience working with high-risk youth\, most specifically in residential and day treatment programs\, as well as years of mediation experience in Alternative Dispute Resolution. \nCOVID Recommendations For Gathering Safely\n(recommended by https://covid19.ca.gov “Current Safety Measures”): \n\nIf you have recently been exposed to COVID\, it is recommended that you wear a mask indoors through day 10.\nIf you test positive for COVID without symptoms\, please do not attend sangha for at least 5 full days and wear a mask indoors through day 10.\nIf you test positive for COVID and have symptoms\, please do not attend sangha for at least 5 full days; and then do not return until your symptoms are mild\, improving\, and you are fever-free for at least 24 hours. Wear a mask indoors through Day 10.
URL:https://www.napainsight.org/event/meditation-reflection-with-mike-coughlin-12/
LOCATION:Napa Valley Unitarian Universalists\, 1625 Salvador Ave\, Napa\, CA\, 94559
ATTACH;FMTTYPE=image/jpeg:https://www.napainsight.org/wp-content/uploads/2020/01/Mike-Coughlin2-e1726587384348.jpg
END:VEVENT
END:VCALENDAR