BEGIN:VCALENDAR
VERSION:2.0
PRODID:-//Napa Valley Insight Meditation - ECPv6.15.20//NONSGML v1.0//EN
CALSCALE:GREGORIAN
METHOD:PUBLISH
X-ORIGINAL-URL:https://www.napainsight.org
X-WR-CALDESC:Events for Napa Valley Insight Meditation
REFRESH-INTERVAL;VALUE=DURATION:PT1H
X-Robots-Tag:noindex
X-PUBLISHED-TTL:PT1H
BEGIN:VTIMEZONE
TZID:America/Los_Angeles
BEGIN:DAYLIGHT
TZOFFSETFROM:-0800
TZOFFSETTO:-0700
TZNAME:PDT
DTSTART:20230312T100000
END:DAYLIGHT
BEGIN:STANDARD
TZOFFSETFROM:-0700
TZOFFSETTO:-0800
TZNAME:PST
DTSTART:20231105T090000
END:STANDARD
BEGIN:DAYLIGHT
TZOFFSETFROM:-0800
TZOFFSETTO:-0700
TZNAME:PDT
DTSTART:20240310T100000
END:DAYLIGHT
BEGIN:STANDARD
TZOFFSETFROM:-0700
TZOFFSETTO:-0800
TZNAME:PST
DTSTART:20241103T090000
END:STANDARD
BEGIN:DAYLIGHT
TZOFFSETFROM:-0800
TZOFFSETTO:-0700
TZNAME:PDT
DTSTART:20250309T100000
END:DAYLIGHT
BEGIN:STANDARD
TZOFFSETFROM:-0700
TZOFFSETTO:-0800
TZNAME:PST
DTSTART:20251102T090000
END:STANDARD
END:VTIMEZONE
BEGIN:VEVENT
DTSTART;TZID=America/Los_Angeles:20241001T190000
DTEND;TZID=America/Los_Angeles:20241001T203000
DTSTAMP:20260421T121947
CREATED:20240917T151750Z
LAST-MODIFIED:20240917T152124Z
UID:10001338-1727809200-1727814600@www.napainsight.org
SUMMARY:Meditation & Reflection with Mike Coughlin
DESCRIPTION:This Tuesday evening sangha will be led by Mike Coughlin. Mike is a public school administrator\, trained mediator\, and has been practicing mindfulness in the vipassana tradition for over 15 years. He has received training through Spirit Rock Meditation Center\, Mindful Schools and is a Certified Mindfulness Facilitator through the Semel Institute for Neuroscience & Human Behavior at the University of California\, Los Angeles. Mike has over 20 years of experience working with high-risk youth\, most specifically in residential and day treatment programs\, as well as years of mediation experience in Alternative Dispute Resolution. \nCOVID Recommendations For Gathering Safely\n(recommended by https://covid19.ca.gov “Current Safety Measures”): \n\nIf you have recently been exposed to COVID\, it is recommended that you wear a mask indoors through day 10.\nIf you test positive for COVID without symptoms\, please do not attend sangha for at least 5 full days and wear a mask indoors through day 10.\nIf you test positive for COVID and have symptoms\, please do not attend sangha for at least 5 full days; and then do not return until your symptoms are mild\, improving\, and you are fever-free for at least 24 hours. Wear a mask indoors through Day 10.
URL:https://www.napainsight.org/event/mediation-reflection-with-mike-coughlin/
LOCATION:Napa Valley Unitarian Universalists\, 1625 Salvador Ave\, Napa\, CA\, 94559
ATTACH;FMTTYPE=image/jpeg:https://www.napainsight.org/wp-content/uploads/2020/01/Mike-Coughlin2-e1726587384348.jpg
END:VEVENT
BEGIN:VEVENT
DTSTART;TZID=America/Los_Angeles:20241008T190000
DTEND;TZID=America/Los_Angeles:20241008T203000
DTSTAMP:20260421T121947
CREATED:20240917T151928Z
LAST-MODIFIED:20240917T151928Z
UID:10001339-1728414000-1728419400@www.napainsight.org
SUMMARY:Meditation & Reflection with Lori Stelling
DESCRIPTION:This Tuesday evening sangha will be led by Lori Stelling. Lori has practiced Insight Meditation since 2002 and serves as a local teacher and Board member for NVIM. She has received mentoring from vipassana teachers since 2007\, is a Certified Mindfulness Meditation Teacher through UC Berkeley’s Greater Good Science Center\, and has engaged in on-going Buddhist Studies through Aloka Vihara\, Sacred Mountain Sangha\, Dharmagiri\, Spirit Rock Meditation Center\, and others\, for two decades. Lori is a certified life coach\, with advanced Enneagram training\, offering life coaching for women\, and community meditation classes for adults of all ages. \nCOVID Recommendations For Gathering Safely\n(recommended by https://covid19.ca.gov “Current Safety Measures”): \n\nIf you have recently been exposed to COVID\, it is recommended that you wear a mask indoors through day 10.\nIf you test positive for COVID without symptoms\, please do not attend sangha for at least 5 full days and wear a mask indoors through day 10.\nIf you test positive for COVID and have symptoms\, please do not attend sangha for at least 5 full days; and then do not return until your symptoms are mild\, improving\, and you are fever-free for at least 24 hours. Wear a mask indoors through Day 10.
URL:https://www.napainsight.org/event/meditation-reflection-with-lori-stelling-11/
LOCATION:Napa Valley Unitarian Universalists\, 1625 Salvador Ave\, Napa\, CA\, 94559
ATTACH;FMTTYPE=image/jpeg:https://www.napainsight.org/wp-content/uploads/2021/06/Reflecting-Lotus.jpg
END:VEVENT
BEGIN:VEVENT
DTSTART;TZID=America/Los_Angeles:20241015T190000
DTEND;TZID=America/Los_Angeles:20241015T203000
DTSTAMP:20260421T121947
CREATED:20240917T152044Z
LAST-MODIFIED:20240917T153757Z
UID:10001340-1729018800-1729024200@www.napainsight.org
SUMMARY:Meditation & Reflection with Forrest Hill
DESCRIPTION:The evening will be led by Forrest Hill. Forrest has been practicing Insight Meditation since 2004 and is a founding member of Napa Valley Insight Meditation. He is a graduate of the the 2 year Community Dharma Leaders Program at Spirit Rock Meditation Center. \nCOVID Recommendations For Gathering Safely\n(recommended by https://covid19.ca.gov “Current Safety Measures”): \n\nIf you have recently been exposed to COVID\, it is recommended that you wear a mask indoors through day 10.\nIf you test positive for COVID without symptoms\, please do not attend sangha for at least 5 full days and wear a mask indoors through day 10.\nIf you test positive for COVID and have symptoms\, please do not attend sangha for at least 5 full days; and then do not return until your symptoms are mild\, improving\, and you are fever-free for at least 24 hours. Wear a mask indoors through Day 10.
URL:https://www.napainsight.org/event/meditation-reflection-with-forrest-hill-14/
LOCATION:Napa Valley Unitarian Universalists\, 1625 Salvador Ave\, Napa\, CA\, 94559
ATTACH;FMTTYPE=image/jpeg:https://www.napainsight.org/wp-content/uploads/2020/01/Blog-2-Forrest-e1726587468843.jpg
END:VEVENT
BEGIN:VEVENT
DTSTART;TZID=America/Los_Angeles:20241022T190000
DTEND;TZID=America/Los_Angeles:20241022T203000
DTSTAMP:20260421T121947
CREATED:20240917T152249Z
LAST-MODIFIED:20241016T010709Z
UID:10001341-1729623600-1729629000@www.napainsight.org
SUMMARY:Meditation & Reflection with Lori Stelling
DESCRIPTION:This Tuesday evening sangha will be led by Lori Stelling. Lori has practiced Insight Meditation since 2002 and serves as a local teacher and Board member for NVIM. She has received mentoring from vipassana teachers since 2007\, is a Certified Mindfulness Meditation Teacher through UC Berkeley’s Greater Good Science Center\, and has engaged in on-going Buddhist Studies through Aloka Vihara\, Sacred Mountain Sangha\, Dharmagiri\, Spirit Rock Meditation Center\, and others\, for two decades. Lori is a certified life coach\, with advanced Enneagram training\, offering life coaching for women\, and community meditation classes for adults of all ages. \nCOVID Recommendations For Gathering Safely\n(recommended by https://covid19.ca.gov “Current Safety Measures”): \n\nIf you have recently been exposed to COVID\, it is recommended that you wear a mask indoors through day 10.\nIf you test positive for COVID without symptoms\, please do not attend sangha for at least 5 full days and wear a mask indoors through day 10.\nIf you test positive for COVID and have symptoms\, please do not attend sangha for at least 5 full days; and then do not return until your symptoms are mild\, improving\, and you are fever-free for at least 24 hours. Wear a mask indoors through Day 10.
URL:https://www.napainsight.org/event/meditation-reflection-with-debbie-darrin-3/
LOCATION:Napa Valley Unitarian Universalists\, 1625 Salvador Ave\, Napa\, CA\, 94559
ATTACH;FMTTYPE=image/jpeg:https://www.napainsight.org/wp-content/uploads/2021/06/Reflecting-Lotus.jpg
END:VEVENT
BEGIN:VEVENT
DTSTART;TZID=America/Los_Angeles:20241029T190000
DTEND;TZID=America/Los_Angeles:20241029T203000
DTSTAMP:20260421T121947
CREATED:20240620T180123Z
LAST-MODIFIED:20241020T025831Z
UID:10001336-1730228400-1730233800@www.napainsight.org
SUMMARY:Special Guest Fresh "Lev" White
DESCRIPTION:This Tuesday\, NVIM welcomes back Lev to our sangha. Lev is a love and compassion activist. He offers mindfulness\, coaching\, mediation\, and diversity trainings as tools for shifting towards more authentic\, conscious and passionate living. He teaches and writes about how love and self-compassion are the ultimate gateways to loving and understanding others; thus\, healing our communities\, and planet. Lev is also co-author of Real World Mindfulness for Beginners\, Ed. with Brenda Salgado and is mindfully grounded at the East Bay Meditation Center\, as well as a graduate of Spirit Rock’s Community Dharma Leadership program. Learn more about Lev here: https://affirmativeacts.org/about-us/ \nCOVID Recommendations For Gathering Safely\n(recommended by https://covid19.ca.gov “Current Safety Measures”): \n\nIf you have recently been exposed to COVID\, it is recommended that you wear a mask indoors through day 10.\nIf you test positive for COVID without symptoms\, please do not attend sangha for at least 5 full days and wear a mask indoors through day 10.\nIf you test positive for COVID and have symptoms\, please do not attend sangha for at least 5 full days; and then do not return until your symptoms are mild\, improving\, and you are fever-free for at least 24 hours. Wear a mask indoors through Day 10.
URL:https://www.napainsight.org/event/special-guest-fresh-lev-white-10/
LOCATION:Napa Valley Unitarian Universalists\, 1625 Salvador Ave\, Napa\, CA\, 94559
ATTACH;FMTTYPE=image/jpeg:https://www.napainsight.org/wp-content/uploads/2021/11/Fresh-Lev-White-2-e1636491231621.jpeg
END:VEVENT
END:VCALENDAR