BEGIN:VCALENDAR
VERSION:2.0
PRODID:-//Napa Valley Insight Meditation - ECPv6.15.20//NONSGML v1.0//EN
CALSCALE:GREGORIAN
METHOD:PUBLISH
X-WR-CALNAME:Napa Valley Insight Meditation
X-ORIGINAL-URL:https://www.napainsight.org
X-WR-CALDESC:Events for Napa Valley Insight Meditation
REFRESH-INTERVAL;VALUE=DURATION:PT1H
X-Robots-Tag:noindex
X-PUBLISHED-TTL:PT1H
BEGIN:VTIMEZONE
TZID:America/Los_Angeles
BEGIN:DAYLIGHT
TZOFFSETFROM:-0800
TZOFFSETTO:-0700
TZNAME:PDT
DTSTART:20230312T100000
END:DAYLIGHT
BEGIN:STANDARD
TZOFFSETFROM:-0700
TZOFFSETTO:-0800
TZNAME:PST
DTSTART:20231105T090000
END:STANDARD
BEGIN:DAYLIGHT
TZOFFSETFROM:-0800
TZOFFSETTO:-0700
TZNAME:PDT
DTSTART:20240310T100000
END:DAYLIGHT
BEGIN:STANDARD
TZOFFSETFROM:-0700
TZOFFSETTO:-0800
TZNAME:PST
DTSTART:20241103T090000
END:STANDARD
BEGIN:DAYLIGHT
TZOFFSETFROM:-0800
TZOFFSETTO:-0700
TZNAME:PDT
DTSTART:20250309T100000
END:DAYLIGHT
BEGIN:STANDARD
TZOFFSETFROM:-0700
TZOFFSETTO:-0800
TZNAME:PST
DTSTART:20251102T090000
END:STANDARD
END:VTIMEZONE
BEGIN:VEVENT
DTSTART;TZID=America/Los_Angeles:20240806T190000
DTEND;TZID=America/Los_Angeles:20240806T203000
DTSTAMP:20260421T145642
CREATED:20240620T173635Z
LAST-MODIFIED:20240620T173635Z
UID:10001560-1722970800-1722976200@www.napainsight.org
SUMMARY:Meditation & Reflection with Mike Coughlin
DESCRIPTION:This Tuesday evening sangha will be led by Mike Coughlin. Mike is a public school administrator\, trained mediator\, and has been practicing mindfulness in the vipassana tradition for over 15 years. He has received training through Spirit Rock Meditation Center\, Mindful Schools and is a Certified Mindfulness Facilitator through the Semel Institute for Neuroscience & Human Behavior at the University of California\, Los Angeles. Mike has over 20 years of experience working with high-risk youth\, most specifically in residential and day treatment programs\, as well as years of mediation experience in Alternative Dispute Resolution. \nCOVID Recommendations For Gathering Safely\n(recommended by https://covid19.ca.gov “Current Safety Measures”): \n\nIf you have recently been exposed to COVID\, it is recommended that you wear a mask indoors through day 10.\nIf you test positive for COVID without symptoms\, please do not attend sangha for at least 5 full days and wear a mask indoors through day 10.\nIf you test positive for COVID and have symptoms\, please do not attend sangha for at least 5 full days; and then do not return until your symptoms are mild\, improving\, and you are fever-free for at least 24 hours. Wear a mask indoors through Day 10.
URL:https://www.napainsight.org/event/meditation-reflection-with-mike-coughlin-9/
LOCATION:Napa Valley Unitarian Universalists\, 1625 Salvador Ave\, Napa\, CA\, 94559
ATTACH;FMTTYPE=image/jpeg:https://www.napainsight.org/wp-content/uploads/2020/01/Mike-Coughlin2-e1726587384348.jpg
END:VEVENT
BEGIN:VEVENT
DTSTART;TZID=America/Los_Angeles:20240813T190000
DTEND;TZID=America/Los_Angeles:20240813T203000
DTSTAMP:20260421T145642
CREATED:20240620T173834Z
LAST-MODIFIED:20240620T173834Z
UID:10001561-1723575600-1723581000@www.napainsight.org
SUMMARY:Special Guest Ayya Santacitta
DESCRIPTION:This Tuesday NVIM is excited and honored to welcome Ayya Santacitta back to our Sangha to lead us in meditation and Buddhist discussion.  \nAyya Santacitta was born in Austria and did her graduate studies in Cultural Anthropology\, focusing on dance\, theatre and ritual. She also worked in avant-garde dance theatre as a performer and costume designer. In 1988 she met Ajahn Buddhadasa in southern Thailand\, who sparked her interest in Buddhist monastic life. She trained as a nun in England and Asia from 1993 until 2009\, primarily in the lineage of Ajahn Chah. Since 2002\, she has also received teachings in the lineage of Dilgo Khyentse Rinpoche. \nAyya Santacitta co-founded Aloka Vihara in 2009 and received Bhikkhuni Ordination in 2011. She is committed to Gaia as a living being and resides at Aloka Earth Room (https://alokavihara.org/aloka-earth-room/)\, currently located in San Rafael\, CA. \nTo learn more about Ayya Santacitta go to: https://alokavihara.org/
URL:https://www.napainsight.org/event/special-guest-ayya-santacitta-2/
LOCATION:Napa Valley Unitarian Universalists\, 1625 Salvador Ave\, Napa\, CA\, 94559
ATTACH;FMTTYPE=image/jpeg:https://www.napainsight.org/wp-content/uploads/2023/10/Santacitta-bio-final.jpg
END:VEVENT
BEGIN:VEVENT
DTSTART;TZID=America/Los_Angeles:20240820T190000
DTEND;TZID=America/Los_Angeles:20240820T203000
DTSTAMP:20260421T145642
CREATED:20240620T173956Z
LAST-MODIFIED:20240620T173956Z
UID:10001562-1724180400-1724185800@www.napainsight.org
SUMMARY:Meditation & Reflection with Lori Stelling
DESCRIPTION:This Tuesday evening sangha will be led by Lori Stelling. Lori has practiced Insight Meditation since 2002 and serves as a local teacher and Board member for NVIM. She has received mentoring from vipassana teachers since 2007\, is a Certified Mindfulness Meditation Teacher through UC Berkeley’s Greater Good Science Center\, and has engaged in on-going Buddhist Studies through Aloka Vihara\, Sacred Mountain Sangha\, Dharmagiri\, Spirit Rock Meditation Center\, and others\, for two decades. Lori is a certified life coach\, with advanced Enneagram training\, offering life coaching for women\, and community meditation classes for adults of all ages. \nCOVID Recommendations For Gathering Safely\n(recommended by https://covid19.ca.gov “Current Safety Measures”): \n\nIf you have recently been exposed to COVID\, it is recommended that you wear a mask indoors through day 10.\nIf you test positive for COVID without symptoms\, please do not attend sangha for at least 5 full days and wear a mask indoors through day 10.\nIf you test positive for COVID and have symptoms\, please do not attend sangha for at least 5 full days; and then do not return until your symptoms are mild\, improving\, and you are fever-free for at least 24 hours. Wear a mask indoors through Day 10.
URL:https://www.napainsight.org/event/meditation-reflection-with-lori-stelling-9/
LOCATION:Napa Valley Unitarian Universalists\, 1625 Salvador Ave\, Napa\, CA\, 94559
ATTACH;FMTTYPE=image/jpeg:https://www.napainsight.org/wp-content/uploads/2020/08/reflecting-lotus-1.jpg
END:VEVENT
BEGIN:VEVENT
DTSTART;TZID=America/Los_Angeles:20240827T190000
DTEND;TZID=America/Los_Angeles:20240827T203000
DTSTAMP:20260421T145642
CREATED:20240620T174103Z
LAST-MODIFIED:20240620T174103Z
UID:10001563-1724785200-1724790600@www.napainsight.org
SUMMARY:Meditation & Reflection with Forrest Hill
DESCRIPTION:The evening will be led by Forrest Hill. Forrest has been practicing Insight Meditation since 2004 and is a founding member of Napa Valley Insight Meditation. He is a graduate of the the 2 year Community Dharma Leaders Program at Spirit Rock Meditation Center. \nCOVID Recommendations For Gathering Safely\n(recommended by https://covid19.ca.gov “Current Safety Measures”): \n\nIf you have recently been exposed to COVID\, it is recommended that you wear a mask indoors through day 10.\nIf you test positive for COVID without symptoms\, please do not attend sangha for at least 5 full days and wear a mask indoors through day 10.\nIf you test positive for COVID and have symptoms\, please do not attend sangha for at least 5 full days; and then do not return until your symptoms are mild\, improving\, and you are fever-free for at least 24 hours. Wear a mask indoors through Day 10.
URL:https://www.napainsight.org/event/meditation-reflection-with-forrest-hill-12/
LOCATION:Napa Valley Unitarian Universalists\, 1625 Salvador Ave\, Napa\, CA\, 94559
ATTACH;FMTTYPE=image/jpeg:https://www.napainsight.org/wp-content/uploads/2020/01/Blog-2-Forrest-e1726587468843.jpg
END:VEVENT
END:VCALENDAR