BEGIN:VCALENDAR
VERSION:2.0
PRODID:-//Napa Valley Insight Meditation - ECPv6.15.20//NONSGML v1.0//EN
CALSCALE:GREGORIAN
METHOD:PUBLISH
X-ORIGINAL-URL:https://www.napainsight.org
X-WR-CALDESC:Events for Napa Valley Insight Meditation
REFRESH-INTERVAL;VALUE=DURATION:PT1H
X-Robots-Tag:noindex
X-PUBLISHED-TTL:PT1H
BEGIN:VTIMEZONE
TZID:America/Los_Angeles
BEGIN:DAYLIGHT
TZOFFSETFROM:-0800
TZOFFSETTO:-0700
TZNAME:PDT
DTSTART:20220313T100000
END:DAYLIGHT
BEGIN:STANDARD
TZOFFSETFROM:-0700
TZOFFSETTO:-0800
TZNAME:PST
DTSTART:20221106T090000
END:STANDARD
BEGIN:DAYLIGHT
TZOFFSETFROM:-0800
TZOFFSETTO:-0700
TZNAME:PDT
DTSTART:20230312T100000
END:DAYLIGHT
BEGIN:STANDARD
TZOFFSETFROM:-0700
TZOFFSETTO:-0800
TZNAME:PST
DTSTART:20231105T090000
END:STANDARD
BEGIN:DAYLIGHT
TZOFFSETFROM:-0800
TZOFFSETTO:-0700
TZNAME:PDT
DTSTART:20240310T100000
END:DAYLIGHT
BEGIN:STANDARD
TZOFFSETFROM:-0700
TZOFFSETTO:-0800
TZNAME:PST
DTSTART:20241103T090000
END:STANDARD
END:VTIMEZONE
BEGIN:VEVENT
DTSTART;TZID=America/Los_Angeles:20231003T190000
DTEND;TZID=America/Los_Angeles:20231003T203000
DTSTAMP:20260422T042130
CREATED:20230829T194432Z
LAST-MODIFIED:20230829T194432Z
UID:10001517-1696359600-1696365000@www.napainsight.org
SUMMARY:Meditation and Reflection with Mike Coughlin
DESCRIPTION:This Tuesday evening sangha will be led by Mike Coughlin. Mike is a public school administrator\, trained mediator\, and has been practicing mindfulness in the vipassana tradition for over 15 years. He has received training through Spirit Rock Meditation Center\, Mindful Schools and is a Certified Mindfulness Facilitator through the Semel Institute for Neuroscience & Human Behavior at the University of California\, Los Angeles. Mike has over 20 years of experience working with high-risk youth\, most specifically in residential and day treatment programs\, as well as years of mediation experience in Alternative Dispute Resolution. \nNew NVIM COVID Guidelines for Attendance: \n\nFull vaccination is strongly recommended.\nSocial distancing between chairs will be maintained for those who choose.\nMasks are OPTIONAL. If you feel comfortable\, you do not need to wear a mask. If you are a vulnerable person\, or live with a vulnerable person\, consider wearing a well-fitting mask during sangha.
URL:https://www.napainsight.org/event/meditation-and-reflection-with-mike-coughlin-3/
LOCATION:Napa Valley Unitarian Universalists\, 1625 Salvador Ave\, Napa\, CA\, 94559
ATTACH;FMTTYPE=image/jpeg:https://www.napainsight.org/wp-content/uploads/2020/01/Mike-Coughlin2-e1726587384348.jpg
END:VEVENT
BEGIN:VEVENT
DTSTART;TZID=America/Los_Angeles:20231010T190000
DTEND;TZID=America/Los_Angeles:20231010T203000
DTSTAMP:20260422T042130
CREATED:20230829T194621Z
LAST-MODIFIED:20230829T194621Z
UID:10001518-1696964400-1696969800@www.napainsight.org
SUMMARY:An Evening with Kevin Griffin
DESCRIPTION:This Tuesday we warmly welcome Kevin Griffin back to NVIM. Kevin is an author\, longtime Buddhist practitioner who trained as a Community Dharma Leader at Spirit Rock\, and innovator in the field of addiction treatment. His newest book is Buddhism & the Twelve Steps: Daily Reflections – Thoughts on Dharma and Recovery. Learn more about Kevin and his books here: https://www.kevingriffin.net/ \nNVIM COVID Guidelines for Attendance (updated 10/1/22): \n\nFull vaccination (2 COVID shots and at least booster) is strongly recommended.\nSocial distancing between chairs will be maintained for those who choose.\n Masks are OPTIONAL. If you feel comfortable\, you do not need to wear a mask. If you are a vulnerable person\, or live with a vulnerable person\, consider wearing a well-fitting mask during sangha.
URL:https://www.napainsight.org/event/an-evening-with-kevin-griffin-3/
LOCATION:Napa Valley Unitarian Universalists\, 1625 Salvador Ave\, Napa\, CA\, 94559
ATTACH;FMTTYPE=image/jpeg:https://www.napainsight.org/wp-content/uploads/2022/05/kevin-griffin2.jpg
END:VEVENT
BEGIN:VEVENT
DTSTART;TZID=America/Los_Angeles:20231014T093000
DTEND;TZID=America/Los_Angeles:20231014T150000
DTSTAMP:20260422T042130
CREATED:20230904T001507Z
LAST-MODIFIED:20230904T002209Z
UID:10001522-1697275800-1697295600@www.napainsight.org
SUMMARY:A Daylong Retreat with Dharma Teacher Victoria Cary
DESCRIPTION:Daylong meditation retreats offer an important opportunity to “retreat” from one’s daily life in order to cultivate greater mindfulness\, insight\, and an open heart. Dharma talks and instructions will be offered by dharma teacher Victoria Cary throughout the day\, as well as time for Q and A. The day includes periods of sitting meditation alternating with walking meditation\, and some time for connecting with others during lunch and breaks. \nWhat to Expect: There will be periods of silent meditation\, discussion\, walking meditation\, and dharma talks throughout the day. \nWhat to Bring: Please bring a lunch\, beverage and appropriate clothing for outside walking meditation. \nRegistration fee: $25\nAll levels of experience welcomed! \nRegister at Eventbite: https://bit.ly/VictoriaCary \nOr by contacting Barbara Dondero at barbdondero@gmail.com  \nDana (donations) will be also accepted for the teacher on the day of the retreat.
URL:https://www.napainsight.org/event/a-daylong-retreat-with-dharma-teacher-victoria-cary/
LOCATION:Napa Valley Unitarian Universalists\, 1625 Salvador Ave\, Napa\, CA\, 94559
ATTACH;FMTTYPE=image/jpeg:https://www.napainsight.org/wp-content/uploads/2020/08/Victoria-Cary.jpg
END:VEVENT
BEGIN:VEVENT
DTSTART;TZID=America/Los_Angeles:20231017T190000
DTEND;TZID=America/Los_Angeles:20231017T203000
DTSTAMP:20260422T042130
CREATED:20230829T194747Z
LAST-MODIFIED:20231010T213854Z
UID:10001519-1697569200-1697574600@www.napainsight.org
SUMMARY:Special Guest Fresh "Lev" White
DESCRIPTION:This Tuesday\, NVIM warmly welcomes Lev back to our sangha. Lev is a love and compassion activist. He offers mindfulness\, coaching\, mediation\, and diversity trainings as tools for shifting towards more authentic\, conscious and passionate living. He teaches and writes about how love and self-compassion are the ultimate gateways to loving and understanding others; thus\, healing our communities\, and planet. Lev is also co-author of Real World Mindfulness for Beginners\, Ed. with Brenda Salgado and is mindfully grounded at the East Bay Meditation Center\, as well as a graduate of Spirit Rock’s Community Dharma Leadership program. Learn more about Lev here: https://affirmativeacts.org/about-us/ \nNew NVIM COVID Guidelines for Attendance (updated 10/1/22): \n\nFull vaccination (2 COVID shots and at least booster) is strongly recommended.\nSocial distancing between chairs will be maintained for those who choose.\nMasks are OPTIONAL. If you feel comfortable\, you do not need to wear a mask. If you are a vulnerable person\, or live with a vulnerable person\, consider wearing a well-fitting mask during sangha.
URL:https://www.napainsight.org/event/meditation-and-reflection-with-forrest-hill-3/
LOCATION:Napa Valley Unitarian Universalists\, 1625 Salvador Ave\, Napa\, CA\, 94559
ATTACH;FMTTYPE=image/jpeg:https://www.napainsight.org/wp-content/uploads/2022/05/fresh-lev-white-1.jpg
END:VEVENT
BEGIN:VEVENT
DTSTART;TZID=America/Los_Angeles:20231024T190000
DTEND;TZID=America/Los_Angeles:20231024T203000
DTSTAMP:20260422T042130
CREATED:20230829T195114Z
LAST-MODIFIED:20230829T195114Z
UID:10001520-1698174000-1698179400@www.napainsight.org
SUMMARY:Special Musical Evening with Eve Decker
DESCRIPTION:This evening\, Napa Valley Insight Meditation welcomes back Musician and Meditation Teacher Eve Decker to our sangha. \nEve has been singing\, song writing\, and performing since she was 8 years old! In her 20’s she co-founded\, played\, recorded and toured with the feminist folk trio Rebecca Riots for 15 years. Rebecca Riots was dubbed “Best Band with a Conscience” by the San Francisco Bay Guardian. Eve has also released two CDs of original\, dharma based music\, and will release a third in September 2015. \nEve began practicing Vipassana meditation in 1991 and has been a Buddhist teacher since 2006. She am a graduate of UC Berkeley\, and the Community Dharma Leader training programs at Spirit Rock Center in California. She has travel throughout California and internationally to teach mindfulness\, lovingkindness\, compassion and gratitude directly and through music.
URL:https://www.napainsight.org/event/special-musical-evening-with-eve-decker/
LOCATION:Napa Valley Unitarian Universalists\, 1625 Salvador Ave\, Napa\, CA\, 94559
ATTACH;FMTTYPE=image/jpeg:https://www.napainsight.org/wp-content/uploads/2017/03/eve-decker.jpg
END:VEVENT
BEGIN:VEVENT
DTSTART;TZID=America/Los_Angeles:20231031T190000
DTEND;TZID=America/Los_Angeles:20231031T203000
DTSTAMP:20260422T042130
CREATED:20230829T195355Z
LAST-MODIFIED:20231023T234252Z
UID:10001521-1698778800-1698784200@www.napainsight.org
SUMMARY:Meditation & Reflection with Lori Stelling
DESCRIPTION:This Tuesday evening sangha will be led by Lori Stelling. Lori has practiced Insight Meditation since 2002 and serves as a local teacher and Board member for NVIM. She has received mentoring from vipassana teachers since 2007\, is a Certified Mindfulness Meditation Teacher through UC Berkeley’s Greater Good Science Center\, and has engaged in on-going Buddhist Studies through Aloka Vihara\, Sacred Mountain Sangha\, Dharmagiri\, Spirit Rock Meditation Center\, and others\, for two decades. Lori is a certified life coach\, with advanced Enneagram training\, offering life coaching for women\, and community meditation classes for adults of all ages. \nNVIM COVID Guidelines for Attendance: \n\nFull vaccination is strongly recommended.\nSocial distancing between chairs will be maintained for those who choose.\nMasks are OPTIONAL. If you feel comfortable\, you do not need to wear a mask. If you are a vulnerable person\, or live with a vulnerable person\, consider wearing a well-fitting mask during sangha.
URL:https://www.napainsight.org/event/meditation-and-reflection-with-lori-stelling-3/
LOCATION:Napa Valley Unitarian Universalists\, 1625 Salvador Ave\, Napa\, CA\, 94559
ATTACH;FMTTYPE=image/jpeg:https://www.napainsight.org/wp-content/uploads/2021/06/Reflecting-Lotus.jpg
END:VEVENT
END:VCALENDAR