BEGIN:VCALENDAR
VERSION:2.0
PRODID:-//Napa Valley Insight Meditation - ECPv6.15.20//NONSGML v1.0//EN
CALSCALE:GREGORIAN
METHOD:PUBLISH
X-ORIGINAL-URL:https://www.napainsight.org
X-WR-CALDESC:Events for Napa Valley Insight Meditation
REFRESH-INTERVAL;VALUE=DURATION:PT1H
X-Robots-Tag:noindex
X-PUBLISHED-TTL:PT1H
BEGIN:VTIMEZONE
TZID:America/Los_Angeles
BEGIN:DAYLIGHT
TZOFFSETFROM:-0800
TZOFFSETTO:-0700
TZNAME:PDT
DTSTART:20220313T100000
END:DAYLIGHT
BEGIN:STANDARD
TZOFFSETFROM:-0700
TZOFFSETTO:-0800
TZNAME:PST
DTSTART:20221106T090000
END:STANDARD
BEGIN:DAYLIGHT
TZOFFSETFROM:-0800
TZOFFSETTO:-0700
TZNAME:PDT
DTSTART:20230312T100000
END:DAYLIGHT
BEGIN:STANDARD
TZOFFSETFROM:-0700
TZOFFSETTO:-0800
TZNAME:PST
DTSTART:20231105T090000
END:STANDARD
BEGIN:DAYLIGHT
TZOFFSETFROM:-0800
TZOFFSETTO:-0700
TZNAME:PDT
DTSTART:20240310T100000
END:DAYLIGHT
BEGIN:STANDARD
TZOFFSETFROM:-0700
TZOFFSETTO:-0800
TZNAME:PST
DTSTART:20241103T090000
END:STANDARD
END:VTIMEZONE
BEGIN:VEVENT
DTSTART;TZID=America/Los_Angeles:20230905T190000
DTEND;TZID=America/Los_Angeles:20230905T203000
DTSTAMP:20260422T053550
CREATED:20230825T172157Z
LAST-MODIFIED:20230829T193700Z
UID:10001513-1693940400-1693945800@www.napainsight.org
SUMMARY:Outdoor SUNSET SANGHA w/Special Guest Fresh “Lev” White
DESCRIPTION:SUNSET SANGHAFEST – Continuing the Outdoors experience \nTuesday evening sangha will contiune on the outdoor patio at the Unitarian Universalist church providing our NVIM community with an opportunity to re-connect with the natural world around us. \nThis Tuesday\, NVIM warmly welcomes Lev back to our sangha. Lev is a love and compassion activist. He offers mindfulness\, coaching\, mediation\, and diversity trainings as tools for shifting towards more authentic\, conscious and passionate living. He teaches and writes about how love and self-compassion are the ultimate gateways to loving and understanding others; thus\, healing our communities\, and planet. Lev is also co-author of Real World Mindfulness for Beginners\, Ed. with Brenda Salgado and is mindfully grounded at the East Bay Meditation Center\, as well as a graduate of Spirit Rock’s Community Dharma Leadership program. Learn more about Lev here: https://affirmativeacts.org/about-us/ \nNew NVIM COVID Guidelines for Attendance (updated 10/1/22): \n\nFull vaccination (2 COVID shots and at least booster) is strongly recommended.\nSocial distancing between chairs will be maintained for those who choose.\nMasks are OPTIONAL. If you feel comfortable\, you do not need to wear a mask. If you are a vulnerable person\, or live with a vulnerable person\, consider wearing a well-fitting mask during sangha.
URL:https://www.napainsight.org/event/special-guest-fresh-lev-white-6/
LOCATION:Napa Valley Unitarian Universalists\, 1625 Salvador Ave\, Napa\, CA\, 94559
ATTACH;FMTTYPE=image/jpeg:https://www.napainsight.org/wp-content/uploads/2022/05/fresh-lev-white-1.jpg
END:VEVENT
BEGIN:VEVENT
DTSTART;TZID=America/Los_Angeles:20230912T190000
DTEND;TZID=America/Los_Angeles:20230912T203000
DTSTAMP:20260422T053550
CREATED:20230829T193406Z
LAST-MODIFIED:20230829T193732Z
UID:10001514-1694545200-1694550600@www.napainsight.org
SUMMARY:Outdoor SUNSET SANGHA w/Lori Stelling
DESCRIPTION:SUNSET SANGHAFEST – Continuing the Outdoors experience \nTuesday evening sangha will contiune on the outdoor patio at the Unitarian Universalist church providing our NVIM community with an opportunity to re-connect with the natural world around us. \nThis Tuesday evening sangha will be led by Lori Stelling. Lori has practiced Insight Meditation since 2002 and serves as a local teacher and Board member for NVIM. She has received mentoring from vipassana teachers since 2007\, is a Certified Mindfulness Meditation Teacher through UC Berkeley’s Greater Good Science Center\, and has engaged in on-going Buddhist Studies through Aloka Vihara\, Sacred Mountain Sangha\, Dharmagiri\, Spirit Rock Meditation Center\, and others\, for two decades. Lori is a certified life coach\, with advanced Enneagram training\, offering life coaching for women\, and community meditation classes for adults of all ages. \nNVIM is now meeting at the NVUU in-person only on Tuesdays at 7:00pm. Thursday Morning Meditation will continue to be offered online. \nNew NVIM COVID Guidelines for Attendance (updated 10/1/22): \n\nFull vaccination (2 COVID shots and at least booster) is strongly recommended.\nSocial distancing between chairs will be maintained for those who choose.\nMasks are OPTIONAL. If you feel comfortable\, you do not need to wear a mask. If you are a vulnerable person\, or live with a vulnerable person\, consider wearing a well-fitting mask during sangha.
URL:https://www.napainsight.org/event/outdoor-sunset-sangha-w-lori-stelling/
LOCATION:Napa Valley Unitarian Universalists\, 1625 Salvador Ave\, Napa\, CA\, 94559
ATTACH;FMTTYPE=image/jpeg:https://www.napainsight.org/wp-content/uploads/2021/06/Reflecting-Lotus.jpg
END:VEVENT
BEGIN:VEVENT
DTSTART;TZID=America/Los_Angeles:20230919T190000
DTEND;TZID=America/Los_Angeles:20230919T203000
DTSTAMP:20260422T053550
CREATED:20230829T194337Z
LAST-MODIFIED:20230916T012826Z
UID:10001516-1695150000-1695155400@www.napainsight.org
SUMMARY:Meditation and Reflection with Mike Coughlin
DESCRIPTION:This Tuesday evening sangha will be led by Mike Coughlin. Mike is a public school administrator\, trained mediator\, and has been practicing mindfulness in the vipassana tradition for over 15 years. He has received training through Spirit Rock Meditation Center\, Mindful Schools and is a Certified Mindfulness Facilitator through the Semel Institute for Neuroscience & Human Behavior at the University of California\, Los Angeles. Mike has over 20 years of experience working with high-risk youth\, most specifically in residential and day treatment programs\, as well as years of mediation experience in Alternative Dispute Resolution. \nNew NVIM COVID Guidelines for Attendance: \n\nFull vaccination is strongly recommended.\nSocial distancing between chairs will be maintained for those who choose.\nMasks are OPTIONAL. If you feel comfortable\, you do not need to wear a mask. If you are a vulnerable person\, or live with a vulnerable person\, consider wearing a well-fitting mask during sangha.
URL:https://www.napainsight.org/event/meditation-and-reflection-with-mike-coughlin-2/
LOCATION:Napa Valley Unitarian Universalists\, 1625 Salvador Ave\, Napa\, CA\, 94559
ATTACH;FMTTYPE=image/jpeg:https://www.napainsight.org/wp-content/uploads/2020/01/Mike-Coughlin2-e1726587384348.jpg
END:VEVENT
BEGIN:VEVENT
DTSTART;TZID=America/Los_Angeles:20230926T190000
DTEND;TZID=America/Los_Angeles:20230926T203000
DTSTAMP:20260422T053550
CREATED:20230829T194121Z
LAST-MODIFIED:20230916T012800Z
UID:10001515-1695754800-1695760200@www.napainsight.org
SUMMARY:Meditation & Reflection with Forrest Hill
DESCRIPTION:This Tuesday evening we will meet again in the NVUU sancturay. The evening will be led by Forrest Hill. Forrest has been practicing Insight Meditation since 2004 and is a founding member of Napa Valley Insight Meditation. He is a graduate of the the 2 year Community Dharma Leaders Program at Spirit Rock Meditation Center. \nNew NVIM COVID Guidelines for Attendance: \n\nFull vaccination is strongly recommended.\nSocial distancing between chairs will be maintained for those who choose.\nMasks are OPTIONAL. If you feel comfortable\, you do not need to wear a mask. If you are a vulnerable person\, or live with a vulnerable person\, consider wearing a well-fitting mask during sangha.
URL:https://www.napainsight.org/event/meditation-reflection-with-forrest-hill-2/
LOCATION:Napa Valley Unitarian Universalists\, 1625 Salvador Ave\, Napa\, CA\, 94559
ATTACH;FMTTYPE=image/jpeg:https://www.napainsight.org/wp-content/uploads/2020/01/Blog-2-Forrest-e1726587468843.jpg
END:VEVENT
END:VCALENDAR