BEGIN:VCALENDAR
VERSION:2.0
PRODID:-//Napa Valley Insight Meditation - ECPv6.15.20//NONSGML v1.0//EN
CALSCALE:GREGORIAN
METHOD:PUBLISH
X-ORIGINAL-URL:https://www.napainsight.org
X-WR-CALDESC:Events for Napa Valley Insight Meditation
REFRESH-INTERVAL;VALUE=DURATION:PT1H
X-Robots-Tag:noindex
X-PUBLISHED-TTL:PT1H
BEGIN:VTIMEZONE
TZID:America/Los_Angeles
BEGIN:DAYLIGHT
TZOFFSETFROM:-0800
TZOFFSETTO:-0700
TZNAME:PDT
DTSTART:20220313T100000
END:DAYLIGHT
BEGIN:STANDARD
TZOFFSETFROM:-0700
TZOFFSETTO:-0800
TZNAME:PST
DTSTART:20221106T090000
END:STANDARD
BEGIN:DAYLIGHT
TZOFFSETFROM:-0800
TZOFFSETTO:-0700
TZNAME:PDT
DTSTART:20230312T100000
END:DAYLIGHT
BEGIN:STANDARD
TZOFFSETFROM:-0700
TZOFFSETTO:-0800
TZNAME:PST
DTSTART:20231105T090000
END:STANDARD
BEGIN:DAYLIGHT
TZOFFSETFROM:-0800
TZOFFSETTO:-0700
TZNAME:PDT
DTSTART:20240310T100000
END:DAYLIGHT
BEGIN:STANDARD
TZOFFSETFROM:-0700
TZOFFSETTO:-0800
TZNAME:PST
DTSTART:20241103T090000
END:STANDARD
END:VTIMEZONE
BEGIN:VEVENT
DTSTART;TZID=America/Los_Angeles:20230704T190000
DTEND;TZID=America/Los_Angeles:20230704T203000
DTSTAMP:20260422T082217
CREATED:20230608T170914Z
LAST-MODIFIED:20230608T171948Z
UID:10001290-1688497200-1688502600@www.napainsight.org
SUMMARY:Meditation & Reflection with Lori Stelliing
DESCRIPTION:This Tuesday evening sangha will be led by Lori Stelling. Lori has practiced Insight Meditation since 2002 and serves as a local teacher and Board member for NVIM. She has received mentoring from vipassana teachers since 2007\, is a Certified Mindfulness Meditation Teacher through UC Berkeley’s Greater Good Science Center\, and has engaged in on-going Buddhist Studies through Aloka Vihara\, Sacred Mountain Sangha\, Dharmagiri\, Spirit Rock Meditation Center\, and others\, for two decades. Lori is a certified life coach\, with advanced Enneagram training\, offering life coaching for women\, and community meditation classes for adults of all ages. \nNVIM COVID Guidelines for Attendance: \n\nFull vaccination is strongly recommended.\nSocial distancing between chairs will be maintained for those who choose.\nMasks are OPTIONAL. If you feel comfortable\, you do not need to wear a mask. If you are a vulnerable person\, or live with a vulnerable person\, consider wearing a well-fitting mask during sangha.
URL:https://www.napainsight.org/event/meditation-and-reflection-with-lori-stelliing/
LOCATION:Napa Valley Unitarian Universalists\, 1625 Salvador Ave\, Napa\, CA\, 94559
ATTACH;FMTTYPE=image/jpeg:https://www.napainsight.org/wp-content/uploads/2021/06/Reflecting-Lotus.jpg
END:VEVENT
BEGIN:VEVENT
DTSTART;TZID=America/Los_Angeles:20230711T190000
DTEND;TZID=America/Los_Angeles:20230711T203000
DTSTAMP:20260422T082217
CREATED:20230608T171054Z
LAST-MODIFIED:20230608T172005Z
UID:10001292-1689102000-1689107400@www.napainsight.org
SUMMARY:Meditation & Reflection with Mike Coughlin
DESCRIPTION:This Tuesday evening sangha will be led by Mike Coughlin. Mike is a public school administrator\, trained mediator\, and has been practicing mindfulness in the vipassana tradition for over 15 years. He has received training through Spirit Rock Meditation Center\, Mindful Schools and is a Certified Mindfulness Facilitator through the Semel Institute for Neuroscience & Human Behavior at the University of California\, Los Angeles. Mike has over 20 years of experience working with high-risk youth\, most specifically in residential and day treatment programs\, as well as years of mediation experience in Alternative Dispute Resolution. \nNew NVIM COVID Guidelines for Attendance: \n\nFull vaccination is strongly recommended.\nSocial distancing between chairs will be maintained for those who choose.\nMasks are OPTIONAL. If you feel comfortable\, you do not need to wear a mask. If you are a vulnerable person\, or live with a vulnerable person\, consider wearing a well-fitting mask during sangha.
URL:https://www.napainsight.org/event/meditation-and-reflection-with-mike-coughlin/
LOCATION:Napa Valley Unitarian Universalists\, 1625 Salvador Ave\, Napa\, CA\, 94559
ATTACH;FMTTYPE=image/jpeg:https://www.napainsight.org/wp-content/uploads/2020/01/Mike-Coughlin2-e1726587384348.jpg
END:VEVENT
BEGIN:VEVENT
DTSTART;TZID=America/Los_Angeles:20230718T190000
DTEND;TZID=America/Los_Angeles:20230718T203000
DTSTAMP:20260422T082217
CREATED:20230608T170622Z
LAST-MODIFIED:20230608T170622Z
UID:10001288-1689706800-1689712200@www.napainsight.org
SUMMARY:An Evening With Special Guest Fresh “Lev” White
DESCRIPTION:This Tuesday\, NVIM warmly welcomes Lev back to our sangha. Lev is a love and compassion activist. He offers mindfulness\, coaching\, mediation\, and diversity trainings as tools for shifting towards more authentic\, conscious and passionate living. He teaches and writes about how love and self-compassion are the ultimate gateways to loving and understanding others; thus\, healing our communities\, and planet. Lev is also co-author of Real World Mindfulness for Beginners\, Ed. with Brenda Salgado and is mindfully grounded at the East Bay Meditation Center\, as well as a graduate of Spirit Rock’s Community Dharma Leadership program. Learn more about Lev here: https://affirmativeacts.org/about-us/
URL:https://www.napainsight.org/event/an-evening-with-special-guest-fresh-lev-white/
LOCATION:Napa Valley Unitarian Universalists\, 1625 Salvador Ave\, Napa\, CA\, 94559
ATTACH;FMTTYPE=image/jpeg:https://www.napainsight.org/wp-content/uploads/2022/05/fresh-lev-white-1.jpg
END:VEVENT
BEGIN:VEVENT
DTSTART;TZID=America/Los_Angeles:20230725T190000
DTEND;TZID=America/Los_Angeles:20230725T203000
DTSTAMP:20260422T082217
CREATED:20230608T171229Z
LAST-MODIFIED:20230608T171229Z
UID:10001294-1690311600-1690317000@www.napainsight.org
SUMMARY:Meditation & Reflection with Forrest Hill
DESCRIPTION:This Tuesday evening will be led by Forrest Hill. Forrest Hill has been practicing Insight Meditation since 2004 and is a founding member of Napa Valley Insight Meditation. He is a graduate of the the 2 year Community Dharma Leaders Program at Spirit Rock Meditation Center. \nNew NVIM COVID Guidelines for Attendance: \n\nFull vaccination is strongly recommended.\nSocial distancing between chairs will be maintained for those who choose.\nMasks are OPTIONAL. If you feel comfortable\, you do not need to wear a mask. If you are a vulnerable person\, or live with a vulnerable person\, consider wearing a well-fitting mask during sangha.
URL:https://www.napainsight.org/event/meditation-reflection-with-forrest-hill/
LOCATION:Napa Valley Unitarian Universalists\, 1625 Salvador Ave\, Napa\, CA\, 94559
ATTACH;FMTTYPE=image/jpeg:https://www.napainsight.org/wp-content/uploads/2020/01/Blog-2-Forrest-e1726587468843.jpg
END:VEVENT
END:VCALENDAR