BEGIN:VCALENDAR
VERSION:2.0
PRODID:-//Napa Valley Insight Meditation - ECPv6.15.20//NONSGML v1.0//EN
CALSCALE:GREGORIAN
METHOD:PUBLISH
X-ORIGINAL-URL:https://www.napainsight.org
X-WR-CALDESC:Events for Napa Valley Insight Meditation
REFRESH-INTERVAL;VALUE=DURATION:PT1H
X-Robots-Tag:noindex
X-PUBLISHED-TTL:PT1H
BEGIN:VTIMEZONE
TZID:America/Los_Angeles
BEGIN:DAYLIGHT
TZOFFSETFROM:-0800
TZOFFSETTO:-0700
TZNAME:PDT
DTSTART:20220313T100000
END:DAYLIGHT
BEGIN:STANDARD
TZOFFSETFROM:-0700
TZOFFSETTO:-0800
TZNAME:PST
DTSTART:20221106T090000
END:STANDARD
BEGIN:DAYLIGHT
TZOFFSETFROM:-0800
TZOFFSETTO:-0700
TZNAME:PDT
DTSTART:20230312T100000
END:DAYLIGHT
BEGIN:STANDARD
TZOFFSETFROM:-0700
TZOFFSETTO:-0800
TZNAME:PST
DTSTART:20231105T090000
END:STANDARD
BEGIN:DAYLIGHT
TZOFFSETFROM:-0800
TZOFFSETTO:-0700
TZNAME:PDT
DTSTART:20240310T100000
END:DAYLIGHT
BEGIN:STANDARD
TZOFFSETFROM:-0700
TZOFFSETTO:-0800
TZNAME:PST
DTSTART:20241103T090000
END:STANDARD
END:VTIMEZONE
BEGIN:VEVENT
DTSTART;TZID=America/Los_Angeles:20230404T190000
DTEND;TZID=America/Los_Angeles:20230404T203000
DTSTAMP:20260422T123436
CREATED:20230202T204431Z
LAST-MODIFIED:20230403T214838Z
UID:10001501-1680634800-1680640200@www.napainsight.org
SUMMARY:An Evening with Special Guest Victoria Cary
DESCRIPTION:This Tuesday (4/4)\, our evening Napa Valley Insight Meditation sangha will be led by special quest teacher Victoria Cary. \nNVIM meets every Tuesday at the Unitarian Universalist\, 1625 Salvador Ave.\, Napa CA 94558\, starting at 7pm. \nVictoria has been practicing insight meditation and studying the Dharma since 2006. She is a graduate of the 4-year Teacher Training programs at Spirit Rock Meditation Center as well as the Community Dharma Leaders program. Victoria is the co-founder and one of the core teachers of San Francisco People of Color Insight Sangha. She has worked as a volunteer at Zen Hospice where she is exploring how developing a relationship with impermanence and death can bring us more fully alive. Victoria states that she loves the Dhamma and is interested in supporting people in their practice by focusing on integrating Dhamma into everyday life. Her identity as a queer\, bi-racial black woman informs her approach to teaching the Dhamma as she seeks to support a kind internal and external investigation of our complex human experience. \nTo learn more\, please join our email list at: https://www.napainsight.org/contact/newsletter/ \nNVIM COVID Guidelines for Attendance: \n\nFull vaccination is recommended.\nSocial distancing between chairs will be maintained for those who choose.\n Masks are OPTIONAL. If you feel comfortable\, you do not need to wear a mask. If you are a vulnerable person\, or live with a vulnerable person\, consider wearing a well-fitting mask during sangha.
URL:https://www.napainsight.org/event/special-guest-victoria-cary/
LOCATION:Napa Valley Unitarian Universalists\, 1625 Salvador Ave\, Napa\, CA\, 94559
ATTACH;FMTTYPE=image/jpeg:https://www.napainsight.org/wp-content/uploads/2020/08/Victoria-Cary.jpg
END:VEVENT
BEGIN:VEVENT
DTSTART;TZID=America/Los_Angeles:20230411T190000
DTEND;TZID=America/Los_Angeles:20230411T203000
DTSTAMP:20260422T123436
CREATED:20230402T194205Z
LAST-MODIFIED:20230402T195320Z
UID:10001504-1681239600-1681245000@www.napainsight.org
SUMMARY:Meditation & Discussion with Forrest Hill
DESCRIPTION:This Tuesday evening will be led by Forrest Hill. Forrest Hill has been practicing Insight Meditation since 2004 and is a founding member of Napa Valley Insight Meditation. He is a graduate of the the 2 year Community Dharma Leaders Program at Spirit Rock Meditation Center. \nNew NVIM COVID Guidelines for Attendance: \n\nFull vaccination is strongly recommended.\nSocial distancing between chairs will be maintained for those who choose.\nMasks are OPTIONAL. If you feel comfortable\, you do not need to wear a mask. If you are a vulnerable person\, or live with a vulnerable person\, consider wearing a well-fitting mask during sangha.
URL:https://www.napainsight.org/event/meditation-and-discussion-with-forrest-hill/
LOCATION:Napa Valley Unitarian Universalists\, 1625 Salvador Ave\, Napa\, CA\, 94559
ATTACH;FMTTYPE=image/jpeg:https://www.napainsight.org/wp-content/uploads/2020/01/Blog-2-Forrest-e1726587468843.jpg
END:VEVENT
BEGIN:VEVENT
DTSTART;TZID=America/Los_Angeles:20230418T190000
DTEND;TZID=America/Los_Angeles:20230418T203000
DTSTAMP:20260422T123436
CREATED:20230402T194527Z
LAST-MODIFIED:20230402T194527Z
UID:10001505-1681844400-1681849800@www.napainsight.org
SUMMARY:Meditation & Discussion with Mike Coughlin
DESCRIPTION:This Tuesday evening sangha will be led by Mike Coughlin. Mike is a public school administrator\, trained mediator\, and has been practicing mindfulness in the vipassana tradition for over 15 years. He has received training through Spirit Rock Meditation Center\, Mindful Schools and is a Certified Mindfulness Facilitator through the Semel Institute for Neuroscience & Human Behavior at the University of California\, Los Angeles. Mike has over 20 years of experience working with high-risk youth\, most specifically in residential and day treatment programs\, as well as years of mediation experience in Alternative Dispute Resolution. \nNew NVIM COVID Guidelines for Attendance (updated 10/1/22): \n\nFull vaccination is strongly recommended.\nSocial distancing between chairs will be maintained for those who choose.\nMasks are OPTIONAL. If you feel comfortable\, you do not need to wear a mask. If you are a vulnerable person\, or live with a vulnerable person\, consider wearing a well-fitting mask during sangha.
URL:https://www.napainsight.org/event/meditation-discussion-with-mike-coughlin/
LOCATION:Napa Valley Unitarian Universalists\, 1625 Salvador Ave\, Napa\, CA\, 94559
ATTACH;FMTTYPE=image/jpeg:https://www.napainsight.org/wp-content/uploads/2020/01/Mike-Coughlin2-e1726587384348.jpg
END:VEVENT
BEGIN:VEVENT
DTSTART;TZID=America/Los_Angeles:20230425T190000
DTEND;TZID=America/Los_Angeles:20230425T203000
DTSTAMP:20260422T123436
CREATED:20230402T194728Z
LAST-MODIFIED:20230402T194728Z
UID:10001506-1682449200-1682454600@www.napainsight.org
SUMMARY:Meditation & Discussion with Lori Stelling
DESCRIPTION:This Tuesday evening sangha will be led by Lori Stelling. Lori has practiced Insight Meditation since 2002 and serves as a local teacher and Board member for NVIM. She has received mentoring from vipassana teachers since 2007\, is a Certified Mindfulness Meditation Teacher through UC Berkeley’s Greater Good Science Center\, and has engaged in on-going Buddhist Studies through Aloka Vihara\, Sacred Mountain Sangha\, Dharmagiri\, Spirit Rock Meditation Center\, and others\, for two decades. Lori is a certified life coach\, with advanced Enneagram training\, offering life coaching for women\, and community meditation classes for adults of all ages. \nNVIM COVID Guidelines for Attendance: \n\nFull vaccination is strongly recommended.\nSocial distancing between chairs will be maintained for those who choose.\nMasks are OPTIONAL. If you feel comfortable\, you do not need to wear a mask. If you are a vulnerable person\, or live with a vulnerable person\, consider wearing a well-fitting mask during sangha.
URL:https://www.napainsight.org/event/meditation-discussion-with-lori-stelling/
LOCATION:Napa Valley Unitarian Universalists\, 1625 Salvador Ave\, Napa\, CA\, 94559
ATTACH;FMTTYPE=image/jpeg:https://www.napainsight.org/wp-content/uploads/2020/08/Reflecting-Lotus.jpg
END:VEVENT
END:VCALENDAR