BEGIN:VCALENDAR
VERSION:2.0
PRODID:-//Napa Valley Insight Meditation - ECPv6.15.20//NONSGML v1.0//EN
CALSCALE:GREGORIAN
METHOD:PUBLISH
X-WR-CALNAME:Napa Valley Insight Meditation
X-ORIGINAL-URL:https://www.napainsight.org
X-WR-CALDESC:Events for Napa Valley Insight Meditation
REFRESH-INTERVAL;VALUE=DURATION:PT1H
X-Robots-Tag:noindex
X-PUBLISHED-TTL:PT1H
BEGIN:VTIMEZONE
TZID:America/Los_Angeles
BEGIN:DAYLIGHT
TZOFFSETFROM:-0800
TZOFFSETTO:-0700
TZNAME:PDT
DTSTART:20210314T100000
END:DAYLIGHT
BEGIN:STANDARD
TZOFFSETFROM:-0700
TZOFFSETTO:-0800
TZNAME:PST
DTSTART:20211107T090000
END:STANDARD
BEGIN:DAYLIGHT
TZOFFSETFROM:-0800
TZOFFSETTO:-0700
TZNAME:PDT
DTSTART:20220313T100000
END:DAYLIGHT
BEGIN:STANDARD
TZOFFSETFROM:-0700
TZOFFSETTO:-0800
TZNAME:PST
DTSTART:20221106T090000
END:STANDARD
BEGIN:DAYLIGHT
TZOFFSETFROM:-0800
TZOFFSETTO:-0700
TZNAME:PDT
DTSTART:20230312T100000
END:DAYLIGHT
BEGIN:STANDARD
TZOFFSETFROM:-0700
TZOFFSETTO:-0800
TZNAME:PST
DTSTART:20231105T090000
END:STANDARD
END:VTIMEZONE
BEGIN:VEVENT
DTSTART;TZID=America/Los_Angeles:20221206T190000
DTEND;TZID=America/Los_Angeles:20221206T203000
DTSTAMP:20260422T183652
CREATED:20221108T040832Z
LAST-MODIFIED:20221108T040832Z
UID:10001484-1670353200-1670358600@www.napainsight.org
SUMMARY:Meditation and Reflection with Lori Stelling
DESCRIPTION:NVIM is now meeting at the NVUU in-person only on Tuesdays at 7:00pm. Following the current COVID guidelines in our community\, masks will be optional. Full vaccination is strongly recommended to attend. (See complete Guidelines below). \nThis Tuesday evenings sangha will be led by Lori Stelling. Lori has practiced Insight Meditation since 2002 and serves as a local teacher and Board member for NVIM. She has received mentoring from vipassana teachers since 2007\, is a Certified Mindfulness Meditation Teacher through UC Berkeley’s Greater Good Science Center\, and has engaged in on-going Buddhist Studies through Aloka Vihara\, Sacred Mountain Sangha\, Dharmagiri\, Spirit Rock Meditation Center\, and others\, for two decades. Lori is a certified life coach\, with advanced Enneagram training\, offering life coaching for women\, and community meditation classes for adults of all ages. \nNVIM COVID Guidelines for Attendance (updated 10/1/22): \n\nFull vaccination (2 COVID shots and at least booster) is strongly recommended.\nSocial distancing between chairs will be maintained for those who choose.\n Masks are OPTIONAL. If you feel comfortable\, you do not need to wear a mask. If you are a vulnerable person\, or live with a vulnerable person\, consider wearing a well-fitting mask during sangha.\n\nWhen NOT to attend sangha: \n\n If you have tested positive for COVID\, until the 11th day after your symptoms first started or you tested positive (whichever comes first). This is in an abundance of caution and consideration for our older sangha members and those with chronic health conditions.\n If you have any symptoms of COVID\, unless you have had a valid negative test.\n If you have been exposed to COVID\, until you have tested on day 5 and are negative.\n\nThese guidelines are to protect the health of our fellow community members (see this link for more current guidance from the CA Department of Public Health): https://www.cdph.ca.gov/Programs/CID/DCDC/Pages/COVID-19/HomeAndCommunity.aspx”>https://www.cdph.ca.gov/Programs/CID/DCDC/Pages/COVID-19/HomeAndCommunity.aspx
URL:https://www.napainsight.org/event/meditation-and-reflection-with-lori-stelling/
LOCATION:Napa Valley Unitarian Universalists\, 1625 Salvador Ave\, Napa\, CA\, 94559
ATTACH;FMTTYPE=image/jpeg:https://www.napainsight.org/wp-content/uploads/2021/06/Reflecting-Lotus.jpg
END:VEVENT
BEGIN:VEVENT
DTSTART;TZID=America/Los_Angeles:20221213T190000
DTEND;TZID=America/Los_Angeles:20221213T203000
DTSTAMP:20260422T183652
CREATED:20221108T041518Z
LAST-MODIFIED:20221108T041518Z
UID:10001486-1670958000-1670963400@www.napainsight.org
SUMMARY:An Evening With Kevin Griffin
DESCRIPTION:NVIM is now meeting at the NVUU in-person only on Tuesdays at 7:00pm. Following the current COVID guidelines in our community\, masks will be optional. Full vaccination is strongly recommended to attend. (See complete Guidelines below). \nThis Tuesday we warmly welcome Kevin Griffin back to NVIM. Kevin is an author\, longtime Buddhist practitioner who trained as a Community Dharma Leader at Spirit Rock\, and innovator in the field of addiction treatment. His newest book is Buddhism & the Twelve Steps: Daily Reflections – Thoughts on Dharma and Recovery. Learn more about Kevin and his books here: https://www.kevingriffin.net/ \nNVIM COVID Guidelines for Attendance (updated 10/1/22): \n\nFull vaccination (2 COVID shots and at least booster) is strongly recommended.\nSocial distancing between chairs will be maintained for those who choose.\n Masks are OPTIONAL. If you feel comfortable\, you do not need to wear a mask. If you are a vulnerable person\, or live with a vulnerable person\, consider wearing a well-fitting mask during sangha.\n\nWhen NOT to attend sangha: \n\n If you have tested positive for COVID\, until the 11th day after your symptoms first started or you tested positive (whichever comes first). This is in an abundance of caution and consideration for our older sangha members and those with chronic health conditions.\n If you have any symptoms of COVID\, unless you have had a valid negative test.\n If you have been exposed to COVID\, until you have tested on day 5 and are negative.\n\nThese guidelines are to protect the health of our fellow community members (see this link for more current guidance from the CA Department of Public Health): https://www.cdph.ca.gov/Programs/CID/DCDC/Pages/COVID-19/HomeAndCommunity.aspx”>https://www.cdph.ca.gov/Programs/CID/DCDC/Pages/COVID-19/HomeAndCommunity.aspx
URL:https://www.napainsight.org/event/an-evening-with-kevin-griffin/
LOCATION:Napa Valley Unitarian Universalists\, 1625 Salvador Ave\, Napa\, CA\, 94559
ATTACH;FMTTYPE=image/jpeg:https://www.napainsight.org/wp-content/uploads/2021/06/Kevin-Griffin2.jpg
END:VEVENT
BEGIN:VEVENT
DTSTART;TZID=America/Los_Angeles:20221220T190000
DTEND;TZID=America/Los_Angeles:20221220T203000
DTSTAMP:20260422T183652
CREATED:20221108T042639Z
LAST-MODIFIED:20221108T042639Z
UID:10001487-1671562800-1671568200@www.napainsight.org
SUMMARY:Winter Holiday
DESCRIPTION:NIVM will not be meeting this Tuesday or next Tuesday in observance of the holiday season \n“In true love\, you attain freedom” ~ Thich Nhat Hanh
URL:https://www.napainsight.org/event/winter-holiday/
ATTACH;FMTTYPE=image/jpeg:https://www.napainsight.org/wp-content/uploads/2022/11/world-3043067_1920-e1667881504555.jpg
END:VEVENT
BEGIN:VEVENT
DTSTART;TZID=America/Los_Angeles:20221227T190000
DTEND;TZID=America/Los_Angeles:20221227T200000
DTSTAMP:20260422T183652
CREATED:20221108T043118Z
LAST-MODIFIED:20221108T043118Z
UID:10001488-1672167600-1672171200@www.napainsight.org
SUMMARY:Winter Holiday
DESCRIPTION:NIVM will not be meeting this Tuesday in observance of the holiday season \n“Love and compassion are the pillars of world peace.” “If you don’t love yourself\, you cannot love others.” ~ Dalai Lama
URL:https://www.napainsight.org/event/winter-holiday-2/
ATTACH;FMTTYPE=image/jpeg:https://www.napainsight.org/wp-content/uploads/2022/11/787366.1065457883.1.o316826995-e1667881857818.jpg
END:VEVENT
END:VCALENDAR