BEGIN:VCALENDAR
VERSION:2.0
PRODID:-//Napa Valley Insight Meditation - ECPv6.15.20//NONSGML v1.0//EN
CALSCALE:GREGORIAN
METHOD:PUBLISH
X-ORIGINAL-URL:https://www.napainsight.org
X-WR-CALDESC:Events for Napa Valley Insight Meditation
REFRESH-INTERVAL;VALUE=DURATION:PT1H
X-Robots-Tag:noindex
X-PUBLISHED-TTL:PT1H
BEGIN:VTIMEZONE
TZID:America/Los_Angeles
BEGIN:DAYLIGHT
TZOFFSETFROM:-0800
TZOFFSETTO:-0700
TZNAME:PDT
DTSTART:20210314T100000
END:DAYLIGHT
BEGIN:STANDARD
TZOFFSETFROM:-0700
TZOFFSETTO:-0800
TZNAME:PST
DTSTART:20211107T090000
END:STANDARD
BEGIN:DAYLIGHT
TZOFFSETFROM:-0800
TZOFFSETTO:-0700
TZNAME:PDT
DTSTART:20220313T100000
END:DAYLIGHT
BEGIN:STANDARD
TZOFFSETFROM:-0700
TZOFFSETTO:-0800
TZNAME:PST
DTSTART:20221106T090000
END:STANDARD
BEGIN:DAYLIGHT
TZOFFSETFROM:-0800
TZOFFSETTO:-0700
TZNAME:PDT
DTSTART:20230312T100000
END:DAYLIGHT
BEGIN:STANDARD
TZOFFSETFROM:-0700
TZOFFSETTO:-0800
TZNAME:PST
DTSTART:20231105T090000
END:STANDARD
END:VTIMEZONE
BEGIN:VEVENT
DTSTART;TZID=America/Los_Angeles:20221004T190000
DTEND;TZID=America/Los_Angeles:20221004T203000
DTSTAMP:20260422T213234
CREATED:20220930T172950Z
LAST-MODIFIED:20220930T173414Z
UID:10001476-1664910000-1664915400@www.napainsight.org
SUMMARY:Meditation & Reflections with Lori Stelling
DESCRIPTION:Starting October 4th\, we will return to our regular time @ 7:00 pm\, in the sanctuary at Napa Valley Unitarian Universalist (1625 Salvador Ave\, Napa CA). \nThis Tuesday evening sangha will be led by Lori Stelling. Lori has practiced Insight Meditation since 2002 and serves as a local teacher and Board member for NVIM. She has received mentoring from vipassana teachers since 2007\, is a Certified Mindfulness Meditation Teacher through UC Berkeley’s Greater Good Science Center\, and has engaged in on-going Buddhist Studies through Aloka Vihara\, Sacred Mountain Sangha\, Dharmagiri\, Spirit Rock Meditation Center\, and others\, for two decades. Lori is a certified life coach\, with advanced Enneagram training\, offering life coaching for women\, and community meditation classes for adults of all ages. \nMasking Policy \n\nMasks will be optional at our sangha inside gatherings beginning in October.\nWe hope that this proves safe and welcoming to the majority of our community.\nIf you have any symptoms of COVID\, or have recently tested positive\, please stay home to protect the health of our fellow community members\nFull vaccination is highly recommended to attend.
URL:https://www.napainsight.org/event/lori-stelling/
LOCATION:Napa Valley Unitarian Universalists\, 1625 Salvador Ave\, Napa\, CA\, 94559
ATTACH;FMTTYPE=image/jpeg:https://www.napainsight.org/wp-content/uploads/2020/08/reflecting-lotus-1.jpg
END:VEVENT
BEGIN:VEVENT
DTSTART;TZID=America/Los_Angeles:20221011T190000
DTEND;TZID=America/Los_Angeles:20221011T203000
DTSTAMP:20260422T213234
CREATED:20220930T173850Z
LAST-MODIFIED:20220930T173850Z
UID:10001477-1665514800-1665520200@www.napainsight.org
SUMMARY:Meditation & Reflections with Mike Coughlin
DESCRIPTION:NVIM is now meeting again @ 7:00 pm\, in the sanctuary at Napa Valley Unitarian Universalist (1625 Salvador Ave\, Napa CA). \nThis Tuesday evening sangha will be led by Mike Coughlin. Mike is a public school administrator\, trained mediator\, and has been practicing mindfulness in the vipassana tradition for over 15 years. He has received training through Spirit Rock Meditation Center\, Mindful Schools and is a Certified Mindfulness Facilitator through the Semel Institute for Neuroscience & Human Behavior at the University of California\, Los Angeles. Mike has over 20 years of experience working with high-risk youth\, most specifically in residential and day treatment programs\, as well as years of mediation experience in Alternative Dispute Resolution. \nMasking Policy \n\nMasks will be optional at our sangha inside gatherings beginning in October.\nWe hope that this proves safe and welcoming to the majority of our community.\nIf you have any symptoms of COVID\, or have recently tested positive\, please stay home to protect the health of our fellow community members\nFull vaccination is highly recommended to attend.
URL:https://www.napainsight.org/event/meditation-reflections-with-mike-coughlin/
LOCATION:Napa Valley Unitarian Universalists\, 1625 Salvador Ave\, Napa\, CA\, 94559
ATTACH;FMTTYPE=image/jpeg:https://www.napainsight.org/wp-content/uploads/2020/01/Mike-Coughlin2-e1726587384348.jpg
END:VEVENT
BEGIN:VEVENT
DTSTART;TZID=America/Los_Angeles:20221018T190000
DTEND;TZID=America/Los_Angeles:20221018T203000
DTSTAMP:20260422T213234
CREATED:20220930T174056Z
LAST-MODIFIED:20221008T193759Z
UID:10001478-1666119600-1666125000@www.napainsight.org
SUMMARY:An Evening with Fresh “Lev” White
DESCRIPTION:NVIM is now meeting again @ 7:00 pm\, in the sanctuary at Napa Valley Unitarian Universalist (1625 Salvador Ave\, Napa CA). \nThis Tuesday\, NVIM warmly welcomes Lev back to our sangha. Lev is a love and compassion activist. He offers mindfulness\, coaching\, mediation\, and diversity trainings as tools for shifting towards more authentic\, conscious and passionate living. He teaches and writes about how love and self-compassion are the ultimate gateways to loving and understanding others; thus\, healing our communities\, and planet. Lev is also co-author of Real World Mindfulness for Beginners\, Ed. with Brenda Salgado and is mindfully grounded at the East Bay Meditation Center\, as well as a graduate of Spirit Rock’s Community Dharma Leadership program. Learn more about Lev here: https://affirmativeacts.org/about-us/ \nMasking Policy \n\nMasks will be optional at our sangha inside gatherings beginning in October.\nWe hope that this proves safe and welcoming to the majority of our community.\nIf you have any symptoms of COVID\, or have recently tested positive\, please stay home to protect the health of our fellow community members\nFull vaccination is highly recommended to attend.
URL:https://www.napainsight.org/event/2411/
LOCATION:Napa Valley Unitarian Universalists\, 1625 Salvador Ave\, Napa\, CA\, 94559
ATTACH;FMTTYPE=image/jpeg:https://www.napainsight.org/wp-content/uploads/2022/05/fresh-lev-white-1.jpg
END:VEVENT
BEGIN:VEVENT
DTSTART;TZID=America/Los_Angeles:20221025T190000
DTEND;TZID=America/Los_Angeles:20221025T203000
DTSTAMP:20260422T213234
CREATED:20220930T174401Z
LAST-MODIFIED:20220930T174401Z
UID:10001479-1666724400-1666729800@www.napainsight.org
SUMMARY:Meditation & Reflections with Forrest Hill
DESCRIPTION:NVIM is now meeting again @ 7:00 pm\, in the sanctuary at Napa Valley Unitarian Universalist (1625 Salvador Ave\, Napa CA). \nThis Tuesday evening will be led by Forrest Hill. Forrest Hill has been practicing Insight Meditation since 2004 and is a founding member of Napa Valley Insight Meditation. He is a graduate of the 2 year Community Dharma Leaders Program at Spirit Rock Meditation Center. \nMasking Policy \n\nMasks will be optional at our sangha inside gatherings beginning in October.\nWe hope that this proves safe and welcoming to the majority of our community.\nIf you have any symptoms of COVID\, or have recently tested positive\, please stay home to protect the health of our fellow community members\nFull vaccination is highly recommended to attend.
URL:https://www.napainsight.org/event/meditation-reflections-with-forrest-hill/
LOCATION:Napa Valley Unitarian Universalists\, 1625 Salvador Ave\, Napa\, CA\, 94559
ATTACH;FMTTYPE=image/jpeg:https://www.napainsight.org/wp-content/uploads/2020/01/Blog-2-Forrest-e1726587468843.jpg
END:VEVENT
END:VCALENDAR