BEGIN:VCALENDAR
VERSION:2.0
PRODID:-//Napa Valley Insight Meditation - ECPv6.15.20//NONSGML v1.0//EN
CALSCALE:GREGORIAN
METHOD:PUBLISH
X-WR-CALNAME:Napa Valley Insight Meditation
X-ORIGINAL-URL:https://www.napainsight.org
X-WR-CALDESC:Events for Napa Valley Insight Meditation
REFRESH-INTERVAL;VALUE=DURATION:PT1H
X-Robots-Tag:noindex
X-PUBLISHED-TTL:PT1H
BEGIN:VTIMEZONE
TZID:America/Los_Angeles
BEGIN:DAYLIGHT
TZOFFSETFROM:-0800
TZOFFSETTO:-0700
TZNAME:PDT
DTSTART:20210314T100000
END:DAYLIGHT
BEGIN:STANDARD
TZOFFSETFROM:-0700
TZOFFSETTO:-0800
TZNAME:PST
DTSTART:20211107T090000
END:STANDARD
BEGIN:DAYLIGHT
TZOFFSETFROM:-0800
TZOFFSETTO:-0700
TZNAME:PDT
DTSTART:20220313T100000
END:DAYLIGHT
BEGIN:STANDARD
TZOFFSETFROM:-0700
TZOFFSETTO:-0800
TZNAME:PST
DTSTART:20221106T090000
END:STANDARD
BEGIN:DAYLIGHT
TZOFFSETFROM:-0800
TZOFFSETTO:-0700
TZNAME:PDT
DTSTART:20230312T100000
END:DAYLIGHT
BEGIN:STANDARD
TZOFFSETFROM:-0700
TZOFFSETTO:-0800
TZNAME:PST
DTSTART:20231105T090000
END:STANDARD
END:VTIMEZONE
BEGIN:VEVENT
DTSTART;TZID=America/Los_Angeles:20220913T183000
DTEND;TZID=America/Los_Angeles:20220913T200000
DTSTAMP:20260422T225412
CREATED:20220912T020431Z
LAST-MODIFIED:20220912T020431Z
UID:10001473-1663093800-1663099200@www.napainsight.org
SUMMARY:Outdoor SUNSET SANGHA w/Syra Smith @ 6:30pm
DESCRIPTION:This September\, we’ll meet outdoors for “SUNSET SANGHA” from 6:30pm to 8:00pm on the back patio of the NVUU. Please bring a lawn chair for patio seating\, warm layers and/or a blanket\, and\, if you wish\, a water/beverage. \nThis Tuesday evening we warmly welcome Syra Smith back to NVIM. Syra Smith is an artist\, organizer and mindfulness educator interested in deep ecology and manifesting a culture where we can turn toward fearless abundance and generosity. Presently\, she co-leads the Mid-Day Dharma Collective at SF Insight (Mondays at noon!) and proudly serves as Core Teacher with the San Francisco LGBT Sangha. Also a Community Teacher for East Bay Meditation Center and Founder of Oakland’s Dana Cafe\, Syra teaches Insight Meditation and mindfulness throughout the SF Bay Area and beyond. Learn more about Syra here: http://projectroot.org/syra-smith-meditation.html
URL:https://www.napainsight.org/event/outdoor-sunset-sangha-w-syra-smith-630pm/
LOCATION:Napa Valley Unitarian Universalists\, 1625 Salvador Ave\, Napa\, CA\, 94559
ATTACH;FMTTYPE=image/jpeg:https://www.napainsight.org/wp-content/uploads/2021/02/Syra-Smith-022821-e1614576043644.jpeg
END:VEVENT
BEGIN:VEVENT
DTSTART;TZID=America/Los_Angeles:20220920T183000
DTEND;TZID=America/Los_Angeles:20220920T200000
DTSTAMP:20260422T225412
CREATED:20220912T020554Z
LAST-MODIFIED:20220912T020554Z
UID:10001474-1663698600-1663704000@www.napainsight.org
SUMMARY:Outdoor SUNSET SANGHA w/Mike Coughlin @ 6:30pm
DESCRIPTION:This September\, we’ll meet outdoors for “SUNSET SANGHA” from 6:30pm to 8:00pm on the back patio of the NVUU. Please bring a lawn chair for patio seating\, warm layers and/or a blanket\, and\, if you wish\, a water/beverage. \nThis Tuesday evening sangha will be led by Mike Coughlin. Mike is a public school administrator\, trained mediator\, and has been practicing mindfulness in the vipassana tradition for over 15 years. He has received training through Spirit Rock Meditation Center\, Mindful Schools and is a Certified Mindfulness Facilitator through the Semel Institute for Neuroscience & Human Behavior at the University of California\, Los Angeles. Mike has over 20 years of experience working with high-risk youth\, most specifically in residential and day treatment programs\, as well as years of mediation experience in Alternative Dispute Resolution.
URL:https://www.napainsight.org/event/outdoor-sunset-sangha-w-mike-coughlin-630pm/
LOCATION:Napa Valley Unitarian Universalists\, 1625 Salvador Ave\, Napa\, CA\, 94559
ATTACH;FMTTYPE=image/jpeg:https://www.napainsight.org/wp-content/uploads/2020/01/Mike-Coughlin2-e1726587384348.jpg
END:VEVENT
BEGIN:VEVENT
DTSTART;TZID=America/Los_Angeles:20220927T183000
DTEND;TZID=America/Los_Angeles:20220927T200000
DTSTAMP:20260422T225412
CREATED:20220912T021503Z
LAST-MODIFIED:20220912T021503Z
UID:10001475-1664303400-1664308800@www.napainsight.org
SUMMARY:Outdoor SUNSET SANGHA w/Joanie Lane @ 6:30pm Photo of  Hosted By
DESCRIPTION:This September\, we’ll meet outdoors for “SUNSET SANGHA” from 6:30pm to 8:00pm on the back patio of the NVUU. Please bring a lawn chair for patio seating\, warm layers and/or a blanket\, and\, if you wish\, a water/beverage. \nNVIM warmly welcomes Joanie Lane back to sangha. Joanie (she/her) is the founder of “​A Positive Light” meditation center in Lake County\, CA\, and a graduate of Mindfulness Meditation Teacher Certification Program taught by renown teachers Jack Kornfield and Tara Brach. With over 30 years of meditation practice and training\, she also teaches Qigong\, Reiki\, is a Certified Life and Spiritual Coach\, Author & Poet. Joanie began her meditation practice in 1989 and received extensive training in Mahayana and Theravada Buddhism as well as Zen and considers her education in the Buddhist practices “mixed”. Learn more at: https://www.apositivelight.com/
URL:https://www.napainsight.org/event/outdoor-sunset-sangha-w-joanie-lane-630pm-photo-of-hosted-by/
LOCATION:Napa Valley Unitarian Universalists\, 1625 Salvador Ave\, Napa\, CA\, 94559
ATTACH;FMTTYPE=image/jpeg:https://www.napainsight.org/wp-content/uploads/2022/09/Joanie-Lane2.jpg
END:VEVENT
END:VCALENDAR