BEGIN:VCALENDAR
VERSION:2.0
PRODID:-//Napa Valley Insight Meditation - ECPv6.15.20//NONSGML v1.0//EN
CALSCALE:GREGORIAN
METHOD:PUBLISH
X-WR-CALNAME:Napa Valley Insight Meditation
X-ORIGINAL-URL:https://www.napainsight.org
X-WR-CALDESC:Events for Napa Valley Insight Meditation
REFRESH-INTERVAL;VALUE=DURATION:PT1H
X-Robots-Tag:noindex
X-PUBLISHED-TTL:PT1H
BEGIN:VTIMEZONE
TZID:America/Los_Angeles
BEGIN:DAYLIGHT
TZOFFSETFROM:-0800
TZOFFSETTO:-0700
TZNAME:PDT
DTSTART:20210314T100000
END:DAYLIGHT
BEGIN:STANDARD
TZOFFSETFROM:-0700
TZOFFSETTO:-0800
TZNAME:PST
DTSTART:20211107T090000
END:STANDARD
BEGIN:DAYLIGHT
TZOFFSETFROM:-0800
TZOFFSETTO:-0700
TZNAME:PDT
DTSTART:20220313T100000
END:DAYLIGHT
BEGIN:STANDARD
TZOFFSETFROM:-0700
TZOFFSETTO:-0800
TZNAME:PST
DTSTART:20221106T090000
END:STANDARD
BEGIN:DAYLIGHT
TZOFFSETFROM:-0800
TZOFFSETTO:-0700
TZNAME:PDT
DTSTART:20230312T100000
END:DAYLIGHT
BEGIN:STANDARD
TZOFFSETFROM:-0700
TZOFFSETTO:-0800
TZNAME:PST
DTSTART:20231105T090000
END:STANDARD
END:VTIMEZONE
BEGIN:VEVENT
DTSTART;TZID=America/Los_Angeles:20220503T190000
DTEND;TZID=America/Los_Angeles:20220503T203000
DTSTAMP:20260423T043834
CREATED:20220502T204645Z
LAST-MODIFIED:20220502T204952Z
UID:10001465-1651604400-1651609800@www.napainsight.org
SUMMARY:The Wisdom of Our Modern Sages with Lori Stelling: Tues 5/3 @ NVIM
DESCRIPTION:NVIM is now meeting at the NVUU in-person and on Zoom\, following a hybrid model\, Tuesdays at 7:00pm. Masking is required for indoor participation. (See Guidelines below) \nThis Tuesday evening sangha will be led by Lori Stelling. Lori has practiced Insight Meditation since 2002 and serves as a local teacher and Board member for NVIM. She has received mentoring from vipassana teachers since 2007\, is a Certified Mindfulness Meditation Teacher through UC Berkeley’s Greater Good Science Center\, and has engaged in on-going Buddhist Studies through Aloka Vihara\, Sacred Mountain Sangha\, Dharmagiri\, Spirit Rock Meditation Center\, and others\, for two decades. Lori is a certified life coach\, with advanced Enneagram training\, offering life coaching for women\, and community meditation classes for adults of all ages. \nWe will be meeting @ 7:00 pm\, in the sanctuary at Napa Valley Unitarian Universalist (1625 Salvador Ave\, Napa CA). \nIf you prefer\, you can join us via Zoom here: https://us02web.zoom.us/j/85820566332?pwd=M01jd3dUSW40bE5Sam8rcElQN1BUUT09 \nUpdated NVIM In-person COVID Guidelines (April 2022):\n· full vaccination recommended\n· masks required indoors (with the exception of being optional for the teacher while teaching)\n· no beverages allowed indoors (you are welcome to bring your own beverage outdoors during breaks)\n· please stay home if you have any COVID-like symptoms or have tested positive for COVID in the past 10 days
URL:https://www.napainsight.org/event/the-wisdom-of-our-modern-sages-with-lori-stelling-tues-5-3-nvim/
LOCATION:Napa Valley Unitarian Universalists\, 1625 Salvador Ave\, Napa\, CA\, 94559
ATTACH;FMTTYPE=image/jpeg:https://www.napainsight.org/wp-content/uploads/2021/06/Reflecting-Lotus.jpg
END:VEVENT
BEGIN:VEVENT
DTSTART;TZID=America/Los_Angeles:20220510T190000
DTEND;TZID=America/Los_Angeles:20220510T203000
DTSTAMP:20260423T043834
CREATED:20220502T205134Z
LAST-MODIFIED:20220502T205134Z
UID:10001466-1652209200-1652214600@www.napainsight.org
SUMMARY:Meditation & Reflections with Debbie Darrin: Tues 5/10 @ NVIM
DESCRIPTION:NVIM is now meeting at the NVUU in-person and on Zoom\, following a hybrid model\, Tuesdays at 7:00pm. Masking is required for indoor participation. (See Guidelines below) \nThis Tuesday evening sangha will be led Debbie Darrin. Debbie has explored various aspects of mindfulness and meditation since the early 1980’s. In 2014 she began attending Napa Valley Insight Meditation sangha\, became an active member on the NVIM board in 2017 and facilitates the NVIM Thursday morning silent meditation. In 2021 she graduated from the 2-year Mindfulness Meditation Teacher Certification Program developed and offered by Jack Kornfield and Tara Brach. Debbie. She believes that the heart practices of lovingkindness\, compassion\, joy and equanimity play a significant role in balancing\, healing and navigating a complex world. \nWe will be meeting @ 7:00 pm\, in the sanctuary at Napa Valley Unitarian Universalist (1625 Salvador Ave\, Napa CA). \nIf you prefer\, you can join us via Zoom here: https://us02web.zoom.us/j/85820566332?pwd=M01jd3dUSW40bE5Sam8rcElQN1BUUT09 \nUpdated NVIM In-person COVID Guidelines (April 2022):\n· full vaccination recommended\n· masks required indoors (with the exception of being optional for the teacher while teaching)\n· no beverages allowed indoors (you are welcome to bring your own beverage outdoors during breaks)\n· please stay home if you have any COVID-like symptoms or have tested positive for COVID in the past 10 days \nThe receive the link to our Zoom meeting\, sent out 2 days before the event\, please become a member of NVIM on MeetUp or “sign up” for our newsletter on our website at: www.napainsight.org
URL:https://www.napainsight.org/event/meditation-reflections-with-debbie-darrin-tues-5-10-nvim/
LOCATION:Napa Valley Unitarian Universalists\, 1625 Salvador Ave\, Napa\, CA\, 94559
ATTACH;FMTTYPE=image/jpeg:https://www.napainsight.org/wp-content/uploads/2022/01/Debbie-Darrin-e1642378457830.jpg
END:VEVENT
BEGIN:VEVENT
DTSTART;TZID=America/Los_Angeles:20220517T190000
DTEND;TZID=America/Los_Angeles:20220517T203000
DTSTAMP:20260423T043834
CREATED:20220502T205322Z
LAST-MODIFIED:20220502T205322Z
UID:10001467-1652814000-1652819400@www.napainsight.org
SUMMARY:Meditation & Reflections with Mike Coughlin: Tues 5/17 @ NVIM
DESCRIPTION:NVIM is now meeting at the NVUU in-person and on Zoom\, following a hybrid model\, Tuesdays at 7:00pm. Masking is required for indoor participation. (See Guidelines below) \nThis Tuesday evening sangha will be led by Mike Coughlin. Mike is a public school administrator\, trained mediator\, and has been practicing mindfulness in the vipassana tradition for over 15 years. He has received training through Spirit Rock Meditation Center\, Mindful Schools and is a Certified Mindfulness Facilitator through the Semel Institute for Neuroscience & Human Behavior at the University of California\, Los Angeles. Mike has over 20 years of experience working with high-risk youth\, most specifically in residential and day treatment programs\, as well as years of mediation experience in Alternative Dispute Resolution. \nWe will be meeting @ 7:00 pm\, in the sanctuary at Napa Valley Unitarian Universalist (1625 Salvador Ave\, Napa CA). \nIf you prefer\, you can join us via Zoom here: https://us02web.zoom.us/j/85820566332?pwd=M01jd3dUSW40bE5Sam8rcElQN1BUUT09 \nUpdated NVIM In-person COVID Guidelines (April 2022):\n· full vaccination recommended\n· masks required indoors (with the exception of being optional for the teacher while teaching)\n· no beverages allowed indoors (you are welcome to bring your own beverage outdoors during breaks)\n· please stay home if you have any COVID-like symptoms or have tested positive for COVID in the past 10 days \nThe receive the link to our Zoom meeting\, sent out 2 days before the event\, please become a member of NVIM on MeetUp or “sign up” for our newsletter on our website at: www.napainsight.org
URL:https://www.napainsight.org/event/meditation-reflections-with-mike-coughlin-tues-5-17-nvim/
LOCATION:Napa Valley Unitarian Universalists\, 1625 Salvador Ave\, Napa\, CA\, 94559
ATTACH;FMTTYPE=image/jpeg:https://www.napainsight.org/wp-content/uploads/2020/01/Mike-Coughlin2-e1726587384348.jpg
END:VEVENT
BEGIN:VEVENT
DTSTART;TZID=America/Los_Angeles:20220524T190000
DTEND;TZID=America/Los_Angeles:20220524T203000
DTSTAMP:20260423T043834
CREATED:20220502T205453Z
LAST-MODIFIED:20220502T205453Z
UID:10001468-1653418800-1653424200@www.napainsight.org
SUMMARY:Meditation & Reflections with Forrest Hill: Tues 5/24 @ NVIM
DESCRIPTION:NVIM is now meeting at the NVUU in-person and on Zoom\, following a hybrid model\, Tuesdays at 7:00pm. Masking is required for indoor participation. (See Guidelines below) \nThis Tuesday evening will be led by Forrest Hill. Forrest Hill has been practicing Insight Meditation since 2004 and is a founding member of Napa Valley Insight Meditation. He is a gratduate of the the 2 year Community Dharma Leaders Program at Spirit Rock Meditation Center. \nWe will be meeting @ 7:00 pm\, in the sanctuary at Napa Valley Unitarian Universalist (1625 Salvador Ave\, Napa CA). \nIf you prefer\, you can join us via Zoom here: https://us02web.zoom.us/j/85820566332?pwd=M01jd3dUSW40bE5Sam8rcElQN1BUUT09 \nUpdated NVIM In-person COVID Guidelines (April 2022):\n· full vaccination recommended\n· masks required indoors (with the exception of being optional for the teacher while teaching)\n· no beverages allowed indoors (you are welcome to bring your own beverage outdoors during breaks)\n· please stay home if you have any COVID-like symptoms or have tested positive for COVID in the past 10 days\nThe receive the link to our Zoom meeting\, sent out 2 days before the event\, please become a member of NVIM on MeetUp or “sign up” for our newsletter on our website at: www.napainsight.org
URL:https://www.napainsight.org/event/meditation-reflections-with-forrest-hill-tues-5-24-nvim/
LOCATION:Napa Valley Unitarian Universalists\, 1625 Salvador Ave\, Napa\, CA\, 94559
ATTACH;FMTTYPE=image/jpeg:https://www.napainsight.org/wp-content/uploads/2020/01/Blog-2-Forrest-e1726587468843.jpg
END:VEVENT
BEGIN:VEVENT
DTSTART;TZID=America/Los_Angeles:20220531T190000
DTEND;TZID=America/Los_Angeles:20220531T203000
DTSTAMP:20260423T043834
CREATED:20220502T205625Z
LAST-MODIFIED:20220502T205625Z
UID:10001469-1654023600-1654029000@www.napainsight.org
SUMMARY:An Evening with Special Guest\, Syra Smith: Tues 5/31 @ NVIM
DESCRIPTION:NVIM is now meeting at the NVUU in-person and on Zoom\, following a hybrid model\, Tuesdays at 7:00pm. Masking is required for indoor participation. (See Guidelines below) \nThis Tuesday evening we warmly welcome Syra Smith back to NVIM. Syra Smith is an artist\, organizer and mindfulness educator interested in deep ecology and manifesting a culture where we can turn toward fearless abundance and generosity. Presently\, she co-leads the Mid-Day Dharma Collective at SF Insight (Mondays at noon!) and proudly serves as Core Teacher with the San Francisco LGBT Sangha. Also a Community Teacher for East Bay Meditation Center and Founder of Oakland’s Dana Cafe\, Syra teaches Insight Meditation and mindfulness throughout the SF Bay Area and beyond. Learn more about Syra here: http://projectroot.org/syra-smith-meditation.html \nWe will be meeting @ 7:00 pm\, in the sanctuary at Napa Valley Unitarian Universalist (1625 Salvador Ave\, Napa CA). \nIf you prefer\, you can join us via Zoom here: https://us02web.zoom.us/j/85820566332?pwd=M01jd3dUSW40bE5Sam8rcElQN1BUUT09 \nUpdated NVIM In-person COVID Guidelines (April 2022):\n· full vaccination recommended\n· masks required indoors (with the exception of being optional for the teacher while teaching)\n· no beverages allowed indoors (you are welcome to bring your own beverage outdoors during breaks)\n· please stay home if you have any COVID-like symptoms or have tested positive for COVID in the past 10 days \nThe receive the link to our Zoom meeting\, sent out 2 days before the event\, please become a member of NVIM on MeetUp or “sign up” for our newsletter on our website at: www.napainsight.org
URL:https://www.napainsight.org/event/an-evening-with-special-guest-syra-smith-tues-5-31-nvim/
LOCATION:Napa Valley Unitarian Universalists\, 1625 Salvador Ave\, Napa\, CA\, 94559
ATTACH;FMTTYPE=image/jpeg:https://www.napainsight.org/wp-content/uploads/2016/08/Syra-Smith.jpeg
END:VEVENT
END:VCALENDAR