BEGIN:VCALENDAR
VERSION:2.0
PRODID:-//Napa Valley Insight Meditation - ECPv6.15.20//NONSGML v1.0//EN
CALSCALE:GREGORIAN
METHOD:PUBLISH
X-WR-CALNAME:Napa Valley Insight Meditation
X-ORIGINAL-URL:https://www.napainsight.org
X-WR-CALDESC:Events for Napa Valley Insight Meditation
REFRESH-INTERVAL;VALUE=DURATION:PT1H
X-Robots-Tag:noindex
X-PUBLISHED-TTL:PT1H
BEGIN:VTIMEZONE
TZID:America/Los_Angeles
BEGIN:DAYLIGHT
TZOFFSETFROM:-0800
TZOFFSETTO:-0700
TZNAME:PDT
DTSTART:20210314T100000
END:DAYLIGHT
BEGIN:STANDARD
TZOFFSETFROM:-0700
TZOFFSETTO:-0800
TZNAME:PST
DTSTART:20211107T090000
END:STANDARD
BEGIN:DAYLIGHT
TZOFFSETFROM:-0800
TZOFFSETTO:-0700
TZNAME:PDT
DTSTART:20220313T100000
END:DAYLIGHT
BEGIN:STANDARD
TZOFFSETFROM:-0700
TZOFFSETTO:-0800
TZNAME:PST
DTSTART:20221106T090000
END:STANDARD
BEGIN:DAYLIGHT
TZOFFSETFROM:-0800
TZOFFSETTO:-0700
TZNAME:PDT
DTSTART:20230312T100000
END:DAYLIGHT
BEGIN:STANDARD
TZOFFSETFROM:-0700
TZOFFSETTO:-0800
TZNAME:PST
DTSTART:20231105T090000
END:STANDARD
END:VTIMEZONE
BEGIN:VEVENT
DTSTART;TZID=America/Los_Angeles:20220202T190000
DTEND;TZID=America/Los_Angeles:20220202T200000
DTSTAMP:20260423T091214
CREATED:20220117T002135Z
LAST-MODIFIED:20220117T002307Z
UID:10001455-1643828400-1643832000@www.napainsight.org
SUMMARY:An Evening with Forrest Hill online
DESCRIPTION:Please join us this Tuesday evening at 7:00pm for an on-line discussion and meditation via Zoom with Mike Coughlin. \nForrest has been practicing Insight Meditation since 2004 and is a founding member of Napa Valley Insight Meditation. He is a gratduate of the the 2 year Community Dharma Leaders Program at Spirit Rock Meditation Center. \nJoin Zoom Meeting: https://us02web.zoom.us/j/86476064826?pwd=U01VcEVpeXJmUVRQcXVPa3VBaWZZUT09 \n 
URL:https://www.napainsight.org/event/an-evening-with-forrest-hill-online/
ATTACH;FMTTYPE=image/jpeg:https://www.napainsight.org/wp-content/uploads/2020/01/Blog-2-Forrest-e1726587468843.jpg
END:VEVENT
BEGIN:VEVENT
DTSTART;TZID=America/Los_Angeles:20220208T190000
DTEND;TZID=America/Los_Angeles:20220208T203000
DTSTAMP:20260423T091214
CREATED:20220117T000754Z
LAST-MODIFIED:20220117T000828Z
UID:10001452-1644346800-1644352200@www.napainsight.org
SUMMARY:An Evening with Mike Coughlin online
DESCRIPTION:Please join us this Tuesday evening at 7:00pm for an on-line discussion and meditation via Zoom with Mike Coughlin. \nMike is a public school administrator\, trained mediator\, and has been practicing mindfulness in the vipassana tradition for 15 years. He has received training through Spirit Rock Meditation Center\, Mindful Schools and is a Certified Mindfulness Facilitator through the Semel Institute for Neuroscience & Human Behavior at the University of California\, Los Angeles. Mike has over 20 years of experience working with high-risk youth\, most specifically in residential and day treatment programs\, as well as years of mediation experience in Alternative Dispute Resolution. \nJoin Zoom Meeting: https://us02web.zoom.us/j/86476064826?pwd=U01VcEVpeXJmUVRQcXVPa3VBaWZZUT09
URL:https://www.napainsight.org/event/an-evening-with-mike-coughlin-online-3/
ATTACH;FMTTYPE=image/jpeg:https://www.napainsight.org/wp-content/uploads/2020/01/Mike-Coughlin2-e1726587384348.jpg
END:VEVENT
BEGIN:VEVENT
DTSTART;TZID=America/Los_Angeles:20220215T190000
DTEND;TZID=America/Los_Angeles:20220215T203000
DTSTAMP:20260423T091214
CREATED:20220117T001010Z
LAST-MODIFIED:20220117T001010Z
UID:10001453-1644951600-1644957000@www.napainsight.org
SUMMARY:Meditation and Discussion with Fresh "Lev" White Online
DESCRIPTION:NVIM warmly welcomes Lev back to our sangha. Lev is a love and compassion activist. He offers mindfulness\, coaching\, mediation\, and diversity trainings as tools for shifting towards more authentic\, conscious and passionate living. He teaches and writes about how love and self-compassion are the ultimate gateways to loving and understanding others; thus\, healing our communities\, and planet. Lev is also co-author of Real World Mindfulness for Beginners\, Ed. with Brenda Salgado and is mindfully grounded at the East Bay Meditation Center\, as well as a graduate of Spirit Rock’s Community Dharma Leadership program. Learn more about Lev here: https://affirmativeacts.org/about-us/ \nPlease join us Tuesday evenings at 7:00pm for discussion\, music and meditation via Zoom: https://us02web.zoom.us/j/86476064826?pwd=U01VcEVpeXJmUVRQcXVPa3VBaWZZUT09
URL:https://www.napainsight.org/event/meditation-and-discussion-with-fresh-lev-white-online/
ATTACH;FMTTYPE=image/jpeg:https://www.napainsight.org/wp-content/uploads/2021/11/Fresh-Lev-White.jpg
END:VEVENT
BEGIN:VEVENT
DTSTART;TZID=America/Los_Angeles:20220222T190000
DTEND;TZID=America/Los_Angeles:20220222T203000
DTSTAMP:20260423T091214
CREATED:20220117T001441Z
LAST-MODIFIED:20220117T002346Z
UID:10001454-1645556400-1645561800@www.napainsight.org
SUMMARY:An evenng with Debbie Darrin Online
DESCRIPTION:Please join us this Tuesday evening at 7:00pm for an on-line discussion and meditation via Zoom with Debbie Darrin. \nDebbie has explored various aspects of mindfulness and meditation since the early 1980’s. In 2014 she began attending Napa Valley Insight Meditation sangha\, became an active member on the NVIM board in 2017 and facilitates the NVIM Thursday morning silent meditation. In 2021 she graduated from the 2-year Mindfulness Meditation Teacher Certification Program developed and offered by Jack Kornfield and Tara Brach. Debbie. She believes that the heart practices of lovingkindness\, compassion\, joy and equanimity play a significant role in balancing\, healing and navigating a complex world. \nJoin Zoom Meeting: https://us02web.zoom.us/j/86476064826?pwd=U01VcEVpeXJmUVRQcXVPa3VBaWZZUT09
URL:https://www.napainsight.org/event/an-evenng-with-debbie-darrin-online/
ATTACH;FMTTYPE=image/jpeg:https://www.napainsight.org/wp-content/uploads/2022/01/Debbie-Darrin-e1642378457830.jpg
END:VEVENT
END:VCALENDAR