BEGIN:VCALENDAR
VERSION:2.0
PRODID:-//Napa Valley Insight Meditation - ECPv6.15.20//NONSGML v1.0//EN
CALSCALE:GREGORIAN
METHOD:PUBLISH
X-ORIGINAL-URL:https://www.napainsight.org
X-WR-CALDESC:Events for Napa Valley Insight Meditation
REFRESH-INTERVAL;VALUE=DURATION:PT1H
X-Robots-Tag:noindex
X-PUBLISHED-TTL:PT1H
BEGIN:VTIMEZONE
TZID:America/Los_Angeles
BEGIN:DAYLIGHT
TZOFFSETFROM:-0800
TZOFFSETTO:-0700
TZNAME:PDT
DTSTART:20210314T100000
END:DAYLIGHT
BEGIN:STANDARD
TZOFFSETFROM:-0700
TZOFFSETTO:-0800
TZNAME:PST
DTSTART:20211107T090000
END:STANDARD
BEGIN:DAYLIGHT
TZOFFSETFROM:-0800
TZOFFSETTO:-0700
TZNAME:PDT
DTSTART:20220313T100000
END:DAYLIGHT
BEGIN:STANDARD
TZOFFSETFROM:-0700
TZOFFSETTO:-0800
TZNAME:PST
DTSTART:20221106T090000
END:STANDARD
BEGIN:DAYLIGHT
TZOFFSETFROM:-0800
TZOFFSETTO:-0700
TZNAME:PDT
DTSTART:20230312T100000
END:DAYLIGHT
BEGIN:STANDARD
TZOFFSETFROM:-0700
TZOFFSETTO:-0800
TZNAME:PST
DTSTART:20231105T090000
END:STANDARD
END:VTIMEZONE
BEGIN:VEVENT
DTSTART;TZID=America/Los_Angeles:20220104T190000
DTEND;TZID=America/Los_Angeles:20220104T203000
DTSTAMP:20260423T102941
CREATED:20211109T211703Z
LAST-MODIFIED:20211109T211703Z
UID:10001448-1641322800-1641328200@www.napainsight.org
SUMMARY:An Online Evening with Fresh "Lev" White
DESCRIPTION:NVIM warmly welcomes Lev back to our sangha. Lev is a love and compassion activist. He offers mindfulness\, coaching\, mediation\, and diversity trainings as tools for shifting towards more authentic\, conscious and passionate living. He teaches and writes about how love and self-compassion are the ultimate gateways to loving and understanding others; thus\, healing our communities\, and planet. Lev is also co-author of Real World Mindfulness for Beginners\, Ed. with Brenda Salgado and is mindfully grounded at the East Bay Meditation Center\, as well as a graduate of Spirit Rock’s Community Dharma Leadership program. Learn more about Lev here: https://affirmativeacts.org/about-us/ \nPlease join us Tuesday evenings at 7:00pm for discussion\, music and meditation via Zoom: https://us02web.zoom.us/j/86476064826?pwd=U01VcEVpeXJmUVRQcXVPa3VBaWZZUT09
URL:https://www.napainsight.org/event/an-online-evening-with-fresh-lev-white-4/
ATTACH;FMTTYPE=image/jpeg:https://www.napainsight.org/wp-content/uploads/2021/11/Fresh-Lev-White.jpg
END:VEVENT
BEGIN:VEVENT
DTSTART;TZID=America/Los_Angeles:20220111T190000
DTEND;TZID=America/Los_Angeles:20220111T203000
DTSTAMP:20260423T102942
CREATED:20211109T211902Z
LAST-MODIFIED:20211109T211902Z
UID:10001449-1641927600-1641933000@www.napainsight.org
SUMMARY:An evening with Mike Coughlin Online
DESCRIPTION:Please join us this Tuesday evening at 7:00pm for an on-line discussion and meditation via Zoom with Mike Coughlin. \nMike is a public school administrator\, trained mediator\, and has been practicing mindfulness in the vipassana tradition for 15 years. He has received training through Spirit Rock Meditation Center\, Mindful Schools and is a Certified Mindfulness Facilitator through the Semel Institute for Neuroscience & Human Behavior at the University of California\, Los Angeles. Mike has over 20 years of experience working with high-risk youth\, most specifically in residential and day treatment programs\, as well as years of mediation experience in Alternative Dispute Resolution. \nJoin Zoom Meeting: https://us02web.zoom.us/j/86476064826?pwd=U01VcEVpeXJmUVRQcXVPa3VBaWZZUT09
URL:https://www.napainsight.org/event/an-evening-with-mike-coughlin-online-2/
ATTACH;FMTTYPE=image/jpeg:https://www.napainsight.org/wp-content/uploads/2020/01/Mike-Coughlin2-e1726587384348.jpg
END:VEVENT
BEGIN:VEVENT
DTSTART;TZID=America/Los_Angeles:20220118T190000
DTEND;TZID=America/Los_Angeles:20220118T203000
DTSTAMP:20260423T102942
CREATED:20211109T212124Z
LAST-MODIFIED:20211109T212512Z
UID:10001450-1642532400-1642537800@www.napainsight.org
SUMMARY:An Online Evening with Matthew Brensilver
DESCRIPTION:NVIM warmly welcomes Matthew Brensilver\, PhD back to our sangha. Matthew began practice in the Tibetan tradition\, and since 2003 has studied with Shinzen Young. He served as a Buddhist chaplain at USC for four years and teaches about the intersection of mindfulness and mental health at UCLA’s Mindful Awareness Research Center and with Mindful Schools.He completed the Spirit Rock/IMS teacher training program (2016) and regularly offers retreats at Spirit Rock and the Insight Retreat Center. He spent years doing research on addiction treatment at the UCLA Center for Behavioral and Addiction Medicine and continues to be interested in the unfolding dialogue between dharma and science. \nPlease join us Tuesday evenings at 7:00pm for discussion\, music and meditation via Zoom: https://us02web.zoom.us/j/86476064826?pwd=U01VcEVpeXJmUVRQcXVPa3VBaWZZUT09
URL:https://www.napainsight.org/event/an-online-evening-with-matthew-brensilver/
ATTACH;FMTTYPE=image/jpeg:https://www.napainsight.org/wp-content/uploads/2018/10/Mathew-Brensilver.jpg
END:VEVENT
BEGIN:VEVENT
DTSTART;TZID=America/Los_Angeles:20220125T190000
DTEND;TZID=America/Los_Angeles:20220125T203000
DTSTAMP:20260423T102942
CREATED:20211109T212652Z
LAST-MODIFIED:20211109T212652Z
UID:10001451-1643137200-1643142600@www.napainsight.org
SUMMARY:An Online Evening With Kevin Griffin
DESCRIPTION:We warmly welcome Kevin Griffin back to NVIM this month. Kevin is an author\, longtime Buddhist practitioner who trained as a Community Dharma Leader at Spirit Rock\, and innovator in the field of addiction treatment. His newest book is Buddhism & the Twelve Steps: Daily Reflections – Thoughts on Dharma and Recovery. Learn more about Kevin and his books here: https://www.kevingriffin.net/ \nPlease join us Tuesday evenings at 7:00pm for discussion\, music and meditation via Zoom: https://us02web.zoom.us/j/86476064826?pwd=U01VcEVpeXJmUVRQcXVPa3VBaWZZUT09
URL:https://www.napainsight.org/event/an-online-evening-with-kevin-griffin-2/
ATTACH;FMTTYPE=image/jpeg:https://www.napainsight.org/wp-content/uploads/2021/06/Kevin-Griffin2.jpg
END:VEVENT
END:VCALENDAR