BEGIN:VCALENDAR
VERSION:2.0
PRODID:-//Napa Valley Insight Meditation - ECPv6.15.20//NONSGML v1.0//EN
CALSCALE:GREGORIAN
METHOD:PUBLISH
X-ORIGINAL-URL:https://www.napainsight.org
X-WR-CALDESC:Events for Napa Valley Insight Meditation
REFRESH-INTERVAL;VALUE=DURATION:PT1H
X-Robots-Tag:noindex
X-PUBLISHED-TTL:PT1H
BEGIN:VTIMEZONE
TZID:America/Los_Angeles
BEGIN:DAYLIGHT
TZOFFSETFROM:-0800
TZOFFSETTO:-0700
TZNAME:PDT
DTSTART:20200308T100000
END:DAYLIGHT
BEGIN:STANDARD
TZOFFSETFROM:-0700
TZOFFSETTO:-0800
TZNAME:PST
DTSTART:20201101T090000
END:STANDARD
BEGIN:DAYLIGHT
TZOFFSETFROM:-0800
TZOFFSETTO:-0700
TZNAME:PDT
DTSTART:20210314T100000
END:DAYLIGHT
BEGIN:STANDARD
TZOFFSETFROM:-0700
TZOFFSETTO:-0800
TZNAME:PST
DTSTART:20211107T090000
END:STANDARD
BEGIN:DAYLIGHT
TZOFFSETFROM:-0800
TZOFFSETTO:-0700
TZNAME:PDT
DTSTART:20220313T100000
END:DAYLIGHT
BEGIN:STANDARD
TZOFFSETFROM:-0700
TZOFFSETTO:-0800
TZNAME:PST
DTSTART:20221106T090000
END:STANDARD
END:VTIMEZONE
BEGIN:VEVENT
DTSTART;TZID=America/Los_Angeles:20211207T190000
DTEND;TZID=America/Los_Angeles:20211207T203000
DTSTAMP:20260423T115158
CREATED:20211109T205405Z
LAST-MODIFIED:20211109T205405Z
UID:10001443-1638903600-1638909000@www.napainsight.org
SUMMARY:An Online Evening with Fresh "Lev" White
DESCRIPTION:NVIM warmly welcomes Lev back to our sangha. Lev is a love and compassion activist. He offers mindfulness\, coaching\, mediation\, and diversity trainings as tools for shifting towards more authentic\, conscious and passionate living. He teaches and writes about how love and self-compassion are the ultimate gateways to loving and understanding others; thus\, healing our communities\, and planet. Lev is also co-author of Real World Mindfulness for Beginners\, Ed. with Brenda Salgado and is mindfully grounded at the East Bay Meditation Center\, as well as a graduate of Spirit Rock’s Community Dharma Leadership program. Learn more about Lev here: https://affirmativeacts.org/about-us/ \nPlease join us Tuesday evenings at 7:00pm for discussion\, music and meditation via Zoom: https://us02web.zoom.us/j/86476064826?pwd=U01VcEVpeXJmUVRQcXVPa3VBaWZZUT09
URL:https://www.napainsight.org/event/an-online-evening-with-fresh-lev-white-3/
ATTACH;FMTTYPE=image/jpeg:https://www.napainsight.org/wp-content/uploads/2021/11/Fresh-Lev-White-2-e1636491231621.jpeg
END:VEVENT
BEGIN:VEVENT
DTSTART;TZID=America/Los_Angeles:20211214T190000
DTEND;TZID=America/Los_Angeles:20211214T203000
DTSTAMP:20260423T115158
CREATED:20211109T210220Z
LAST-MODIFIED:20211109T210220Z
UID:10001445-1639508400-1639513800@www.napainsight.org
SUMMARY:An Online Evening with Dawn Scott
DESCRIPTION:This evening\, Napa Valley Insight Meditation welcomes back insight meditatin teacher Dawn Scott. \nDawn has been practicing Insight Meditation since 2008 and served as the Family Program Coordinator for eight years at Spirit Rock Meditation Center. She is a graduate of the Insight Meditation Society’s 2017 – 2021 teacher training program\, a co-principal teacher of Marin Sangha\, and is a core teacher of Spirit Rock’s Liberation\, Emptiness\, and Awareness Practices (LEAP) Program and the Barre Center for Buddhist Studies and Insight Meditation’s joint program\, Exploring the Heart of Freedom. Dawn has a deep love of long retreat practice and the Buddha’s liberative teachings. \nPlease join us Tuesday evenings at 7:00pm for discussion\, music and meditation via Zoom: https://us02web.zoom.us/j/86476064826?pwd=U01VcEVpeXJmUVRQcXVPa3VBaWZZUT09
URL:https://www.napainsight.org/event/an-online-evening-with-dawn-scott/
ATTACH;FMTTYPE=image/jpeg:https://www.napainsight.org/wp-content/uploads/2018/06/dawn-scott.jpg
END:VEVENT
BEGIN:VEVENT
DTSTART;TZID=America/Los_Angeles:20211221T190000
DTEND;TZID=America/Los_Angeles:20211221T203000
DTSTAMP:20260423T115158
CREATED:20211109T210426Z
LAST-MODIFIED:20211109T211432Z
UID:10001446-1640113200-1640118600@www.napainsight.org
SUMMARY:Winter Break - No Meeting Tonight
DESCRIPTION:“The more we care for the happiness of others\, the greater is our own sense of well being.” ~ -His Holiness the Dalai Lama XIV
URL:https://www.napainsight.org/event/winter-break-no-meeting-tonight/
ATTACH;FMTTYPE=image/jpeg:https://www.napainsight.org/wp-content/uploads/2021/11/Buddhist-Christmas-e1636491970117.jpg
END:VEVENT
BEGIN:VEVENT
DTSTART;TZID=America/Los_Angeles:20211228T190000
DTEND;TZID=America/Los_Angeles:20211228T200000
DTSTAMP:20260423T115158
CREATED:20211109T211410Z
LAST-MODIFIED:20211109T211410Z
UID:10001447-1640718000-1640721600@www.napainsight.org
SUMMARY:Winter Break - No Meeting Tonight
DESCRIPTION:Peace comes from within. Do not seek it without. Happy New Year!
URL:https://www.napainsight.org/event/winter-break-no-meeting-tonight-2/
ATTACH;FMTTYPE=image/jpeg:https://www.napainsight.org/wp-content/uploads/2015/08/Faith-e1441036933806.jpg
END:VEVENT
END:VCALENDAR