BEGIN:VCALENDAR
VERSION:2.0
PRODID:-//Napa Valley Insight Meditation - ECPv6.15.20//NONSGML v1.0//EN
CALSCALE:GREGORIAN
METHOD:PUBLISH
X-ORIGINAL-URL:https://www.napainsight.org
X-WR-CALDESC:Events for Napa Valley Insight Meditation
REFRESH-INTERVAL;VALUE=DURATION:PT1H
X-Robots-Tag:noindex
X-PUBLISHED-TTL:PT1H
BEGIN:VTIMEZONE
TZID:America/Los_Angeles
BEGIN:DAYLIGHT
TZOFFSETFROM:-0800
TZOFFSETTO:-0700
TZNAME:PDT
DTSTART:20200308T100000
END:DAYLIGHT
BEGIN:STANDARD
TZOFFSETFROM:-0700
TZOFFSETTO:-0800
TZNAME:PST
DTSTART:20201101T090000
END:STANDARD
BEGIN:DAYLIGHT
TZOFFSETFROM:-0800
TZOFFSETTO:-0700
TZNAME:PDT
DTSTART:20210314T100000
END:DAYLIGHT
BEGIN:STANDARD
TZOFFSETFROM:-0700
TZOFFSETTO:-0800
TZNAME:PST
DTSTART:20211107T090000
END:STANDARD
BEGIN:DAYLIGHT
TZOFFSETFROM:-0800
TZOFFSETTO:-0700
TZNAME:PDT
DTSTART:20220313T100000
END:DAYLIGHT
BEGIN:STANDARD
TZOFFSETFROM:-0700
TZOFFSETTO:-0800
TZNAME:PST
DTSTART:20221106T090000
END:STANDARD
END:VTIMEZONE
BEGIN:VEVENT
DTSTART;TZID=America/Los_Angeles:20211102T190000
DTEND;TZID=America/Los_Angeles:20211102T203000
DTSTAMP:20260423T132556
CREATED:20210929T170644Z
LAST-MODIFIED:20211004T190637Z
UID:10001439-1635879600-1635885000@www.napainsight.org
SUMMARY:An Online Evening with Special Guest: Richard Shankman
DESCRIPTION:Richard Shankman has been a meditator since 1970 and teaches internationally. He is the guiding teacher of the Metta Dharma Foundation\, a non-residential meditation center in Berkeley\, CA that offers a weekly meditation group\, as well as monthly daylongs\, classes\, workshops\, and residential retreats. Richard is the co-founder of Mindful Schools\, a leading organization training educators to learn mindfulness and teach it to youth. He is also co-founder of the Sati Center for Buddhist Studies. Richard is the author of The Experience of Samadhi: An In-Depth Investigation of Buddhist Meditation (Shambhala Publications\, 2008)\, and The Art and Skill of Buddhist Meditation (New Harbinger Publications\, 2015). Learn more about Richard at: http://richardshankman.org/about/ \nJon Zoom Meeting: https://us02web.zoom.us/j/86476064826?pwd=U01VcEVpeXJmUVRQcXVPa3VBaWZZUT09
URL:https://www.napainsight.org/event/an-online-evening-with-special-guest-richard-shankman/
ATTACH;FMTTYPE=image/jpeg:https://www.napainsight.org/wp-content/uploads/2016/07/richard-Shankman.jpg
END:VEVENT
BEGIN:VEVENT
DTSTART;TZID=America/Los_Angeles:20211109T190000
DTEND;TZID=America/Los_Angeles:20211109T203000
DTSTAMP:20260423T132556
CREATED:20210929T170808Z
LAST-MODIFIED:20211004T190504Z
UID:10001440-1636484400-1636489800@www.napainsight.org
SUMMARY:An Online Evening with Fresh "Lev" White
DESCRIPTION:NVIM warmly welcomes Lev back to our sangha. Lev is a love and compassion activist. He offers mindfulness\, coaching\, mediation\, and diversity trainings as tools for shifting towards more authentic\, conscious and passionate living. He teaches and writes about how love and self-compassion are the ultimate gateways to loving and understanding others; thus\, healing our communities\, and planet. Lev is also co-author of Real World Mindfulness for Beginners\, Ed. with Brenda Salgado and is mindfully grounded at the East Bay Meditation Center\, as well as a graduate of Spirit Rock’s Community Dharma Leadership program. Learn more about Lev here: https://affirmativeacts.org/about-us/ \nJoin Zoom Meeting: https://us02web.zoom.us/j/86476064826?pwd=U01VcEVpeXJmUVRQcXVPa3VBaWZZUT09
URL:https://www.napainsight.org/event/an-online-evening-with-fresh-lev-white-2/
ATTACH;FMTTYPE=image/jpeg:https://www.napainsight.org/wp-content/uploads/2020/04/Lev-Fresh-White-200px.jpg
END:VEVENT
BEGIN:VEVENT
DTSTART;TZID=America/Los_Angeles:20211116T190000
DTEND;TZID=America/Los_Angeles:20211116T203000
DTSTAMP:20260423T132556
CREATED:20211109T203713Z
LAST-MODIFIED:20211109T203759Z
UID:10001441-1637089200-1637094600@www.napainsight.org
SUMMARY:An evening with Mike Coughlin online
DESCRIPTION:Please join us this Tuesday evening at 7:00pm for an on-line discussion and meditation via Zoom with Mike Coughlin. \nMike is a public school administrator\, trained mediator\, and has been practicing mindfulness in the vipassana tradition for 15 years. He has received training through Spirit Rock Meditation Center\, Mindful Schools and is a Certified Mindfulness Facilitator through the Semel Institute for Neuroscience & Human Behavior at the University of California\, Los Angeles. Mike has over 20 years of experience working with high-risk youth\, most specifically in residential and day treatment programs\, as well as years of mediation experience in Alternative Dispute Resolution. \nJoin Zoom Meeting: https://us02web.zoom.us/j/86476064826?pwd=U01VcEVpeXJmUVRQcXVPa3VBaWZZUT09
URL:https://www.napainsight.org/event/an-evening-with-mike-coughlin-online/
ATTACH;FMTTYPE=image/jpeg:https://www.napainsight.org/wp-content/uploads/2020/01/Mike-Coughlin2-e1726587384348.jpg
END:VEVENT
BEGIN:VEVENT
DTSTART;TZID=America/Los_Angeles:20211123T190000
DTEND;TZID=America/Los_Angeles:20211123T203000
DTSTAMP:20260423T132556
CREATED:20211109T204522Z
LAST-MODIFIED:20211109T204522Z
UID:10001442-1637694000-1637699400@www.napainsight.org
SUMMARY:Thanksgiving Break - No Meeting Tonight
DESCRIPTION:During this thanksgiving week we pause to reflect on all the benefits our practice has brought us in life. May the fruit of our practice be for the benefit of all beings. May peace and compassion fill the earth and may it begin with each one of us living in gratitude.
URL:https://www.napainsight.org/event/thanksgiving-break-no-meeting-tonight/
ATTACH;FMTTYPE=image/jpeg:https://www.napainsight.org/wp-content/uploads/2021/06/Reflecting-Lotus.jpg
END:VEVENT
BEGIN:VEVENT
DTSTART;TZID=America/Los_Angeles:20211130T190000
DTEND;TZID=America/Los_Angeles:20211130T203000
DTSTAMP:20260423T132556
CREATED:20211109T204739Z
LAST-MODIFIED:20211109T204851Z
UID:10001444-1638298800-1638304200@www.napainsight.org
SUMMARY:An Online Evening With Kevin Griffin
DESCRIPTION:We warmly welcome Kevin Griffin back to NVIM this month. Kevin is an author\, longtime Buddhist practitioner who trained as a Community Dharma Leader at Spirit Rock\, and innovator in the field of addiction treatment. His newest book is Buddhism & the Twelve Steps: Daily Reflections – Thoughts on Dharma and Recovery. Learn more about Kevin and his books here: https://www.kevingriffin.net/ \nPlease join us Tuesday evenings at 7:00pm for discussion\, music and meditation via Zoom: https://us02web.zoom.us/j/86476064826?pwd=U01VcEVpeXJmUVRQcXVPa3VBaWZZUT09
URL:https://www.napainsight.org/event/an-online-evening-with-kevin-griffin/
ATTACH;FMTTYPE=image/jpeg:https://www.napainsight.org/wp-content/uploads/2021/06/Kevin-Griffin2.jpg
END:VEVENT
END:VCALENDAR