BEGIN:VCALENDAR
VERSION:2.0
PRODID:-//Napa Valley Insight Meditation - ECPv6.15.20//NONSGML v1.0//EN
CALSCALE:GREGORIAN
METHOD:PUBLISH
X-WR-CALNAME:Napa Valley Insight Meditation
X-ORIGINAL-URL:https://www.napainsight.org
X-WR-CALDESC:Events for Napa Valley Insight Meditation
REFRESH-INTERVAL;VALUE=DURATION:PT1H
X-Robots-Tag:noindex
X-PUBLISHED-TTL:PT1H
BEGIN:VTIMEZONE
TZID:America/Los_Angeles
BEGIN:DAYLIGHT
TZOFFSETFROM:-0800
TZOFFSETTO:-0700
TZNAME:PDT
DTSTART:20200308T100000
END:DAYLIGHT
BEGIN:STANDARD
TZOFFSETFROM:-0700
TZOFFSETTO:-0800
TZNAME:PST
DTSTART:20201101T090000
END:STANDARD
BEGIN:DAYLIGHT
TZOFFSETFROM:-0800
TZOFFSETTO:-0700
TZNAME:PDT
DTSTART:20210314T100000
END:DAYLIGHT
BEGIN:STANDARD
TZOFFSETFROM:-0700
TZOFFSETTO:-0800
TZNAME:PST
DTSTART:20211107T090000
END:STANDARD
BEGIN:DAYLIGHT
TZOFFSETFROM:-0800
TZOFFSETTO:-0700
TZNAME:PDT
DTSTART:20220313T100000
END:DAYLIGHT
BEGIN:STANDARD
TZOFFSETFROM:-0700
TZOFFSETTO:-0800
TZNAME:PST
DTSTART:20221106T090000
END:STANDARD
END:VTIMEZONE
BEGIN:VEVENT
DTSTART;TZID=America/Los_Angeles:20211005T190000
DTEND;TZID=America/Los_Angeles:20211005T203000
DTSTAMP:20260423T144404
CREATED:20210929T165937Z
LAST-MODIFIED:20211004T190548Z
UID:10001435-1633460400-1633465800@www.napainsight.org
SUMMARY:An Online Evening with Special Guest: Jill Satterfield
DESCRIPTION:Jill Satterfield is an international mindfulness and meditation teacher\, consultant and mentor. Her integration of embodied mindfulness and meditation includes somatic practices and contemplative psychology along with 35 years of Buddhist practice and silent retreats. She has been teaching for decades in hospitals\, trauma centers\, addiction institutes\, at risk youth facilities\, corporations and meditation centers with the intention of empowering and inspiring people from all walks of life\, backgrounds and dispositions. \nJill’s dedication to understanding her own mind and body and creating accessible\, practical contemplative practices are rooted in the body. This came by way of multiple surgeries\, years of chronic pain and the marginalization that often comes from a condition not being recognized. She has practiced on over 150 silent meditation retreats – in monasteries\, meditation communities and in isolation. She was named “one of the 4 leading (mindful movement) and Buddhist teachers in the country” by Shambhala Sun (now Lion’s Roar) Magazine. \nTo learn more about Jill go to: https://jillsatterfield.org/ \nJon Zoom Meeting: https://us02web.zoom.us/j/86476064826?pwd=U01VcEVpeXJmUVRQcXVPa3VBaWZZUT09
URL:https://www.napainsight.org/event/an-online-evening-with-special-guest-jill-satterfield/
ATTACH;FMTTYPE=image/jpeg:https://www.napainsight.org/wp-content/uploads/2017/07/jill_-satterfield.jpg
END:VEVENT
BEGIN:VEVENT
DTSTART;TZID=America/Los_Angeles:20211012T183000
DTEND;TZID=America/Los_Angeles:20211012T193000
DTSTAMP:20260423T144404
CREATED:20210929T170107Z
LAST-MODIFIED:20211007T035111Z
UID:10001436-1634063400-1634067000@www.napainsight.org
SUMMARY:6:30pm Outdoor "Sunset Sangha" with Mike Coughlin
DESCRIPTION:NVIM will continue to offer one or two outdoor sangha gatherings in the month of October (air quality permitting). Please join us from 6:00pm to 7:00pm (time subject to change) for one hour of meditation and reflections. The weeks we are not in-person outdoors\, we will meet online on Zoom. \nWhat to Bring:\nBring your own chair\, water/drink\, and blankets. Please dress in warm layers as temperatures can cool down at night. Masks are required for those who are unvaccinated. Masks are required indoors for all / if you go indoors to use the restrooms. \nAll are welcome!
URL:https://www.napainsight.org/event/outdoor-sangha-start-time-to-be-determined/
LOCATION:Napa Valley Unitarian Universalists\, 1625 Salvador Ave\, Napa\, CA\, 94559
ATTACH;FMTTYPE=image/jpeg:https://www.napainsight.org/wp-content/uploads/2021/06/Reflecting-Lotus.jpg
END:VEVENT
BEGIN:VEVENT
DTSTART;TZID=America/Los_Angeles:20211019T190000
DTEND;TZID=America/Los_Angeles:20211019T203000
DTSTAMP:20260423T144404
CREATED:20210929T170239Z
LAST-MODIFIED:20211004T190618Z
UID:10001437-1634670000-1634675400@www.napainsight.org
SUMMARY:An Online Evening with Fresh "Lev" White
DESCRIPTION:NVIM warmly welcomes Lev back to our sangha. Lev is a love and compassion activist. He offers mindfulness\, coaching\, mediation\, and diversity trainings as tools for shifting towards more authentic\, conscious and passionate living. He teaches and writes about how love and self-compassion are the ultimate gateways to loving and understanding others; thus\, healing our communities\, and planet. Lev is also co-author of Real World Mindfulness for Beginners\, Ed. with Brenda Salgado and is mindfully grounded at the East Bay Meditation Center\, as well as a graduate of Spirit Rock’s Community Dharma Leadership program. Learn more about Lev here: https://affirmativeacts.org/about-us/ \nJon Zoom Meeting: https://us02web.zoom.us/j/86476064826?pwd=U01VcEVpeXJmUVRQcXVPa3VBaWZZUT09
URL:https://www.napainsight.org/event/an-online-evening-with-fresh-lev-white/
ATTACH;FMTTYPE=image/jpeg:https://www.napainsight.org/wp-content/uploads/2020/04/Lev-Fresh-White-200px.jpg
END:VEVENT
BEGIN:VEVENT
DTSTART;TZID=America/Los_Angeles:20211026T183000
DTEND;TZID=America/Los_Angeles:20211026T193000
DTSTAMP:20260423T144404
CREATED:20210929T170404Z
LAST-MODIFIED:20211018T032537Z
UID:10001438-1635273000-1635276600@www.napainsight.org
SUMMARY:6:30pm Outdoor "Sunset Sangha" with Lori Stelling
DESCRIPTION:NVIM will continue to offer one or two outdoor sangha gatherings in the month of October (air quality permitting). Please join us from 6:00pm to 7:00pm (time subject to change) for one hour of meditation and reflections. The weeks we are not in-person outdoors\, we will meet online on Zoom. \nWhat to Bring:\nBring your own chair\, water/drink\, and blankets. Please dress in warm layers as temperatures can cool down at night. Masks are required for those who are unvaccinated. Masks are required indoors for all / if you go indoors to use the restrooms. \nAll are welcome!
URL:https://www.napainsight.org/event/outdoor-sangha-time-to-be-determined/
LOCATION:Napa Valley Unitarian Universalists\, 1625 Salvador Ave\, Napa\, CA\, 94559
ATTACH;FMTTYPE=image/jpeg:https://www.napainsight.org/wp-content/uploads/2021/06/Reflecting-Lotus.jpg
END:VEVENT
END:VCALENDAR