BEGIN:VCALENDAR
VERSION:2.0
PRODID:-//Napa Valley Insight Meditation - ECPv6.15.20//NONSGML v1.0//EN
CALSCALE:GREGORIAN
METHOD:PUBLISH
X-ORIGINAL-URL:https://www.napainsight.org
X-WR-CALDESC:Events for Napa Valley Insight Meditation
REFRESH-INTERVAL;VALUE=DURATION:PT1H
X-Robots-Tag:noindex
X-PUBLISHED-TTL:PT1H
BEGIN:VTIMEZONE
TZID:America/Los_Angeles
BEGIN:DAYLIGHT
TZOFFSETFROM:-0800
TZOFFSETTO:-0700
TZNAME:PDT
DTSTART:20200308T100000
END:DAYLIGHT
BEGIN:STANDARD
TZOFFSETFROM:-0700
TZOFFSETTO:-0800
TZNAME:PST
DTSTART:20201101T090000
END:STANDARD
BEGIN:DAYLIGHT
TZOFFSETFROM:-0800
TZOFFSETTO:-0700
TZNAME:PDT
DTSTART:20210314T100000
END:DAYLIGHT
BEGIN:STANDARD
TZOFFSETFROM:-0700
TZOFFSETTO:-0800
TZNAME:PST
DTSTART:20211107T090000
END:STANDARD
BEGIN:DAYLIGHT
TZOFFSETFROM:-0800
TZOFFSETTO:-0700
TZNAME:PDT
DTSTART:20220313T100000
END:DAYLIGHT
BEGIN:STANDARD
TZOFFSETFROM:-0700
TZOFFSETTO:-0800
TZNAME:PST
DTSTART:20221106T090000
END:STANDARD
END:VTIMEZONE
BEGIN:VEVENT
DTSTART;TZID=America/Los_Angeles:20210706T190000
DTEND;TZID=America/Los_Angeles:20210706T203000
DTSTAMP:20260423T190411
CREATED:20210608T022045Z
LAST-MODIFIED:20210608T022955Z
UID:10001202-1625598000-1625603400@www.napainsight.org
SUMMARY:The 8 Fold Path of Practice: An Online Evening with Kevin Griffin
DESCRIPTION:On Tuesday July 6th\, Napa Valley Insight Meditation will host a talk by Kevin Griffin\, online via Zoom. \nKevin returns this month to continue sharing one-Tuesday-a-month with our sangha while Forrest is on sabbatical\, offering teachings on the 8-Fold Path of Practice. Kevin Griffin is an author\, longtime Buddhist practitioner who trained as a Community Dharma Leader at Spirit Rock\, and innovator in the field of addiction treatment. His newest book is Buddhism & the Twelve Steps: Daily Reflections – Thoughts on Dharma and Recovery. Learn more about Kevin and his books here: https://www.kevingriffin.net/ \nPlease join us Tuesday evenings at 7:00pm for discussion\, music and meditation via Zoom. \nJoin Zoom Meeting
URL:https://www.napainsight.org/event/the-8-fold-path-of-practice-an-online-evening-with-kevin-griffin/
ATTACH;FMTTYPE=image/jpeg:https://www.napainsight.org/wp-content/uploads/2021/06/Kevin-Griffin2.jpg
END:VEVENT
BEGIN:VEVENT
DTSTART;TZID=America/Los_Angeles:20210713T190000
DTEND;TZID=America/Los_Angeles:20210713T203000
DTSTAMP:20260423T190411
CREATED:20210608T022250Z
LAST-MODIFIED:20210608T022250Z
UID:10001204-1626202800-1626208200@www.napainsight.org
SUMMARY:Special Guest Fresh "Lev" White - Online
DESCRIPTION:On Tuesday July 13th\, Napa Valley Insight Meditation warmly welcomes Fresh “Lev” White back to our sangha.  His presentation will be online via Zoom. \nLev offers mindfulness\, coaching\, mediation\, and diversity trainings as tools for shifting towards more authentic\, conscious and passionate living. He teaches and writes about how love and self-compassion are the ultimate gateways to loving and understanding others; thus\, healing our communities\, and planet. Lev is also co-author of Real World Mindfulness for Beginners\, Ed. with Brenda Salgado and is mindfully grounded at the East Bay Meditation Center\, as well as a graduate of Spirit Rock’s Community Dharma Leadership program. Learn more about Lev here: https://affirmativeacts.org/about-us/ \nTo receive a link to this meeting\, please subscribe to our newsletter by going to https://www.napainsight.org/contact/newsletter/. \nThe zoom meeting link will be sent out to all subscribers approximately two days prior to this event.
URL:https://www.napainsight.org/event/special-guest-fresh-lev-white-online/
ATTACH;FMTTYPE=image/jpeg:https://www.napainsight.org/wp-content/uploads/2020/04/Lev-Fresh-White-200px.jpg
END:VEVENT
BEGIN:VEVENT
DTSTART;TZID=America/Los_Angeles:20210720T190000
DTEND;TZID=America/Los_Angeles:20210720T203000
DTSTAMP:20260423T190411
CREATED:20210608T025101Z
LAST-MODIFIED:20210608T025101Z
UID:10001206-1626807600-1626813000@www.napainsight.org
SUMMARY:Meditation and Discussion with Debbie Darrin - Online
DESCRIPTION:Please join us this Tuesday evening at 7:00pm for an on-line discussion and meditation via Zoom with Debbie Darrin. \nDebbie has explored various aspects of mindfulness and meditation since the early 1980’s. In 2014 she began attending Napa Valley Insight Meditation sangha\, became an active member on the NVIM board in 2017 and facilitates the NVIM Thursday morning silent meditation. In 2021 she graduated from the 2-year Mindfulness Meditation Teacher Certification Program developed and offered by Jack Kornfield and Tara Brach. Debbie. She believes that the heart practices of lovingkindness\, compassion\, joy and equanimity play a significant role in balancing\, healing and navigating a complex world. \nTo receive a link to this meeting\, please subscribe to our newsletter by going to https://www.napainsight.org/contact/newsletter/ \nThe zoom meeting link will be sent out to all subscribers approximately two days prior to this event.
URL:https://www.napainsight.org/event/meditation-and-discussion-with-debbie-darrin-online-3/
ATTACH;FMTTYPE=image/jpeg:https://www.napainsight.org/wp-content/uploads/2019/05/deb_darrin_bio.jpg
END:VEVENT
BEGIN:VEVENT
DTSTART;TZID=America/Los_Angeles:20210727T190000
DTEND;TZID=America/Los_Angeles:20210727T203000
DTSTAMP:20260423T190411
CREATED:20210608T025402Z
LAST-MODIFIED:20210608T025402Z
UID:10001208-1627412400-1627417800@www.napainsight.org
SUMMARY:Special Guest Victoria Cary - Online
DESCRIPTION:On Tuesday July 27th \, at 7:00 Napa Valley Insight Meditation will host a presentation by Victoria Cary via Zoom. \nVictoria Cary has been practicing insight meditation and studying the Dharma since 2006. She is currently in Retreat Teacher Training at Spirit Rock Meditation Center\, where she previously graduated from the Community Dharma Leaders program. Victoria is the co-founder and one of the core teachers of San Francisco People of Color Insight Sangha. Victoria has worked as a volunteer at Zen Hospice and is particularly interested in the integration of the Dharma in everyday life. \nTo receive a link to this presentation\, please subscribe to our newsletter by going to https://www.napainsight.org/contact/newsletter/. \nThe zoom meeting link will be sent out to all subscribers approximately two days prior to this event. \n 
URL:https://www.napainsight.org/event/special-guest-victoria-cary-online-3/
ATTACH;FMTTYPE=image/jpeg:https://www.napainsight.org/wp-content/uploads/2020/08/Victoria-Cary.jpg
END:VEVENT
END:VCALENDAR