BEGIN:VCALENDAR
VERSION:2.0
PRODID:-//Napa Valley Insight Meditation - ECPv6.15.20//NONSGML v1.0//EN
CALSCALE:GREGORIAN
METHOD:PUBLISH
X-WR-CALNAME:Napa Valley Insight Meditation
X-ORIGINAL-URL:https://www.napainsight.org
X-WR-CALDESC:Events for Napa Valley Insight Meditation
REFRESH-INTERVAL;VALUE=DURATION:PT1H
X-Robots-Tag:noindex
X-PUBLISHED-TTL:PT1H
BEGIN:VTIMEZONE
TZID:America/Los_Angeles
BEGIN:DAYLIGHT
TZOFFSETFROM:-0800
TZOFFSETTO:-0700
TZNAME:PDT
DTSTART:20200308T100000
END:DAYLIGHT
BEGIN:STANDARD
TZOFFSETFROM:-0700
TZOFFSETTO:-0800
TZNAME:PST
DTSTART:20201101T090000
END:STANDARD
BEGIN:DAYLIGHT
TZOFFSETFROM:-0800
TZOFFSETTO:-0700
TZNAME:PDT
DTSTART:20210314T100000
END:DAYLIGHT
BEGIN:STANDARD
TZOFFSETFROM:-0700
TZOFFSETTO:-0800
TZNAME:PST
DTSTART:20211107T090000
END:STANDARD
BEGIN:DAYLIGHT
TZOFFSETFROM:-0800
TZOFFSETTO:-0700
TZNAME:PDT
DTSTART:20220313T100000
END:DAYLIGHT
BEGIN:STANDARD
TZOFFSETFROM:-0700
TZOFFSETTO:-0800
TZNAME:PST
DTSTART:20221106T090000
END:STANDARD
END:VTIMEZONE
BEGIN:VEVENT
DTSTART;TZID=America/Los_Angeles:20210601T190000
DTEND;TZID=America/Los_Angeles:20210601T203000
DTSTAMP:20260423T202953
CREATED:20210426T040837Z
LAST-MODIFIED:20210426T040837Z
UID:10001427-1622574000-1622579400@www.napainsight.org
SUMMARY:Special Guest Richard Shankman - Online
DESCRIPTION:This Tuesday\, Napa Valley Insight Meditation will host a talk by Buddhist teacher and author Richard Shankman\, online. \nRichard Shankman has been a meditator since 1970\, and teaches at Dharma centers and groups internationally. He is the guiding teacher of the Metta Dharma Foundation\, a non-residential meditation center in Berkeley\, CA that offers a weekly meditation group\, as well as monthly daylongs\, classes\, workshops\, and residential retreats. \nRichard is the co-founder of Mindful Schools\, a leading organization training educators to learn mindfulness and teach it to youth. He is also co-founder of the Sati Center for Buddhist Studies\, a study center that strives to balance scholarly inquiry into Buddhist teachings with serious meditation practice\, believing that study and practice work together to deepen one’s practice and aid in awakening. \nRichard is the author of The Experience of Samadhi: An In-Depth Investigation of Buddhist Meditation (Shambhala Publications\, 2008)\, and The Art and Skill of Buddhist Meditation (New Harbinger Publications\, 2015). \n\n\nTo receive a link to this meeting\, please subscribe to our newsletter by going to https://www.napainsight.org/contact/newsletter/. \nThe zoom meeting link will be sent out to all subscribers approximately two days prior to this event.
URL:https://www.napainsight.org/event/special-guest-richard-shankman-online/
ATTACH;FMTTYPE=image/jpeg:https://www.napainsight.org/wp-content/uploads/2016/07/richard-Shankman.jpg
END:VEVENT
BEGIN:VEVENT
DTSTART;TZID=America/Los_Angeles:20210608T190000
DTEND;TZID=America/Los_Angeles:20210608T203000
DTSTAMP:20260423T202953
CREATED:20210426T041042Z
LAST-MODIFIED:20210426T041042Z
UID:10001428-1623178800-1623184200@www.napainsight.org
SUMMARY:Meditation and Discussion with Mike Coughlin – Online
DESCRIPTION:Please join us this Tuesday evening at 7:00pm for an on-line discussion and meditation via Zoom with Mike Coughlin. \nMike is a public school administrator\, trained mediator\, and has been practicing mindfulness in the vipassana tradition for 15 years. He has received training through Spirit Rock Meditation Center\, Mindful Schools and is a Certified Mindfulness Facilitator through the Semel Institute for Neuroscience & Human Behavior at the University of California\, Los Angeles. Mike has over 20 years of experience working with high-risk youth\, most specifically in residential and day treatment programs\, as well as years of mediation experience in Alternative Dispute Resolution. \nTo receive a link to this meeting\, please subscribe to our newsletter by going to https://www.napainsight.org/contact/newsletter/ \nThe zoom meeting link will be sent out to all subscribers approximately two days prior to this event.
URL:https://www.napainsight.org/event/meditation-and-discussion-with-mike-coughlin-online-4/
ATTACH;FMTTYPE=image/jpeg:https://www.napainsight.org/wp-content/uploads/2020/01/Mike-Coughlin2-e1726587384348.jpg
END:VEVENT
BEGIN:VEVENT
DTSTART;TZID=America/Los_Angeles:20210615T190000
DTEND;TZID=America/Los_Angeles:20210615T203000
DTSTAMP:20260423T202953
CREATED:20210126T034608Z
LAST-MODIFIED:20210608T021750Z
UID:10001419-1623783600-1623789000@www.napainsight.org
SUMMARY:The 8 Fold Path of Practice: An Online Evening with Kevin Griffin
DESCRIPTION:On Tuesday June 15th\, Napa Valley Insight Meditation will host a talk by Kevin Griffin\, online via Zoom. \nKevin returns this month to continue sharing one-Tuesday-a-month with our sangha while Forrest is on sabbatical\, offering teachings on the 8-Fold Path of Practice. Kevin Griffin is an author\, longtime Buddhist practitioner who trained as a Community Dharma Leader at Spirit Rock\, and innovator in the field of addiction treatment. His newest book is Buddhism & the Twelve Steps: Daily Reflections – Thoughts on Dharma and Recovery. Learn more about Kevin and his books here: https://www.kevingriffin.net/ \nPlease join us Tuesday evenings at 7:00pm for discussion\, music and meditation via Zoom. \nJoin Zoom Meeting\nhttps://us02web.zoom.us/j/9179652791?pwd=RUZaRzcybmRBNmZIRlB2VWhuUnNPdz09
URL:https://www.napainsight.org/event/2132/
ATTACH;FMTTYPE=image/jpeg:https://www.napainsight.org/wp-content/uploads/2017/07/Kevin-Griffin2.jpg
END:VEVENT
BEGIN:VEVENT
DTSTART;TZID=America/Los_Angeles:20210622T190000
DTEND;TZID=America/Los_Angeles:20210622T203000
DTSTAMP:20260423T202953
CREATED:20210608T020645Z
LAST-MODIFIED:20210608T022332Z
UID:10001430-1624388400-1624393800@www.napainsight.org
SUMMARY:Special Guest Jill Satterfield - online
DESCRIPTION:This Tuesday\, Napa Valley Insight Meditation will host a talk by Jill Satterfield\, online. \nJill is an international mindfulness and meditation teacher\, consultant and mentor. Her integration of embodied mindfulness and meditation includes somatic practices and contemplative psychology along with 35 years of Buddhist practice and silent retreats. She has been teaching for decades in hospitals\, trauma centers\, addiction institutes\, at risk youth facilities\, corporations and meditation centers with the intention of empowering and inspiring people from all walks of life\, backgrounds and dispositions. \nJill’s dedication to understanding her own mind and body and creating accessible\, practical contemplative practices are rooted in the body. This came by way of multiple surgeries\, years of chronic pain and the marginalization that often comes from a condition not being recognized. She has practiced on over 150 silent meditation retreats – in monasteries\, meditation communities and in isolation. She was named “one of the 4 leading (mindful movement) and Buddhist teachers in the country” by Shambhala Sun (now Lion’s Roar) Magazine. \nTo learn more about Jill go to: https://jillsatterfield.org/ \nJoin Zoom Meeting\nhttps://us02web.zoom.us/j/9179652791?pwd=RUZaRzcybmRBNmZIRlB2VWhuUnNPdz09
URL:https://www.napainsight.org/event/special-guest-jill-satterfield-6/
ATTACH;FMTTYPE=image/jpeg:https://www.napainsight.org/wp-content/uploads/2019/12/Jill-Satterfield-updated-photo.jpg
END:VEVENT
BEGIN:VEVENT
DTSTART;TZID=America/Los_Angeles:20210629T190000
DTEND;TZID=America/Los_Angeles:20210629T203000
DTSTAMP:20260423T202953
CREATED:20210608T021005Z
LAST-MODIFIED:20210608T022702Z
UID:10001200-1624993200-1624998600@www.napainsight.org
SUMMARY:Special Guest Kim Allen - Online
DESCRIPTION:This Tuesday\, Napa Valley Insight Meditation will host a talk by Buddhist Teacher Kim Allen\, online. \nKim Allen has been practicing Insight meditation since 2003 and has trained intensively in the US and Asia. Trained by Gil Fronsdal\, she now teaches at Insight Santa Cruz and also offers classes and retreats around the Bay Area and farther afield. Dedicated to a contemplative life of study and practice\, she draws from a background in science\, meditation\, and creativity to offer classical Dhamma in a modern context. Her education includes a Ph.D. in physics and a master’s degree in environmental and social sustainability. \n​Kim’s teaching emphasizes the willingness to look truthfully at experience\, feel it fully\, and soften in light of what is seen. The heart may pass through phases of brittleness\, hardness\, slackness\, fire & ice\, before developing the supple strength that is based on wisdom and compassion. Kim finds it especially meaningful to work with people who are encountering transitions in their lives or their practice. Transition can become transformation. \nTo learn more about Kim go to: https://www.uncontrived.org/ \nJoin Zoom Meeting\nhttps://us02web.zoom.us/j/9179652791?pwd=RUZaRzcybmRBNmZIRlB2VWhuUnNPdz09
URL:https://www.napainsight.org/event/special-guest-kim-allen-online/
ATTACH;FMTTYPE=image/jpeg:https://www.napainsight.org/wp-content/uploads/2021/06/Kim-Allen.jpg
END:VEVENT
END:VCALENDAR