BEGIN:VCALENDAR
VERSION:2.0
PRODID:-//Napa Valley Insight Meditation - ECPv6.15.20//NONSGML v1.0//EN
CALSCALE:GREGORIAN
METHOD:PUBLISH
X-WR-CALNAME:Napa Valley Insight Meditation
X-ORIGINAL-URL:https://www.napainsight.org
X-WR-CALDESC:Events for Napa Valley Insight Meditation
REFRESH-INTERVAL;VALUE=DURATION:PT1H
X-Robots-Tag:noindex
X-PUBLISHED-TTL:PT1H
BEGIN:VTIMEZONE
TZID:America/Los_Angeles
BEGIN:DAYLIGHT
TZOFFSETFROM:-0800
TZOFFSETTO:-0700
TZNAME:PDT
DTSTART:20200308T100000
END:DAYLIGHT
BEGIN:STANDARD
TZOFFSETFROM:-0700
TZOFFSETTO:-0800
TZNAME:PST
DTSTART:20201101T090000
END:STANDARD
BEGIN:DAYLIGHT
TZOFFSETFROM:-0800
TZOFFSETTO:-0700
TZNAME:PDT
DTSTART:20210314T100000
END:DAYLIGHT
BEGIN:STANDARD
TZOFFSETFROM:-0700
TZOFFSETTO:-0800
TZNAME:PST
DTSTART:20211107T090000
END:STANDARD
BEGIN:DAYLIGHT
TZOFFSETFROM:-0800
TZOFFSETTO:-0700
TZNAME:PDT
DTSTART:20220313T100000
END:DAYLIGHT
BEGIN:STANDARD
TZOFFSETFROM:-0700
TZOFFSETTO:-0800
TZNAME:PST
DTSTART:20221106T090000
END:STANDARD
END:VTIMEZONE
BEGIN:VEVENT
DTSTART;TZID=America/Los_Angeles:20210504T190000
DTEND;TZID=America/Los_Angeles:20210504T203000
DTSTAMP:20260423T222305
CREATED:20210401T034822Z
LAST-MODIFIED:20210401T034822Z
UID:10001425-1620154800-1620160200@www.napainsight.org
SUMMARY:Meditation and Discussion with Mike Coughlin - Online
DESCRIPTION:Please join us this Tuesday evening at 7:00pm for an on-line discussion and meditation via Zoom with Mike Coughlin. \nMike is a public school administrator\, trained mediator\, and has been practicing mindfulness in the vipassana tradition for 15 years. He has received training through Spirit Rock Meditation Center\, Mindful Schools and is a Certified Mindfulness Facilitator through the Semel Institute for Neuroscience & Human Behavior at the University of California\, Los Angeles. Mike has over 20 years of experience working with high-risk youth\, most specifically in residential and day treatment programs\, as well as years of mediation experience in Alternative Dispute Resolution. \nTo receive a link to this meeting\, please subscribe to our newsletter by going to https://www.napainsight.org/contact/newsletter/ \nThe zoom meeting link will be sent out to all subscribers approximately two days prior to this event.
URL:https://www.napainsight.org/event/meditation-and-discussion-with-mike-coughlin-online-3/
ATTACH;FMTTYPE=image/jpeg:https://www.napainsight.org/wp-content/uploads/2020/01/Mike-Coughlin2-e1726587384348.jpg
END:VEVENT
BEGIN:VEVENT
DTSTART;TZID=America/Los_Angeles:20210511T190000
DTEND;TZID=America/Los_Angeles:20210511T203000
DTSTAMP:20260423T222305
CREATED:20210429T033138Z
LAST-MODIFIED:20210429T033607Z
UID:10001429-1620759600-1620765000@www.napainsight.org
SUMMARY:Special Guest Danielle Swafford - Online
DESCRIPTION:This evening\, Napa Valley Insight Meditation will host an on-line presentation by Danielle Swafford. \nDanielle is a School Social Worker and Certified Mindfulness Instructor who has been instrumental in the integration of mindfulness within Napa Valley Unified School District. A Napa resident and parent of two teenage daughters\, she has over two decades of mental health experience working with youth and families including serving as an elementary school art instructor and being involved in a pioneering collaborative project with Placer County’s Child Welfare Services. Danielle currently serves as a facilitator for the Mindful Leader’s Meditate Together initiative which provides free 30 minute meditation sessions\, on the hour\, 24 hours/day\, every weekday to a worldwide range of participants. Danielle is passionate about her work with students\, families and educators and loves the connectedness of the Napa community. \nTo receive a link to this meeting\, please subscribe to our newsletter by going to https://www.napainsight.org/contact/newsletter/. \nThe zoom meeting link will be sent out to all subscribers approximately two days prior to this event.
URL:https://www.napainsight.org/event/special-guest-danielle-swafford-online/
ATTACH;FMTTYPE=image/jpeg:https://www.napainsight.org/wp-content/uploads/2021/04/Danielle-Swafford.jpg
END:VEVENT
BEGIN:VEVENT
DTSTART;TZID=America/Los_Angeles:20210518T190000
DTEND;TZID=America/Los_Angeles:20210518T203000
DTSTAMP:20260423T222305
CREATED:20210126T034507Z
LAST-MODIFIED:20210401T034426Z
UID:10001418-1621364400-1621369800@www.napainsight.org
SUMMARY:The 8 Fold Path of Practice: An Online Evening with Kevin Griffin
DESCRIPTION:On Tuesday May 18th\, Napa Valley Insight Meditation will host a talk by Kevin Griffin\, online via Zoom. \nKevin is a longtime Buddhist practitioner who trained as a Community Dharma Leader at Spirit Rock. He is the author of One Breath at a Time: Buddhism and the Twelve Steps and the forthcoming God\, Buddha\, and the Path of Recovery. A co-founder of the Buddhist Recovery Network\, he teaches regularly at Spirit Rock\, as well as at treatment centers\, Buddhist centers\, professional conferences\, and colleges across the U.S. Kevin has been a member of the Spirit Rock Family Program for ten years. \nTo receive a link to this meeting\, please subscribe to our newsletter by going to https://www.napainsight.org/contact/newsletter/. \nThe zoom meeting link will be sent out to all subscribers approximately two days prior to this event.
URL:https://www.napainsight.org/event/special-guest-kevin-griffin-online-5/
ATTACH;FMTTYPE=image/jpeg:https://www.napainsight.org/wp-content/uploads/2017/07/Kevin-Griffin2.jpg
END:VEVENT
BEGIN:VEVENT
DTSTART;TZID=America/Los_Angeles:20210525T190000
DTEND;TZID=America/Los_Angeles:20210525T203000
DTSTAMP:20260423T222305
CREATED:20210426T040505Z
LAST-MODIFIED:20210426T040505Z
UID:10001426-1621969200-1621974600@www.napainsight.org
SUMMARY:Special Guest Joanie Lane - Online
DESCRIPTION:This evening\, Napa Valley Insight Meditation will host an on-line presentation via Zoom by Joanie Lane. \nJoanie is the Creator of and Dharma /Meditation Teacher at “​A Positive Light” meditation center\, and a graduate of Mindfulness Meditation Teacher Certification Program taught by renown teachers Jack Kornfield and Tara Brach. With over 30 years of meditation practice and training\, she also teaches  Qigong\, Reiki\, is a Certified Life and Spiritual Coach\, Author & Poet. Joanie began her meditation practice in 1989 and received extensive training in Mahayana and Theravada Buddhism as well as Zen and considers her education in the Buddhist practices “mixed”. \n \nTo receive a link to this meeting\, please subscribe to our newsletter by going to https://www.napainsight.org/contact/newsletter/. \nThe zoom meeting link will be sent out to all subscribers approximately two days prior to this event.
URL:https://www.napainsight.org/event/special-guest-joanie-lane-online/
ATTACH;FMTTYPE=image/jpeg:https://www.napainsight.org/wp-content/uploads/2021/04/Joanie-Lane.jpg
END:VEVENT
END:VCALENDAR