BEGIN:VCALENDAR
VERSION:2.0
PRODID:-//Napa Valley Insight Meditation - ECPv6.15.20//NONSGML v1.0//EN
CALSCALE:GREGORIAN
METHOD:PUBLISH
X-WR-CALNAME:Napa Valley Insight Meditation
X-ORIGINAL-URL:https://www.napainsight.org
X-WR-CALDESC:Events for Napa Valley Insight Meditation
REFRESH-INTERVAL;VALUE=DURATION:PT1H
X-Robots-Tag:noindex
X-PUBLISHED-TTL:PT1H
BEGIN:VTIMEZONE
TZID:America/Los_Angeles
BEGIN:DAYLIGHT
TZOFFSETFROM:-0800
TZOFFSETTO:-0700
TZNAME:PDT
DTSTART:20200308T100000
END:DAYLIGHT
BEGIN:STANDARD
TZOFFSETFROM:-0700
TZOFFSETTO:-0800
TZNAME:PST
DTSTART:20201101T090000
END:STANDARD
BEGIN:DAYLIGHT
TZOFFSETFROM:-0800
TZOFFSETTO:-0700
TZNAME:PDT
DTSTART:20210314T100000
END:DAYLIGHT
BEGIN:STANDARD
TZOFFSETFROM:-0700
TZOFFSETTO:-0800
TZNAME:PST
DTSTART:20211107T090000
END:STANDARD
BEGIN:DAYLIGHT
TZOFFSETFROM:-0800
TZOFFSETTO:-0700
TZNAME:PDT
DTSTART:20220313T100000
END:DAYLIGHT
BEGIN:STANDARD
TZOFFSETFROM:-0700
TZOFFSETTO:-0800
TZNAME:PST
DTSTART:20221106T090000
END:STANDARD
END:VTIMEZONE
BEGIN:VEVENT
DTSTART;TZID=America/Los_Angeles:20210202T190000
DTEND;TZID=America/Los_Angeles:20210202T203000
DTSTAMP:20260424T035649
CREATED:20201107T025824Z
LAST-MODIFIED:20201107T025824Z
UID:10001410-1612292400-1612297800@www.napainsight.org
SUMMARY:Meditation and Discussion with Debbie Darrin - Online
DESCRIPTION:NVIM will continue to meet online until the shelter in place restrictions have been removed. \nPlease join us Tuesday evenings at 7:00pm for a one hour on-line discussion and meditation via Zoom. \nTo receive a link to this meeting\, please subscribe to our newsletter by going to https://www.napainsight.org/contact/newsletter/. \nThe zoom meeting link will be sent out to all subscribers approximately two days prior to this event. \nOur meeting structure for our on-line sangha will generally follow the format below: \n\nWelcome/Opening: 10 min\nGently Guided Meditation: 25 min\nReflections/Closing 10 min\n\nAll are welcome!
URL:https://www.napainsight.org/event/meditation-and-discussion-with-debbie-darrin-online/
ATTACH;FMTTYPE=image/jpeg:https://www.napainsight.org/wp-content/uploads/2019/05/deb_darrin_bio.jpg
END:VEVENT
BEGIN:VEVENT
DTSTART;TZID=America/Los_Angeles:20210209T190000
DTEND;TZID=America/Los_Angeles:20210209T203000
DTSTAMP:20260424T035649
CREATED:20201124T000956Z
LAST-MODIFIED:20201124T000956Z
UID:10001411-1612897200-1612902600@www.napainsight.org
SUMMARY:Special Guest: Bruce Pardoe On-line
DESCRIPTION:On Tuesday February 9th\, Napa Valley Insight Meditation will host an on-line presentation via Zoom by Bruce Perdoe. \nTo receive a link to this meeting\, please subscribe to our newsletter by going to https://www.napainsight.org/contact/newsletter/. \nThe zoom meeting link will be sent out to all subscribers approximately two days prior to this event. \nBruce has practiced Vipassana meditation for over ten years including numerous 1\, 2 & 3 month rereats at Insight Meditation Society and Spirit Rock. He has been on pilgrimage and practiced in Asia and has sat numerous extended solo retreats. All combined he has spent more than one and a half years in silence. \nBruce  is a graduate of the Spirit Rock Community Dharma Leaders Program. Bruce expresses his wonder for awakening and dharma in direct\, joyous and experiential teachings. His focus on sensory feeling to convey wisdom derives from his years of Feldenkrais Awareness Through Movement and Hakomi Body-Centered Psychotherapy experience. He also draws extensively upon his deep experience with both Advaita and the path of devotion to complement and enrich his offerings.
URL:https://www.napainsight.org/event/special-guest-bruce-pardoe-on-line/
ATTACH;FMTTYPE=image/jpeg:https://www.napainsight.org/wp-content/uploads/2018/05/Bruce-Pardow.jpg
END:VEVENT
BEGIN:VEVENT
DTSTART;TZID=America/Los_Angeles:20210216T190000
DTEND;TZID=America/Los_Angeles:20210216T203000
DTSTAMP:20260424T035649
CREATED:20210126T031651Z
LAST-MODIFIED:20210126T032007Z
UID:10001412-1613502000-1613507400@www.napainsight.org
SUMMARY:Special Guest Kevin Griffin - Online
DESCRIPTION:On Tuesday February 16th\, Napa Valley Insight Meditation will host a talk by Kevin Griffin\, online via Zoom. \nKevin is a longtime Buddhist practitioner who trained as a Community Dharma Leader at Spirit Rock. He is the author of One Breath at a Time: Buddhism and the Twelve Steps and the forthcoming God\, Buddha\, and the Path of Recovery. A co-founder of the Buddhist Recovery Network\, he teaches regularly at Spirit Rock\, as well as at treatment centers\, Buddhist centers\, professional conferences\, and colleges across the U.S. Kevin has been a member of the Spirit Rock Family Program for ten years. \nTo receive a link to this meeting\, please subscribe to our newsletter by going to https://www.napainsight.org/contact/newsletter/. \nThe zoom meeting link will be sent out to all subscribers approximately two days prior to this event.
URL:https://www.napainsight.org/event/kevin-griffin/
ATTACH;FMTTYPE=image/jpeg:https://www.napainsight.org/wp-content/uploads/2017/07/Kevin-Griffin2.jpg
END:VEVENT
BEGIN:VEVENT
DTSTART;TZID=America/Los_Angeles:20210223T190000
DTEND;TZID=America/Los_Angeles:20210223T203000
DTSTAMP:20260424T035649
CREATED:20210126T032355Z
LAST-MODIFIED:20210126T032549Z
UID:10001413-1614106800-1614112200@www.napainsight.org
SUMMARY:Meditation and Discussion with Mike Coughlin - Online
DESCRIPTION:Please join us this Tuesday evening at 7:00pm for an on-line discussion and meditation via Zoom with Mike Coughlin. \nMike is a public school administrator\, trained mediator\, and has been practicing mindfulness in the vipassana tradition for 15 years. He has received training through Spirit Rock Meditation Center\, Mindful Schools and is a Certified Mindfulness Facilitator through the Semel Institute for Neuroscience & Human Behavior at the University of California\, Los Angeles. Mike has over 20 years of experience working with high-risk youth\, most specifically in residential and day treatment programs\, as well as years of mediation experience in Alternative Dispute Resolution. \nTo receive a link to this meeting\, please subscribe to our newsletter by going to https://www.napainsight.org/contact/newsletter/ \nThe zoom meeting link will be sent out to all subscribers approximately two days prior to this event.
URL:https://www.napainsight.org/event/meditation-and-discussion-with-mike-coughlin-online/
ATTACH;FMTTYPE=image/jpeg:https://www.napainsight.org/wp-content/uploads/2019/05/mike_coughlin_bio-125-x-150.jpg
END:VEVENT
END:VCALENDAR