BEGIN:VCALENDAR
VERSION:2.0
PRODID:-//Napa Valley Insight Meditation - ECPv6.15.20//NONSGML v1.0//EN
CALSCALE:GREGORIAN
METHOD:PUBLISH
X-ORIGINAL-URL:https://www.napainsight.org
X-WR-CALDESC:Events for Napa Valley Insight Meditation
REFRESH-INTERVAL;VALUE=DURATION:PT1H
X-Robots-Tag:noindex
X-PUBLISHED-TTL:PT1H
BEGIN:VTIMEZONE
TZID:America/Los_Angeles
BEGIN:DAYLIGHT
TZOFFSETFROM:-0800
TZOFFSETTO:-0700
TZNAME:PDT
DTSTART:20200308T100000
END:DAYLIGHT
BEGIN:STANDARD
TZOFFSETFROM:-0700
TZOFFSETTO:-0800
TZNAME:PST
DTSTART:20201101T090000
END:STANDARD
BEGIN:DAYLIGHT
TZOFFSETFROM:-0800
TZOFFSETTO:-0700
TZNAME:PDT
DTSTART:20210314T100000
END:DAYLIGHT
BEGIN:STANDARD
TZOFFSETFROM:-0700
TZOFFSETTO:-0800
TZNAME:PST
DTSTART:20211107T090000
END:STANDARD
BEGIN:DAYLIGHT
TZOFFSETFROM:-0800
TZOFFSETTO:-0700
TZNAME:PDT
DTSTART:20220313T100000
END:DAYLIGHT
BEGIN:STANDARD
TZOFFSETFROM:-0700
TZOFFSETTO:-0800
TZNAME:PST
DTSTART:20221106T090000
END:STANDARD
END:VTIMEZONE
BEGIN:VEVENT
DTSTART;TZID=America/Los_Angeles:20210112T190000
DTEND;TZID=America/Los_Angeles:20210112T203000
DTSTAMP:20260424T055230
CREATED:20201107T025252Z
LAST-MODIFIED:20201107T025252Z
UID:10001407-1610478000-1610483400@www.napainsight.org
SUMMARY:Special Guest Victoria Cary - Online
DESCRIPTION:On Tuesday January 12th \, at 7:00 Napa Valley Insight Meditation will host a presentation by Victoria Cary via Zoom. \nTo receive a link to this presentation\, please subscribe to our newsletter by going to https://www.napainsight.org/contact/newsletter/. \nThe zoom meeting link will be sent out to all subscribers approximately two days prior to this event. \nVictoria Cary has been practicing insight meditation and studying the Dharma since 2006. She is currently in Retreat Teacher Training at Spirit Rock Meditation Center\, where she previously graduated from the Community Dharma Leaders program. Victoria is the co-founder and one of the core teachers of San Francisco People of Color Insight Sangha. Victoria has worked as a volunteer at Zen Hospice and is particularly interested in the integration of the Dharma in everyday life.
URL:https://www.napainsight.org/event/special-guest-victoria-cary-online-2/
ATTACH;FMTTYPE=image/jpeg:https://www.napainsight.org/wp-content/uploads/2020/08/Victoria-Cary.jpg
END:VEVENT
BEGIN:VEVENT
DTSTART;TZID=America/Los_Angeles:20210119T190000
DTEND;TZID=America/Los_Angeles:20210119T203000
DTSTAMP:20260424T055230
CREATED:20201107T025400Z
LAST-MODIFIED:20201107T025517Z
UID:10001408-1611082800-1611088200@www.napainsight.org
SUMMARY:Meditation and Discussion: Mike Coughlin - Online
DESCRIPTION:NVIM will continue to meet online until the shelter in place restrictions have been removed. \nPlease join us Tuesday evenings at 7:00pm for a one hour on-line discussion and meditation via Zoom. \nTo receive a link to this meeting\, please subscribe to our newsletter by going to https://www.napainsight.org/contact/newsletter/. \nThe zoom meeting link will be sent out to all subscribers approximately two days prior to this event. \nOur meeting structure for our on-line sangha will generally follow the format below: \n\nWelcome/Opening: 10 min\nGently Guided Meditation: 25 min\nReflections/Closing 10 min\n\nAll are welcome!
URL:https://www.napainsight.org/event/meditation-and-discussion-mike-coughlin-online/
ATTACH;FMTTYPE=image/jpeg:https://www.napainsight.org/wp-content/uploads/2020/01/Mike-Coughlin2-e1726587384348.jpg
END:VEVENT
BEGIN:VEVENT
DTSTART;TZID=America/Los_Angeles:20210126T190000
DTEND;TZID=America/Los_Angeles:20210126T203000
DTSTAMP:20260424T055230
CREATED:20201107T025634Z
LAST-MODIFIED:20201107T025634Z
UID:10001409-1611687600-1611693000@www.napainsight.org
SUMMARY:Special Guest Dawn Scott - Online
DESCRIPTION:This evening\, Napa Valley Insight Meditation will host an on-line presentation via Zoom by Dawn Scott. \nDawn has been practicing insight meditation since 2008\, is a Diamond Heart practitioner\, and currently serves as the Family Program Coordinator at Spirit Rock Meditation Center. She teaches teen retreats at Inward Bound Mindfulness Education (iBme) and is a participant in the 2017-2021 IMS Teacher Training Program. Dawn is passionate about liberating the heart and mind through the Diamond Heart Approach and integrating Theravadan principles and practices into her daily life. \nTo receive a link to this meeting\, please subscribe to our newsletter by going to https://www.napainsight.org/contact/newsletter/. \nThe zoom meeting link will be sent out to all subscribers approximately two days prior to this event.
URL:https://www.napainsight.org/event/special-guest-dawn-scott-online-2/
ATTACH;FMTTYPE=image/jpeg:https://www.napainsight.org/wp-content/uploads/2018/06/dawn-scott.jpg
END:VEVENT
END:VCALENDAR