BEGIN:VCALENDAR
VERSION:2.0
PRODID:-//Napa Valley Insight Meditation - ECPv6.15.20//NONSGML v1.0//EN
CALSCALE:GREGORIAN
METHOD:PUBLISH
X-ORIGINAL-URL:https://www.napainsight.org
X-WR-CALDESC:Events for Napa Valley Insight Meditation
REFRESH-INTERVAL;VALUE=DURATION:PT1H
X-Robots-Tag:noindex
X-PUBLISHED-TTL:PT1H
BEGIN:VTIMEZONE
TZID:America/Los_Angeles
BEGIN:DAYLIGHT
TZOFFSETFROM:-0800
TZOFFSETTO:-0700
TZNAME:PDT
DTSTART:20190310T100000
END:DAYLIGHT
BEGIN:STANDARD
TZOFFSETFROM:-0700
TZOFFSETTO:-0800
TZNAME:PST
DTSTART:20191103T090000
END:STANDARD
BEGIN:DAYLIGHT
TZOFFSETFROM:-0800
TZOFFSETTO:-0700
TZNAME:PDT
DTSTART:20200308T100000
END:DAYLIGHT
BEGIN:STANDARD
TZOFFSETFROM:-0700
TZOFFSETTO:-0800
TZNAME:PST
DTSTART:20201101T090000
END:STANDARD
BEGIN:DAYLIGHT
TZOFFSETFROM:-0800
TZOFFSETTO:-0700
TZNAME:PDT
DTSTART:20210314T100000
END:DAYLIGHT
BEGIN:STANDARD
TZOFFSETFROM:-0700
TZOFFSETTO:-0800
TZNAME:PST
DTSTART:20211107T090000
END:STANDARD
END:VTIMEZONE
BEGIN:VEVENT
DTSTART;TZID=America/Los_Angeles:20201201T190000
DTEND;TZID=America/Los_Angeles:20201201T203000
DTSTAMP:20260424T071932
CREATED:20200925T183231Z
LAST-MODIFIED:20201107T024742Z
UID:10001398-1606849200-1606854600@www.napainsight.org
SUMMARY:Special Guest Kevin Griffin - Online
DESCRIPTION:On Tuesday December 1\, Napa Valley Insight Meditation will host a talk by Kevin Griffin\, author Buddhist teacher and innovator in the field of addiction treatment. \nKevin is a longtime Buddhist practitioner who trained as a Community Dharma Leader at Spirit Rock. He is the author of One Breath at a Time: Buddhism and the Twelve Steps and the forthcoming God\, Buddha\, and the Path of Recovery. A co-founder of the Buddhist Recovery Network\, he teaches regularly at Spirit Rock\, as well as at treatment centers\, Buddhist centers\, professional conferences\, and colleges across the U.S. Kevin has been a member of the Spirit Rock Family Program for ten years. \nOur evening sittings generally begin with a 30 minute meditation\, followed by a short break for tea and greetings. The Facilitator will then give a short talk on relevant themes and lead a group discussion. All levels of experience are welcome. \nNVIM meets at Napa Valley Unitarian Universalists (1625 Salvador Ave\, Napa CA). All levels of experience are welcomed.
URL:https://www.napainsight.org/event/mediation-and-reflection-online-with-mike-coughlin/
ATTACH;FMTTYPE=image/jpeg:https://www.napainsight.org/wp-content/uploads/2017/07/Kevin-Griffin2.jpg
END:VEVENT
BEGIN:VEVENT
DTSTART;TZID=America/Los_Angeles:20201203T090000
DTEND;TZID=America/Los_Angeles:20201203T100000
DTSTAMP:20260424T071932
CREATED:20200925T193019Z
LAST-MODIFIED:20200925T193019Z
UID:10001192-1606986000-1606989600@www.napainsight.org
SUMMARY:Thursday Morning Meditation Online
DESCRIPTION:NVIM will host our Thursday morning silent meditations by Zoom during this time of Shelter-in-Place. The meditation will begin promptly at 9 am. All are welcome. \nTo receive a link to this meeting\, please subscribe to our newsletter by going to https://www.napainsight.org/contact/newsletter/. \nThe zoom meeting link will be sent out to all subscribers approximately two days prior to this event. \nWe will begin with an inspirational reading followed by a 30-minute silent meditation period\, followed by a short 10-minute period in which individuals may comment on their own practice\, while the group listens in silence.
URL:https://www.napainsight.org/event/thursday-morning-meditation-online-10/
END:VEVENT
BEGIN:VEVENT
DTSTART;TZID=America/Los_Angeles:20201208T190000
DTEND;TZID=America/Los_Angeles:20201208T203000
DTSTAMP:20260424T071932
CREATED:20200925T185907Z
LAST-MODIFIED:20200925T190701Z
UID:10001403-1607454000-1607459400@www.napainsight.org
SUMMARY:Special Guest Oren Jay Sofer - Online
DESCRIPTION:This evening\, Napa Valley Insight Meditation will host an on-line presentation via Zoom by meditation teacher and Somatics practitioner Oren Jay Sofer. \nOren has practiced meditation in the Theravada Buddhist tradition since 1997\, beginning his studies in Bodh Gaya\, India with Anagarika Munindra and Godwin Samararatne. He is a long-time student of Joseph Goldstein\, Michele McDonald\, and Ajahn Sucitto\, and a graduate of the IMS – Spirit Rock Vipasanna Teacher Training. Oren is also author of the recently released book Say What You Mean: A Mindful Approach to Nonviolent Communication\, a practical guidebook for having more effective\, satisfying conversations. \nOren first became interested in contemplative practice in high school\, when he picked up a little book called The Tao of Pooh by Benjamin Hoff. He went on to complete a degree in Comparative Religion from Columbia University\, and later spent two and a half years of living as an Anagarika (renunciate) at branch monasteries in the Ajahn Chah Thai Forest lineage. Today\, his teaching combines classical Buddhist training with the accessible language of secular mindfulness. \nTo receive a link to this meeting\, please subscribe to our newsletter by going to https://www.napainsight.org/contact/newsletter/. \nThe zoom meeting link will be sent out to all subscribers approximately two days prior to this event.
URL:https://www.napainsight.org/event/special-guest-oren-jay-sofer-online/
ATTACH;FMTTYPE=image/jpeg:https://www.napainsight.org/wp-content/uploads/2015/09/Oren.J.Sofer_-e1441205116525.jpg
END:VEVENT
BEGIN:VEVENT
DTSTART;TZID=America/Los_Angeles:20201210T090000
DTEND;TZID=America/Los_Angeles:20201210T100000
DTSTAMP:20260424T071932
CREATED:20200925T193103Z
LAST-MODIFIED:20200925T193103Z
UID:10001405-1607590800-1607594400@www.napainsight.org
SUMMARY:Thursday Morning Meditation Online
DESCRIPTION:NVIM will host our Thursday morning silent meditations by Zoom during this time of Shelter-in-Place. The meditation will begin promptly at 9 am. All are welcome. \nTo receive a link to this meeting\, please subscribe to our newsletter by going to https://www.napainsight.org/contact/newsletter/. \nThe zoom meeting link will be sent out to all subscribers approximately two days prior to this event. \nWe will begin with an inspirational reading followed by a 30-minute silent meditation period\, followed by a short 10-minute period in which individuals may comment on their own practice\, while the group listens in silence.
URL:https://www.napainsight.org/event/thursday-morning-meditation-online-11/
END:VEVENT
BEGIN:VEVENT
DTSTART;TZID=America/Los_Angeles:20201215T190000
DTEND;TZID=America/Los_Angeles:20201215T203000
DTSTAMP:20260424T071932
CREATED:20200925T183332Z
LAST-MODIFIED:20201107T024908Z
UID:10001399-1608058800-1608064200@www.napainsight.org
SUMMARY:Meditation and Reflection Online with Mike Coughlin
DESCRIPTION:NVIM will continue to meet online until the shelter in place restrictions have been removed. \nPlease join us Tuesday evenings at 7:00pm for a one hour on-line discussion and meditation via Zoom. \nTo receive a link to this meeting\, please subscribe to our newsletter by going to https://www.napainsight.org/contact/newsletter/. \nThe zoom meeting link will be sent out to all subscribers approximately two days prior to this event. \nOur meeting structure for our on-line sangha will generally follow the format below: \n\nWelcome/Opening: 10 min\nGently Guided Meditation: 25 min\nReflections/Closing 10 min\n\nAll are welcome!
URL:https://www.napainsight.org/event/meditation-and-reflection-online-with-forrest-hill-2/
ATTACH;FMTTYPE=image/jpeg:https://www.napainsight.org/wp-content/uploads/2020/01/Mike-Coughlin2-e1726587384348.jpg
END:VEVENT
BEGIN:VEVENT
DTSTART;TZID=America/Los_Angeles:20201217T090000
DTEND;TZID=America/Los_Angeles:20201217T100000
DTSTAMP:20260424T071932
CREATED:20200925T193211Z
LAST-MODIFIED:20200925T193211Z
UID:10001406-1608195600-1608199200@www.napainsight.org
SUMMARY:Thursday Morning Meditation Online
DESCRIPTION:NVIM will host our Thursday morning silent meditations by Zoom during this time of Shelter-in-Place. The meditation will begin promptly at 9 am. All are welcome. \nTo receive a link to this meeting\, please subscribe to our newsletter by going to https://www.napainsight.org/contact/newsletter/. \nThe zoom meeting link will be sent out to all subscribers approximately two days prior to this event. \nWe will begin with an inspirational reading followed by a 30-minute silent meditation period\, followed by a short 10-minute period in which individuals may comment on their own practice\, while the group listens in silence.
URL:https://www.napainsight.org/event/thursday-morning-meditation-online-12/
END:VEVENT
BEGIN:VEVENT
DTSTART;TZID=America/Los_Angeles:20201222T190000
DTEND;TZID=America/Los_Angeles:20201222T203000
DTSTAMP:20260424T071932
CREATED:20200925T191041Z
LAST-MODIFIED:20200925T191041Z
UID:10001404-1608663600-1608669000@www.napainsight.org
SUMMARY:Special Guest Matthew Brensilver - Online
DESCRIPTION:This evening\, Napa Valley Insight Meditation will host an on-line presentation via Zoom by Matthew Brensilver. \nMatthew Brensilver\, PhD\, began practice in the Tibetan tradition\, and since 2003 has studied with Shinzen Young. He served as a Buddhist chaplain at USC for four years and teaches about the intersection of mindfulness and mental health at UCLA’s Mindful Awareness Research Center and with Mindful Schools.He completed the Spirit Rock/IMS teacher training program (2016) and regularly offers retreats at Spirit Rock and the Insight Retreat Center. He spent years doing research on addiction treatment at the UCLA Center for Behavioral and Addiction Medicine and continues to be interested in the unfolding dialogue between dharma and science. \nTo receive a link to this meeting\, please subscribe to our newsletter by going to https://www.napainsight.org/contact/newsletter/. \nThe zoom meeting link will be sent out to all subscribers approximately two days prior to this event.
URL:https://www.napainsight.org/event/special-guest-matthew-brensilver-online/
ATTACH;FMTTYPE=image/jpeg:https://www.napainsight.org/wp-content/uploads/2018/10/Mathew-Brensilver.jpg
END:VEVENT
END:VCALENDAR