BEGIN:VCALENDAR
VERSION:2.0
PRODID:-//Napa Valley Insight Meditation - ECPv6.15.20//NONSGML v1.0//EN
CALSCALE:GREGORIAN
METHOD:PUBLISH
X-WR-CALNAME:Napa Valley Insight Meditation
X-ORIGINAL-URL:https://www.napainsight.org
X-WR-CALDESC:Events for Napa Valley Insight Meditation
REFRESH-INTERVAL;VALUE=DURATION:PT1H
X-Robots-Tag:noindex
X-PUBLISHED-TTL:PT1H
BEGIN:VTIMEZONE
TZID:America/Los_Angeles
BEGIN:DAYLIGHT
TZOFFSETFROM:-0800
TZOFFSETTO:-0700
TZNAME:PDT
DTSTART:20190310T100000
END:DAYLIGHT
BEGIN:STANDARD
TZOFFSETFROM:-0700
TZOFFSETTO:-0800
TZNAME:PST
DTSTART:20191103T090000
END:STANDARD
BEGIN:DAYLIGHT
TZOFFSETFROM:-0800
TZOFFSETTO:-0700
TZNAME:PDT
DTSTART:20200308T100000
END:DAYLIGHT
BEGIN:STANDARD
TZOFFSETFROM:-0700
TZOFFSETTO:-0800
TZNAME:PST
DTSTART:20201101T090000
END:STANDARD
BEGIN:DAYLIGHT
TZOFFSETFROM:-0800
TZOFFSETTO:-0700
TZNAME:PDT
DTSTART:20210314T100000
END:DAYLIGHT
BEGIN:STANDARD
TZOFFSETFROM:-0700
TZOFFSETTO:-0800
TZNAME:PST
DTSTART:20211107T090000
END:STANDARD
END:VTIMEZONE
BEGIN:VEVENT
DTSTART;TZID=America/Los_Angeles:20201103T190000
DTEND;TZID=America/Los_Angeles:20201103T203000
DTSTAMP:20260424T085127
CREATED:20200925T182823Z
LAST-MODIFIED:20201026T202236Z
UID:10001395-1604430000-1604435400@www.napainsight.org
SUMMARY:Special Election Night Reflection with Fresh "Lev" White
DESCRIPTION:On election night Tuesday Nov 3rd\, Napa Valley Insight Meditation will host a talk by meditation and dharma teacher Fresh “Lev” White. As we wait to find out who will be leading our country over the next 4 years\, Lev is excited to guide us in finding a bit of ease on this important night. \nPlease join us this evenings at 7:00pm for discussion and meditation via Zoom. \nTo receive a link to this meeting\, please subscribe to our newsletter by going to https://www.napainsight.org/contact/newsletter/. \nThe zoom meeting link will be sent out to all subscribers approximately two days prior to this event. \nLev is a recent graduate of Spirit Rock’s Community Dharma Leadership Program and has been teaching mindfulness and meditation at the East Bay Meditation Center (EBMC) since 2013. Lev is currently training in the Vipassana Tradition\, through Spirit Rock and teaches at several sanghas around the Bay Area\, including Against the Stream\, SF\, Dharma Punx\, Oakland; Alameda Sangha and others. Lev is also a co-author in Real World Mindfulness for Beginners\, Ed. By Brenda Salgado. \nAfter leaving the tech field in 2009\, Lev was certified and is now a professional trainer and life coach. Founder of Affirmative Acts Consulting & Coaching\, as a trainer and facilitator\, he has supported organizations such as Yahoo!\, McKinsey & Company; Universities\, and startups\, with creating healthier and more productive work environments\, though his diversity training. As a coach\, Lev has supported executives\, entrepreneurs\, artists and other coaches with achieving their goals and dreams. He is described as a dynamic facilitator and brings his coaching and mindfulness skills to his work with various projects.
URL:https://www.napainsight.org/event/meditation-and-reflections-online-with-forrest-hill-2/
ATTACH;FMTTYPE=image/jpeg:https://www.napainsight.org/wp-content/uploads/2020/04/Lev-Fresh-White-200px.jpg
END:VEVENT
BEGIN:VEVENT
DTSTART;TZID=America/Los_Angeles:20201105T090000
DTEND;TZID=America/Los_Angeles:20201105T100000
DTSTAMP:20260424T085127
CREATED:20200925T192639Z
LAST-MODIFIED:20200925T192639Z
UID:10001184-1604566800-1604570400@www.napainsight.org
SUMMARY:Thursday Morning Meditation Online
DESCRIPTION:NVIM will host our Thursday morning silent meditations by Zoom during this time of Shelter-in-Place. The meditation will begin promptly at 9 am. All are welcome. \nTo receive a link to this meeting\, please subscribe to our newsletter by going to https://www.napainsight.org/contact/newsletter/. \nThe zoom meeting link will be sent out to all subscribers approximately two days prior to this event. \nWe will begin with an inspirational reading followed by a 30-minute silent meditation period\, followed by a short 10-minute period in which individuals may comment on their own practice\, while the group listens in silence.
URL:https://www.napainsight.org/event/thursday-morning-meditation-online-6/
END:VEVENT
BEGIN:VEVENT
DTSTART;TZID=America/Los_Angeles:20201110T190000
DTEND;TZID=America/Los_Angeles:20201110T203000
DTSTAMP:20260424T085127
CREATED:20200925T185532Z
LAST-MODIFIED:20200925T191838Z
UID:10001402-1605034800-1605040200@www.napainsight.org
SUMMARY:Special Guest Diane Wilde - Online
DESCRIPTION:This evening\, Napa Valley Insight Meditation will host a talk by Diane Wilde\, community teacher at Sacramento Insight Mediation. \nDiane has studied meditation in various traditions since 1990. In 2001 she was a founding member of Sacramento Insight Meditation. She founded Buddhist Pathways Prison Project (BP3) in 2010.  Since 2003\, she has been a BP3 prison chaplain and aids in coordination of 75 volunteers who offer Buddhist services at numerous California prisons and jails. She is a graduate of Sati Center’s Buddhist Chaplaincy program and graduated from Spirit Rock Meditation Center’s Community Dharma Leadership Training Program. She is a board member of Sati Center for Buddhist Studies\, Sacramento Dharma Center\, Buddhist Pathways Prison Project and California Dept. of Corrections Volunteer Advisory Board. In 2015 she was lay-ordained as a Buddhist minister by her teacher Gil Fronsdal. \nPlease join us Tuesday evenings at 7:00pm for discussion\, music and meditation via Zoom. \nTo receive a link to this meeting\, please subscribe to our newsletter by going to https://www.napainsight.org/contact/newsletter/. \nThe zoom meeting link will be sent out to all subscribers approximately two days prior to this event.
URL:https://www.napainsight.org/event/special-guest-diane-wilde-online/
ATTACH;FMTTYPE=image/jpeg:https://www.napainsight.org/wp-content/uploads/2020/09/diane-wilde-1.jpg
END:VEVENT
BEGIN:VEVENT
DTSTART;TZID=America/Los_Angeles:20201112T090000
DTEND;TZID=America/Los_Angeles:20201112T100000
DTSTAMP:20260424T085127
CREATED:20200925T192802Z
LAST-MODIFIED:20200925T192802Z
UID:10001186-1605171600-1605175200@www.napainsight.org
SUMMARY:Thursday Morning Meditation Online
DESCRIPTION:NVIM will host our Thursday morning silent meditations by Zoom during this time of Shelter-in-Place. The meditation will begin promptly at 9 am. All are welcome. \nTo receive a link to this meeting\, please subscribe to our newsletter by going to https://www.napainsight.org/contact/newsletter/. \nThe zoom meeting link will be sent out to all subscribers approximately two days prior to this event. \nWe will begin with an inspirational reading followed by a 30-minute silent meditation period\, followed by a short 10-minute period in which individuals may comment on their own practice\, while the group listens in silence.
URL:https://www.napainsight.org/event/thursday-morning-meditation-online-7/
END:VEVENT
BEGIN:VEVENT
DTSTART;TZID=America/Los_Angeles:20201117T190000
DTEND;TZID=America/Los_Angeles:20201117T203000
DTSTAMP:20260424T085127
CREATED:20200925T182921Z
LAST-MODIFIED:20200925T182942Z
UID:10001396-1605639600-1605645000@www.napainsight.org
SUMMARY:Meditation and Reflections Online with Mike Coughlin
DESCRIPTION:NVIM will continue to meet online until the shelter in place restrictions have been removed. \nPlease join us Tuesday evenings at 7:00pm for a one hour on-line discussion and meditation via Zoom. \nTo receive a link to this meeting\, please subscribe to our newsletter by going to https://www.napainsight.org/contact/newsletter/. \nThe zoom meeting link will be sent out to all subscribers approximately two days prior to this event. \nOur meeting structure for our on-line sangha will generally follow the format below: \n\nWelcome/Opening: 10 min\nGently Guided Meditation: 25 min\nReflections/Closing 10 min\n\nAll are welcome!
URL:https://www.napainsight.org/event/meditation-and-reflections-online-with-mike-coughlin-2/
ATTACH;FMTTYPE=image/jpeg:https://www.napainsight.org/wp-content/uploads/2020/01/Mike-Coughlin2-e1726587384348.jpg
END:VEVENT
BEGIN:VEVENT
DTSTART;TZID=America/Los_Angeles:20201119T090000
DTEND;TZID=America/Los_Angeles:20201119T100000
DTSTAMP:20260424T085127
CREATED:20200925T192848Z
LAST-MODIFIED:20200925T192848Z
UID:10001188-1605776400-1605780000@www.napainsight.org
SUMMARY:Thursday Morning Meditation Online
DESCRIPTION:NVIM will host our Thursday morning silent meditations by Zoom during this time of Shelter-in-Place. The meditation will begin promptly at 9 am. All are welcome. \nTo receive a link to this meeting\, please subscribe to our newsletter by going to https://www.napainsight.org/contact/newsletter/. \nThe zoom meeting link will be sent out to all subscribers approximately two days prior to this event. \nWe will begin with an inspirational reading followed by a 30-minute silent meditation period\, followed by a short 10-minute period in which individuals may comment on their own practice\, while the group listens in silence.
URL:https://www.napainsight.org/event/thursday-morning-meditation-online-8/
END:VEVENT
BEGIN:VEVENT
DTSTART;TZID=America/Los_Angeles:20201124T190000
DTEND;TZID=America/Los_Angeles:20201124T203000
DTSTAMP:20260424T085127
CREATED:20200925T183057Z
LAST-MODIFIED:20201107T024445Z
UID:10001397-1606244400-1606249800@www.napainsight.org
SUMMARY:Thanksgiving Break
DESCRIPTION:NVIM will not be meeting this week due to the Thanksgiving holiday. May you be lifted up by the grace of gratitude and joy this holiday season.
URL:https://www.napainsight.org/event/meditation-and-reflection-online-with-forrest-hill/
ATTACH;FMTTYPE=image/jpeg:https://www.napainsight.org/wp-content/uploads/2020/01/Blog-2-Forrest-e1726587468843.jpg
END:VEVENT
BEGIN:VEVENT
DTSTART;TZID=America/Los_Angeles:20201126T090000
DTEND;TZID=America/Los_Angeles:20201126T100000
DTSTAMP:20260424T085127
CREATED:20200925T192934Z
LAST-MODIFIED:20200925T192934Z
UID:10001190-1606381200-1606384800@www.napainsight.org
SUMMARY:Thursday Morning Meditation Online
DESCRIPTION:NVIM will host our Thursday morning silent meditations by Zoom during this time of Shelter-in-Place. The meditation will begin promptly at 9 am. All are welcome. \nTo receive a link to this meeting\, please subscribe to our newsletter by going to https://www.napainsight.org/contact/newsletter/. \nThe zoom meeting link will be sent out to all subscribers approximately two days prior to this event. \nWe will begin with an inspirational reading followed by a 30-minute silent meditation period\, followed by a short 10-minute period in which individuals may comment on their own practice\, while the group listens in silence.
URL:https://www.napainsight.org/event/thursday-morning-meditation-online-9/
END:VEVENT
END:VCALENDAR