BEGIN:VCALENDAR
VERSION:2.0
PRODID:-//Napa Valley Insight Meditation - ECPv6.15.20//NONSGML v1.0//EN
CALSCALE:GREGORIAN
METHOD:PUBLISH
X-ORIGINAL-URL:https://www.napainsight.org
X-WR-CALDESC:Events for Napa Valley Insight Meditation
REFRESH-INTERVAL;VALUE=DURATION:PT1H
X-Robots-Tag:noindex
X-PUBLISHED-TTL:PT1H
BEGIN:VTIMEZONE
TZID:America/Los_Angeles
BEGIN:DAYLIGHT
TZOFFSETFROM:-0800
TZOFFSETTO:-0700
TZNAME:PDT
DTSTART:20190310T100000
END:DAYLIGHT
BEGIN:STANDARD
TZOFFSETFROM:-0700
TZOFFSETTO:-0800
TZNAME:PST
DTSTART:20191103T090000
END:STANDARD
BEGIN:DAYLIGHT
TZOFFSETFROM:-0800
TZOFFSETTO:-0700
TZNAME:PDT
DTSTART:20200308T100000
END:DAYLIGHT
BEGIN:STANDARD
TZOFFSETFROM:-0700
TZOFFSETTO:-0800
TZNAME:PST
DTSTART:20201101T090000
END:STANDARD
BEGIN:DAYLIGHT
TZOFFSETFROM:-0800
TZOFFSETTO:-0700
TZNAME:PDT
DTSTART:20210314T100000
END:DAYLIGHT
BEGIN:STANDARD
TZOFFSETFROM:-0700
TZOFFSETTO:-0800
TZNAME:PST
DTSTART:20211107T090000
END:STANDARD
END:VTIMEZONE
BEGIN:VEVENT
DTSTART;TZID=America/Los_Angeles:20201001T090000
DTEND;TZID=America/Los_Angeles:20201001T100000
DTSTAMP:20260424T102456
CREATED:20200925T192253Z
LAST-MODIFIED:20200925T192253Z
UID:10001175-1601542800-1601546400@www.napainsight.org
SUMMARY:Thursday Morning Meditation Online
DESCRIPTION:NVIM will host our Thursday morning silent meditations by Zoom during this time of Shelter-in-Place. The meditation will begin promptly at 9 am. All are welcome. \nTo receive a link to this meeting\, please subscribe to our newsletter by going to https://www.napainsight.org/contact/newsletter/. \nThe zoom meeting link will be sent out to all subscribers approximately two days prior to this event. \nWe will begin with an inspirational reading followed by a 30-minute silent meditation period\, followed by a short 10-minute period in which individuals may comment on their own practice\, while the group listens in silence.
URL:https://www.napainsight.org/event/thursday-morning-meditation-online/
END:VEVENT
BEGIN:VEVENT
DTSTART;TZID=America/Los_Angeles:20201006T190000
DTEND;TZID=America/Los_Angeles:20201006T203000
DTSTAMP:20260424T102456
CREATED:20200925T183631Z
LAST-MODIFIED:20200925T183631Z
UID:10001400-1602010800-1602016200@www.napainsight.org
SUMMARY:Special Guest Kevin Griffin - Online
DESCRIPTION:This evening\, Napa Valley Insight Meditation will host a talk by Kevin Griffin\, author Buddhist teacher and innovator in the field of addiction treatment. \nKevin is a longtime Buddhist practitioner who trained as a Community Dharma Leader at Spirit Rock. He is the author of One Breath at a Time: Buddhism and the Twelve Steps and the forthcoming God\, Buddha\, and the Path of Recovery. A co-founder of the Buddhist Recovery Network\, he teaches regularly at Spirit Rock\, as well as at treatment centers\, Buddhist centers\, professional conferences\, and colleges across the U.S. Kevin has been a member of the Spirit Rock Family Program for ten years. \nPlease join us Tuesday evenings at 7:00pm for discussion\, music and meditation via Zoom. \nTo receive a link to this meeting\, please subscribe to our newsletter by going to https://www.napainsight.org/contact/newsletter/. \nThe zoom meeting link will be sent out to all subscribers approximately two days prior to this event.
URL:https://www.napainsight.org/event/special-guest-kevin-griffin-online-2/
ATTACH;FMTTYPE=image/jpeg:https://www.napainsight.org/wp-content/uploads/2017/07/Kevin-Griffin2.jpg
END:VEVENT
BEGIN:VEVENT
DTSTART;TZID=America/Los_Angeles:20201008T090000
DTEND;TZID=America/Los_Angeles:20201008T100000
DTSTAMP:20260424T102456
CREATED:20200925T192343Z
LAST-MODIFIED:20200925T192343Z
UID:10001176-1602147600-1602151200@www.napainsight.org
SUMMARY:Thursday Morning Meditation Online
DESCRIPTION:NVIM will host our Thursday morning silent meditations by Zoom during this time of Shelter-in-Place. The meditation will begin promptly at 9 am. All are welcome. \nTo receive a link to this meeting\, please subscribe to our newsletter by going to https://www.napainsight.org/contact/newsletter/. \nThe zoom meeting link will be sent out to all subscribers approximately two days prior to this event. \nWe will begin with an inspirational reading followed by a 30-minute silent meditation period\, followed by a short 10-minute period in which individuals may comment on their own practice\, while the group listens in silence.
URL:https://www.napainsight.org/event/thursday-morning-meditation-online-2/
END:VEVENT
BEGIN:VEVENT
DTSTART;TZID=America/Los_Angeles:20201013T190000
DTEND;TZID=America/Los_Angeles:20201013T203000
DTSTAMP:20260424T102456
CREATED:20200925T182553Z
LAST-MODIFIED:20200925T182553Z
UID:10001393-1602615600-1602621000@www.napainsight.org
SUMMARY:Meditation and Reflections Online with Forrest Hill
DESCRIPTION:NVIM will continue to meet online until the shelter in place restrictions have been removed. \nPlease join us Tuesday evenings at 7:00pm for a one hour on-line discussion and meditation via Zoom. \nTo receive a link to this meeting\, please subscribe to our newsletter by going to https://www.napainsight.org/contact/newsletter/. \nThe zoom meeting link will be sent out to all subscribers approximately two days prior to this event. \nOur meeting structure for our on-line sangha will generally follow the format below: \n\nWelcome/Opening: 10 min\nGently Guided Meditation: 25 min\nReflections/Closing 10 min\n\nAll are welcome!
URL:https://www.napainsight.org/event/meditation-and-reflections-online-with-forrest-hill/
ATTACH;FMTTYPE=image/jpeg:https://www.napainsight.org/wp-content/uploads/2020/01/Blog-2-Forrest-e1726587468843.jpg
END:VEVENT
BEGIN:VEVENT
DTSTART;TZID=America/Los_Angeles:20201015T090000
DTEND;TZID=America/Los_Angeles:20201015T100000
DTSTAMP:20260424T102456
CREATED:20200925T192421Z
LAST-MODIFIED:20200925T192421Z
UID:10001178-1602752400-1602756000@www.napainsight.org
SUMMARY:Thursday Morning Meditation Online
DESCRIPTION:NVIM will host our Thursday morning silent meditations by Zoom during this time of Shelter-in-Place. The meditation will begin promptly at 9 am. All are welcome. \nTo receive a link to this meeting\, please subscribe to our newsletter by going to https://www.napainsight.org/contact/newsletter/. \nThe zoom meeting link will be sent out to all subscribers approximately two days prior to this event. \nWe will begin with an inspirational reading followed by a 30-minute silent meditation period\, followed by a short 10-minute period in which individuals may comment on their own practice\, while the group listens in silence.
URL:https://www.napainsight.org/event/thursday-morning-meditation-online-3/
END:VEVENT
BEGIN:VEVENT
DTSTART;TZID=America/Los_Angeles:20201020T190000
DTEND;TZID=America/Los_Angeles:20201020T203000
DTSTAMP:20260424T102456
CREATED:20200925T183924Z
LAST-MODIFIED:20200925T183924Z
UID:10001401-1603220400-1603225800@www.napainsight.org
SUMMARY:Special Guest Dawn Scott - Online
DESCRIPTION:This evening\, Napa Valley Insight Meditation will host an on-line presentation via Zoom by Dawn Scott. \nDawn has been practicing insight meditation since 2008\, is a Diamond Heart practitioner\, and currently serves as the Family Program Coordinator at Spirit Rock Meditation Center. She teaches teen retreats at Inward Bound Mindfulness Education (iBme) and is a participant in the 2017-2021 IMS Teacher Training Program. Dawn is passionate about liberating the heart and mind through the Diamond Heart Approach and integrating Theravadan principles and practices into her daily life. \nTo receive a link to this meeting\, please subscribe to our newsletter by going to https://www.napainsight.org/contact/newsletter/. \nThe zoom meeting link will be sent out to all subscribers approximately two days prior to this event.
URL:https://www.napainsight.org/event/special-guest-dawn-scott-online/
ATTACH;FMTTYPE=image/jpeg:https://www.napainsight.org/wp-content/uploads/2018/06/dawn-scott.jpg
END:VEVENT
BEGIN:VEVENT
DTSTART;TZID=America/Los_Angeles:20201022T090000
DTEND;TZID=America/Los_Angeles:20201022T100000
DTSTAMP:20260424T102456
CREATED:20200925T192518Z
LAST-MODIFIED:20200925T192518Z
UID:10001180-1603357200-1603360800@www.napainsight.org
SUMMARY:Thursday Morning Meditation Online
DESCRIPTION:NVIM will host our Thursday morning silent meditations by Zoom during this time of Shelter-in-Place. The meditation will begin promptly at 9 am. All are welcome. \nTo receive a link to this meeting\, please subscribe to our newsletter by going to https://www.napainsight.org/contact/newsletter/. \nThe zoom meeting link will be sent out to all subscribers approximately two days prior to this event. \nWe will begin with an inspirational reading followed by a 30-minute silent meditation period\, followed by a short 10-minute period in which individuals may comment on their own practice\, while the group listens in silence.
URL:https://www.napainsight.org/event/thursday-morning-meditation-online-4/
END:VEVENT
BEGIN:VEVENT
DTSTART;TZID=America/Los_Angeles:20201027T190000
DTEND;TZID=America/Los_Angeles:20201027T203000
DTSTAMP:20260424T102456
CREATED:20200925T182707Z
LAST-MODIFIED:20200925T182707Z
UID:10001394-1603825200-1603830600@www.napainsight.org
SUMMARY:Meditation and Reflections Online with Mike Coughlin
DESCRIPTION:NVIM will continue to meet online until the shelter in place restrictions have been removed. \nPlease join us Tuesday evenings at 7:00pm for a one hour on-line discussion and meditation via Zoom. \nTo receive a link to this meeting\, please subscribe to our newsletter by going to https://www.napainsight.org/contact/newsletter/. \nThe zoom meeting link will be sent out to all subscribers approximately two days prior to this event. \nOur meeting structure for our on-line sangha will generally follow the format below: \n\nWelcome/Opening: 10 min\nGently Guided Meditation: 25 min\nReflections/Closing 10 min\n\nAll are welcome!
URL:https://www.napainsight.org/event/meditation-and-reflections-online-with-mike-coughlin/
ATTACH;FMTTYPE=image/jpeg:https://www.napainsight.org/wp-content/uploads/2020/01/Mike-Coughlin2-e1726587384348.jpg
END:VEVENT
BEGIN:VEVENT
DTSTART;TZID=America/Los_Angeles:20201029T090000
DTEND;TZID=America/Los_Angeles:20201029T100000
DTSTAMP:20260424T102456
CREATED:20200925T192553Z
LAST-MODIFIED:20200925T192553Z
UID:10001182-1603962000-1603965600@www.napainsight.org
SUMMARY:Thursday Morning Meditation Online
DESCRIPTION:NVIM will host our Thursday morning silent meditations by Zoom during this time of Shelter-in-Place. The meditation will begin promptly at 9 am. All are welcome. \nTo receive a link to this meeting\, please subscribe to our newsletter by going to https://www.napainsight.org/contact/newsletter/. \nThe zoom meeting link will be sent out to all subscribers approximately two days prior to this event. \nWe will begin with an inspirational reading followed by a 30-minute silent meditation period\, followed by a short 10-minute period in which individuals may comment on their own practice\, while the group listens in silence.
URL:https://www.napainsight.org/event/thursday-morning-meditation-online-5/
END:VEVENT
END:VCALENDAR