BEGIN:VCALENDAR
VERSION:2.0
PRODID:-//Napa Valley Insight Meditation - ECPv6.15.20//NONSGML v1.0//EN
CALSCALE:GREGORIAN
METHOD:PUBLISH
X-WR-CALNAME:Napa Valley Insight Meditation
X-ORIGINAL-URL:https://www.napainsight.org
X-WR-CALDESC:Events for Napa Valley Insight Meditation
REFRESH-INTERVAL;VALUE=DURATION:PT1H
X-Robots-Tag:noindex
X-PUBLISHED-TTL:PT1H
BEGIN:VTIMEZONE
TZID:America/Los_Angeles
BEGIN:DAYLIGHT
TZOFFSETFROM:-0800
TZOFFSETTO:-0700
TZNAME:PDT
DTSTART:20190310T100000
END:DAYLIGHT
BEGIN:STANDARD
TZOFFSETFROM:-0700
TZOFFSETTO:-0800
TZNAME:PST
DTSTART:20191103T090000
END:STANDARD
BEGIN:DAYLIGHT
TZOFFSETFROM:-0800
TZOFFSETTO:-0700
TZNAME:PDT
DTSTART:20200308T100000
END:DAYLIGHT
BEGIN:STANDARD
TZOFFSETFROM:-0700
TZOFFSETTO:-0800
TZNAME:PST
DTSTART:20201101T090000
END:STANDARD
BEGIN:DAYLIGHT
TZOFFSETFROM:-0800
TZOFFSETTO:-0700
TZNAME:PDT
DTSTART:20210314T100000
END:DAYLIGHT
BEGIN:STANDARD
TZOFFSETFROM:-0700
TZOFFSETTO:-0800
TZNAME:PST
DTSTART:20211107T090000
END:STANDARD
END:VTIMEZONE
BEGIN:VEVENT
DTSTART;TZID=America/Los_Angeles:20200505T190000
DTEND;TZID=America/Los_Angeles:20200505T200000
DTSTAMP:20260424T172416
CREATED:20200429T181338Z
LAST-MODIFIED:20200429T181338Z
UID:10001132-1588705200-1588708800@www.napainsight.org
SUMMARY:Meditation & Reflections\, on-line with Mike Coughlin
DESCRIPTION:NVIM will continue to meet online until the shelter in place restrictions have been removed. \nPlease join us Tuesday evenings at 7:00pm for a 45-minute on-line discussion and meditation via Zoom. \nTo receive a link to this meeting\, please subscribe to our newsletter by going to https://www.napainsight.org/contact/newsletter/. \nThe zoom meeting link will be sent out to all subscribers approximately two days prior to this event. \nOur meeting structure for our on-line sangha will generally follow the format below: \n\nWelcome/Opening: 10 min\nGently Guided Meditation: 25 min\nReflections/Closing 10 min\n\nAll are welcome! \n 
URL:https://www.napainsight.org/event/meditation-reflections-on-line-with-mike-coughlin/
ATTACH;FMTTYPE=image/jpeg:https://www.napainsight.org/wp-content/uploads/2020/01/Mike-Coughlin2-e1726587384348.jpg
END:VEVENT
BEGIN:VEVENT
DTSTART;TZID=America/Los_Angeles:20200512T190000
DTEND;TZID=America/Los_Angeles:20200512T200000
DTSTAMP:20260424T172416
CREATED:20200429T181501Z
LAST-MODIFIED:20200429T181501Z
UID:10001135-1589310000-1589313600@www.napainsight.org
SUMMARY:Meditation & Reflections\, on-line with Forrest Hill
DESCRIPTION:NVIM will continue to meet online until the shelter in place restrictions have been removed. \nPlease join us Tuesday evenings at 7:00pm for a 45-minute on-line discussion and meditation via Zoom. \nTo receive a link to this meeting\, please subscribe to our newsletter by going to https://www.napainsight.org/contact/newsletter/. \nThe zoom meeting link will be sent out to all subscribers approximately two days prior to this event. \nOur meeting structure for our on-line sangha will generally follow the format below: \n\nWelcome/Opening: 10 min\nGently Guided Meditation: 25 min\nReflections/Closing 10 min\n\nAll are welcome! \n 
URL:https://www.napainsight.org/event/meditation-reflections-on-line-with-forrest-hill/
ATTACH;FMTTYPE=image/jpeg:https://www.napainsight.org/wp-content/uploads/2020/01/Blog-2-Forrest-e1726587468843.jpg
END:VEVENT
BEGIN:VEVENT
DTSTART;TZID=America/Los_Angeles:20200519T190000
DTEND;TZID=America/Los_Angeles:20200519T200000
DTSTAMP:20260424T172416
CREATED:20200429T181556Z
LAST-MODIFIED:20200429T181556Z
UID:10001137-1589914800-1589918400@www.napainsight.org
SUMMARY:Meditation & Reflections\, on-line with Mike Coughlin
DESCRIPTION:NVIM will continue to meet online until the shelter in place restrictions have been removed. \nPlease join us Tuesday evenings at 7:00pm for a 45-minute on-line discussion and meditation via Zoom. \nTo receive a link to this meeting\, please subscribe to our newsletter by going to https://www.napainsight.org/contact/newsletter/. \nThe zoom meeting link will be sent out to all subscribers approximately two days prior to this event. \nOur meeting structure for our on-line sangha will generally follow the format below: \n\nWelcome/Opening: 10 min\nGently Guided Meditation: 25 min\nReflections/Closing 10 min\n\nAll are welcome!
URL:https://www.napainsight.org/event/meditation-reflections-on-line-with-mike-coughlin-2/
ATTACH;FMTTYPE=image/jpeg:https://www.napainsight.org/wp-content/uploads/2020/01/Mike-Coughlin2-e1726587384348.jpg
END:VEVENT
BEGIN:VEVENT
DTSTART;TZID=America/Los_Angeles:20200526T190000
DTEND;TZID=America/Los_Angeles:20200526T200000
DTSTAMP:20260424T172416
CREATED:20200429T181658Z
LAST-MODIFIED:20200429T181658Z
UID:10001139-1590519600-1590523200@www.napainsight.org
SUMMARY:Meditation & Reflections\, on-line with Forrest Hill
DESCRIPTION:NVIM will continue to meet online until the shelter in place restrictions have been removed. \nPlease join us Tuesday evenings at 7:00pm for a 45-minute on-line discussion and meditation via Zoom. \nTo receive a link to this meeting\, please subscribe to our newsletter by going to https://www.napainsight.org/contact/newsletter/. \nThe zoom meeting link will be sent out to all subscribers approximately two days prior to this event. \nOur meeting structure for our on-line sangha will generally follow the format below: \n\nWelcome/Opening: 10 min\nGently Guided Meditation: 25 min\nReflections/Closing 10 min\n\nAll are welcome!
URL:https://www.napainsight.org/event/meditation-reflections-on-line-with-forrest-hill-2/
ATTACH;FMTTYPE=image/jpeg:https://www.napainsight.org/wp-content/uploads/2020/01/Blog-2-Forrest-e1726587468843.jpg
END:VEVENT
BEGIN:VEVENT
DTSTART;TZID=America/Los_Angeles:20200530T100000
DTEND;TZID=America/Los_Angeles:20200530T163000
DTSTAMP:20260424T172416
CREATED:20200429T184537Z
LAST-MODIFIED:20200514T042110Z
UID:10001141-1590832800-1590856200@www.napainsight.org
SUMMARY:PRIDE IN THE TIMES OF COVID-19:  Cultivating Joy & Mindfulness
DESCRIPTION:PRIDE IN THE TIMES OF COVID-19: Cultivating Joy & Mindfulness\nOpen to all who self-identify as LGBTQI+ \nEVENT DETAILS\n\nDate: Saturday\, May 30\, 2020; 10:00am – 4:30pm.\nRegister Here: https://www.eventbrite.com/e/104488540036\nRegistration open until May 29\, 2020.\nSliding Scale: $40-160. \n\nDESCRIPTION\nPracticing compassion for ourselves and for others in community not only allows us to be sustainable in our personal and community struggles but also supports us in allowing new wisdom\, joy\, and love to be integrated as part of our life experiences. \nJoin us online\, where we will dip into the Buddhist practices of compassion for self and others. Enjoy offerings of music\, movement\, and reflection that open\, nourish\, and reconnect the heart. Our day together will include guided meditation\, music\, mindful movement\, and discussion.\n\nTEACHERS\n\n\n\n\n \nRichelle Donigan has studied and taught yoga since 2003. Through her teaching and retreats\, Richelle seeks to diversify the yoga community\, create inclusive practice spaces\, and facilitate healing and well-being for one and all.\n\n\nRichelle Donigan\n\n\n \nAmma Ṭhanasanti is a California born spiritual teacher and former Buddhist nun of 26 years. Her teachings are grounded in the rigor of the Ajahn Chah Forest Tradition\, focusing on compassion\, pure awareness practices and a passion for wholeness.\n\n\nAmma Thannasanti\n\n\n \nFresh “Lev” White is an activist for love and compassion. He offers mindfulness\, and mediation training to help others shift towards a more authenticate and passionate way of living. Lev has offered over 200 Trans\, Gender Expansive\, and LGBI Ally trainings around the Bay and beyond.\n\n\nFresh Lev White\n\n\n \nJames Rosser has been meditating for over 30 years\, beginning in 1987 with James Baraz. He leads both secular and Buddhist-based mindfulness training\, and affinity groups (LGBTQI\, Mental Health Professionals\, White Awake).\n\n\nJames Rosser
URL:https://www.napainsight.org/event/lgbtqi-day-retreat/
ATTACH;FMTTYPE=image/jpeg:https://www.napainsight.org/wp-content/uploads/2020/04/Teachers-Group-Photo.jpg
END:VEVENT
END:VCALENDAR