BEGIN:VCALENDAR
VERSION:2.0
PRODID:-//Napa Valley Insight Meditation - ECPv6.15.20//NONSGML v1.0//EN
CALSCALE:GREGORIAN
METHOD:PUBLISH
X-WR-CALNAME:Napa Valley Insight Meditation
X-ORIGINAL-URL:https://www.napainsight.org
X-WR-CALDESC:Events for Napa Valley Insight Meditation
REFRESH-INTERVAL;VALUE=DURATION:PT1H
X-Robots-Tag:noindex
X-PUBLISHED-TTL:PT1H
BEGIN:VTIMEZONE
TZID:America/Los_Angeles
BEGIN:DAYLIGHT
TZOFFSETFROM:-0800
TZOFFSETTO:-0700
TZNAME:PDT
DTSTART:20180311T100000
END:DAYLIGHT
BEGIN:STANDARD
TZOFFSETFROM:-0700
TZOFFSETTO:-0800
TZNAME:PST
DTSTART:20181104T090000
END:STANDARD
BEGIN:DAYLIGHT
TZOFFSETFROM:-0800
TZOFFSETTO:-0700
TZNAME:PDT
DTSTART:20190310T100000
END:DAYLIGHT
BEGIN:STANDARD
TZOFFSETFROM:-0700
TZOFFSETTO:-0800
TZNAME:PST
DTSTART:20191103T090000
END:STANDARD
BEGIN:DAYLIGHT
TZOFFSETFROM:-0800
TZOFFSETTO:-0700
TZNAME:PDT
DTSTART:20200308T100000
END:DAYLIGHT
BEGIN:STANDARD
TZOFFSETFROM:-0700
TZOFFSETTO:-0800
TZNAME:PST
DTSTART:20201101T090000
END:STANDARD
END:VTIMEZONE
BEGIN:VEVENT
DTSTART;TZID=America/Los_Angeles:20190801T080000
DTEND;TZID=America/Los_Angeles:20190801T090000
DTSTAMP:20260425T070346
CREATED:20190709T021503Z
LAST-MODIFIED:20190812T202810Z
UID:10001266-1564646400-1564650000@www.napainsight.org
SUMMARY:Thursday Morning Meditation
DESCRIPTION:For those interested in supporting their morning practice\, we invite you to join us on Thursday mornings for silent meditation. The meditation will begin promptly at 9 am in Universalist Unitarian Fellowship sanctuary. \nThere will be a 30 minute silent meditation period\, followed by a short 10 – 20 minute period in which individuals may comment on their own practice\, while the group listens in silence.
URL:https://www.napainsight.org/event/thursday-morning-meditation-145/
LOCATION:Napa Valley Unitarian Universalists\, 1625 Salvador Ave\, Napa\, CA\, 94559
END:VEVENT
BEGIN:VEVENT
DTSTART;TZID=America/Los_Angeles:20190806T190000
DTEND;TZID=America/Los_Angeles:20190806T203000
DTSTAMP:20260425T070346
CREATED:20190709T013540Z
LAST-MODIFIED:20190812T202755Z
UID:10001070-1565118000-1565123400@www.napainsight.org
SUMMARY:Special Guest: Mark Coleman
DESCRIPTION:NVIM will host a talk by author\, naturalist and meditation instructor Mark Coleman. \nMark will be presenting material from his newest book\, From Suffering to Peace.  \nMark has practiced Buddhist meditation since 1984. He is a Spirit Rock Meditation Teacher and has been teaching Insight Meditation retreats since 1997. He also leads wilderness meditation retreats from Alaska to Peru\, integrating mindfulness meditation with nature. He is author of Awake in the Wild: Mindfulness in Nature as a Path of Self-Discovery. Mark is a psychotherapist\, life-coach and mindfulness consultant to corporations. He is an avid outdoor enthusiast and passionate about combining the forces of meditation\, silence and nature. \nVisit Mark’s website\, Aware in the Wild\, to learn more about his approach to nature-based mindfulness practice and how this approach has help students all over the world find greater peace and fulfillment. \n\n+
URL:https://www.napainsight.org/event/special-guest-mark-coleman-4/
LOCATION:Napa Valley Unitarian Universalists\, 1625 Salvador Ave\, Napa\, CA\, 94559
ATTACH;FMTTYPE=image/jpeg:https://www.napainsight.org/wp-content/uploads/2015/06/Mark-Colman-2-e1441211771258.jpg
END:VEVENT
BEGIN:VEVENT
DTSTART;TZID=America/Los_Angeles:20190808T080000
DTEND;TZID=America/Los_Angeles:20190808T090000
DTSTAMP:20260425T070346
CREATED:20190709T021547Z
LAST-MODIFIED:20190812T202743Z
UID:10001267-1565251200-1565254800@www.napainsight.org
SUMMARY:Thursday Morning Meditation
DESCRIPTION:For those interested in supporting their morning practice\, we invite you to join us on Thursday mornings for silent meditation. The meditation will begin promptly at 9 am in Universalist Unitarian Fellowship sanctuary. \nThere will be a 30 minute silent meditation period\, followed by a short 10 – 20 minute period in which individuals may comment on their own practice\, while the group listens in silence.
URL:https://www.napainsight.org/event/thursday-morning-meditation-146/
LOCATION:Napa Valley Unitarian Universalists\, 1625 Salvador Ave\, Napa\, CA\, 94559
END:VEVENT
BEGIN:VEVENT
DTSTART;TZID=America/Los_Angeles:20190813T190000
DTEND;TZID=America/Los_Angeles:20190813T203000
DTSTAMP:20260425T070346
CREATED:20190709T013808Z
LAST-MODIFIED:20190812T164455Z
UID:10001071-1565722800-1565728200@www.napainsight.org
SUMMARY:Meditation and Discussion: Mike Coughlin
DESCRIPTION:Mike Coughlin will facilitate this evening’s meditation and discussion. Mike has been practicing mindfulness in the vipassana tradition for over a decade. He has received training in Buddhism and mindfulness through Spirit Rock Meditation Center and Mindful Schools and is currently enrolled in UCLA’s Certification in Mindfulness Facilitation program. \n\nOur evening sittings generally begin with a 30 minute meditation\, followed by a short break for tea and greetings. The Facilitator will then give a short talk on relevant themes and lead a group discussion.  All levels of experience are welcome.
URL:https://www.napainsight.org/event/meditation-and-discussion-mike-coughlin-45/
LOCATION:Napa Valley Unitarian Universalists\, 1625 Salvador Ave\, Napa\, CA\, 94559
END:VEVENT
BEGIN:VEVENT
DTSTART;TZID=America/Los_Angeles:20190815T080000
DTEND;TZID=America/Los_Angeles:20190815T090000
DTSTAMP:20260425T070346
CREATED:20190709T021638Z
LAST-MODIFIED:20190812T164613Z
UID:10001268-1565856000-1565859600@www.napainsight.org
SUMMARY:Thursday Morning Meditation
DESCRIPTION:For those interested in supporting their morning practice\, we invite you to join us on Thursday mornings for silent meditation. The meditation will begin promptly at 9 am in Universalist Unitarian Fellowship sanctuary. \nThere will be a 30 minute silent meditation period\, followed by a short 10 – 20 minute period in which individuals may comment on their own practice\, while the group listens in silence.
URL:https://www.napainsight.org/event/thursday-morning-meditation-147/
LOCATION:Napa Valley Unitarian Universalists\, 1625 Salvador Ave\, Napa\, CA\, 94559
END:VEVENT
BEGIN:VEVENT
DTSTART;TZID=America/Los_Angeles:20190820T190000
DTEND;TZID=America/Los_Angeles:20190820T203000
DTSTAMP:20260425T070346
CREATED:20190709T013920Z
LAST-MODIFIED:20190812T164633Z
UID:10001072-1566327600-1566333000@www.napainsight.org
SUMMARY:Meditation and Discussion: Forrest Hill
DESCRIPTION:Forrest Hill will facilitate this evening’s meditation and discussion. Forrest has been practicing Insight Meditation since 2004 and is a founding member of Napa Valley Insight Meditation. He is currently enrolled in the Community Dharma Leaders Program at Spirit Rock Meditation Center. \n\nOur evening sittings generally begin with a 30 minute meditation\, followed by a short break for tea and greetings. The Facilitator will then give a short talk on relevant themes and lead a group discussion.  All levels of experience are welcome.
URL:https://www.napainsight.org/event/meditation-and-discussion-forrest-hill-51/
LOCATION:Napa Valley Unitarian Universalists\, 1625 Salvador Ave\, Napa\, CA\, 94559
END:VEVENT
BEGIN:VEVENT
DTSTART;TZID=America/Los_Angeles:20190822T080000
DTEND;TZID=America/Los_Angeles:20190822T090000
DTSTAMP:20260425T070346
CREATED:20190709T021717Z
LAST-MODIFIED:20190812T164648Z
UID:10001269-1566460800-1566464400@www.napainsight.org
SUMMARY:Thursday Morning Meditation
DESCRIPTION:For those interested in supporting their morning practice\, we invite you to join us on Thursday mornings for silent meditation. The meditation will begin promptly at 9 am in Universalist Unitarian Fellowship sanctuary. \nThere will be a 30 minute silent meditation period\, followed by a short 10 – 20 minute period in which individuals may comment on their own practice\, while the group listens in silence.
URL:https://www.napainsight.org/event/thursday-morning-meditation-148/
LOCATION:NVIM Retreat Center\, 1350 Hestia Way\, Napa\, CA\, 94558\, United States
END:VEVENT
BEGIN:VEVENT
DTSTART;TZID=America/Los_Angeles:20190824T093000
DTEND;TZID=America/Los_Angeles:20190824T133000
DTSTAMP:20260425T070346
CREATED:20190709T014559Z
LAST-MODIFIED:20190812T164704Z
UID:10001073-1566639000-1566653400@www.napainsight.org
SUMMARY:Half Daylong: Debbie Darrin & Forrest Hill
DESCRIPTION:Mindfulness of the Body: Movement\, Meditation and Metta. \nDebbie and Forrest will co-lead this half daylong event focusing on becoming more present and compassionate with our physical sense of being. \nWhat to Bring: Please bring a lunch\, beverage and appropriate clothing for outside walking meditation. \nSuggested Donation: $20 – $60 \nNo one turned away for lack of funds \nAll levels of experience welcomed!
URL:https://www.napainsight.org/event/half-daylong-debbie-darrin-forrest-hill/
LOCATION:Napa Valley Unitarian Universalists\, 1625 Salvador Ave\, Napa\, CA\, 94559
END:VEVENT
BEGIN:VEVENT
DTSTART;TZID=America/Los_Angeles:20190827T190000
DTEND;TZID=America/Los_Angeles:20190827T203000
DTSTAMP:20260425T070346
CREATED:20190709T014849Z
LAST-MODIFIED:20190812T164718Z
UID:10001074-1566932400-1566937800@www.napainsight.org
SUMMARY:Meditation and Discussion: Lori Stelling
DESCRIPTION:Lori Stelling will facilitate this evening’s meditation and discussion. Lori has practiced Insight Meditation since 2002. She has completed Insight Meditation Center’s 9-Month Eightfold Path Program and is currently engaged in year-long Buddhist studies through Dharmagiri and Dr. Rick Hanson’s Foundations of Well-Being Program. \n\nOur evening sittings generally begin with a 30 minute meditation\, followed by a short break for tea and greetings. The Facilitator will then give a short talk on relevant themes and lead a group discussion.  All levels of experience are welcome.
URL:https://www.napainsight.org/event/meditation-and-discussion-lori-stelling-50/
LOCATION:Napa Valley Unitarian Universalists\, 1625 Salvador Ave\, Napa\, CA\, 94559
END:VEVENT
BEGIN:VEVENT
DTSTART;TZID=America/Los_Angeles:20190829T080000
DTEND;TZID=America/Los_Angeles:20190829T090000
DTSTAMP:20260425T070346
CREATED:20190709T021812Z
LAST-MODIFIED:20190827T191123Z
UID:10001270-1567065600-1567069200@www.napainsight.org
SUMMARY:Thursday Morning Meditation
DESCRIPTION:For those interested in supporting their morning practice\, we invite you to join us on Thursday mornings for silent meditation. The meditation will begin promptly at 8 am in Universalist Unitarian Fellowship sanctuary. \nThere will be a 30 minute silent meditation period\, followed by a short 10 – 20 minute period in which individuals may comment on their own practice\, while the group listens in silence.
URL:https://www.napainsight.org/event/thursday-morning-meditation-149/
LOCATION:Napa Valley Unitarian Universalists\, 1625 Salvador Ave\, Napa\, CA\, 94559
END:VEVENT
END:VCALENDAR