BEGIN:VCALENDAR
VERSION:2.0
PRODID:-//Napa Valley Insight Meditation - ECPv6.15.20//NONSGML v1.0//EN
CALSCALE:GREGORIAN
METHOD:PUBLISH
X-ORIGINAL-URL:https://www.napainsight.org
X-WR-CALDESC:Events for Napa Valley Insight Meditation
REFRESH-INTERVAL;VALUE=DURATION:PT1H
X-Robots-Tag:noindex
X-PUBLISHED-TTL:PT1H
BEGIN:VTIMEZONE
TZID:America/Los_Angeles
BEGIN:DAYLIGHT
TZOFFSETFROM:-0800
TZOFFSETTO:-0700
TZNAME:PDT
DTSTART:20180311T100000
END:DAYLIGHT
BEGIN:STANDARD
TZOFFSETFROM:-0700
TZOFFSETTO:-0800
TZNAME:PST
DTSTART:20181104T090000
END:STANDARD
BEGIN:DAYLIGHT
TZOFFSETFROM:-0800
TZOFFSETTO:-0700
TZNAME:PDT
DTSTART:20190310T100000
END:DAYLIGHT
BEGIN:STANDARD
TZOFFSETFROM:-0700
TZOFFSETTO:-0800
TZNAME:PST
DTSTART:20191103T090000
END:STANDARD
BEGIN:DAYLIGHT
TZOFFSETFROM:-0800
TZOFFSETTO:-0700
TZNAME:PDT
DTSTART:20200308T100000
END:DAYLIGHT
BEGIN:STANDARD
TZOFFSETFROM:-0700
TZOFFSETTO:-0800
TZNAME:PST
DTSTART:20201101T090000
END:STANDARD
END:VTIMEZONE
BEGIN:VEVENT
DTSTART;TZID=America/Los_Angeles:20190702T190000
DTEND;TZID=America/Los_Angeles:20190702T203000
DTSTAMP:20260425T084438
CREATED:20190307T070700Z
LAST-MODIFIED:20190812T202408Z
UID:10001065-1562094000-1562099400@www.napainsight.org
SUMMARY:Meditation and Discussion: Forrest Hill
DESCRIPTION:Forrest Hill will facilitate this evening’s meditation and discussion. Forrest has been practicing Insight Meditation since 2004 and is a founding member of Napa Valley Insight Meditation. He is currently enrolled in the Community Dharma Leaders Program at Spirit Rock Meditation Center. \n  \nOur evening sittings generally begin with a 30 minute meditation\, followed by a short break for tea and greetings. The Facilitator will then give a short talk on relevant themes and lead a group discussion.  All levels of experience are welcome.
URL:https://www.napainsight.org/event/meditation-and-discussion-forrest-hill-49/
LOCATION:Napa Valley Unitarian Universalists\, 1625 Salvador Ave\, Napa\, CA\, 94559
END:VEVENT
BEGIN:VEVENT
DTSTART;TZID=America/Los_Angeles:20190704T080000
DTEND;TZID=America/Los_Angeles:20190704T090000
DTSTAMP:20260425T084438
CREATED:20190301T014137Z
LAST-MODIFIED:20190812T202351Z
UID:10001224-1562227200-1562230800@www.napainsight.org
SUMMARY:Thursday Morning Meditation
DESCRIPTION:For those interested in supporting their morning practice\, we invite you to join us on Thursday mornings for silent meditation. The meditation will begin promptly at 8 am in the Napa Valley Unitarian Universalists sanctuary. \nThere will be a 30 minute silent meditation period\, followed by a short 10 – 20 minute period in which individuals may comment on their own practice\, in a safe and supportive space. \n No meditation experience is necessary. Everyone is welcome.
URL:https://www.napainsight.org/event/thursday-morning-meditation-141/
LOCATION:Napa Valley Unitarian Universalists\, 1625 Salvador Ave\, Napa\, CA\, 94559
END:VEVENT
BEGIN:VEVENT
DTSTART;TZID=America/Los_Angeles:20190709T190000
DTEND;TZID=America/Los_Angeles:20190709T203000
DTSTAMP:20260425T084438
CREATED:20190307T070605Z
LAST-MODIFIED:20190812T202341Z
UID:10001245-1562698800-1562704200@www.napainsight.org
SUMMARY:Meditation and Discussion: Mike Coughlin
DESCRIPTION:Mike Coughlin will facilitate this evening’s meditation and discussion. Mike has been practicing mindfulness in the vipassana tradition for over a decade. He has received training in Buddhism and mindfulness through Spirit Rock Meditation Center and Mindful Schools and is currently enrolled in UCLA’s Certification in Mindfulness Facilitation program. \n  \nOur evening sittings generally begin with a 30 minute meditation\, followed by a short break for tea and greetings. The Facilitator will then give a short talk on relevant themes and lead a group discussion.  All levels of experience are welcome.
URL:https://www.napainsight.org/event/meditation-and-discussion-mike-coughlin-44/
LOCATION:Napa Valley Unitarian Universalists\, 1625 Salvador Ave\, Napa\, CA\, 94559
END:VEVENT
BEGIN:VEVENT
DTSTART;TZID=America/Los_Angeles:20190711T080000
DTEND;TZID=America/Los_Angeles:20190711T090000
DTSTAMP:20260425T084438
CREATED:20190301T014217Z
LAST-MODIFIED:20190812T202328Z
UID:10001225-1562832000-1562835600@www.napainsight.org
SUMMARY:Thursday Morning Meditation
DESCRIPTION:For those interested in supporting their morning practice\, we invite you to join us on Thursday mornings for silent meditation. The meditation will begin promptly at 8 am in the Napa Valley Unitarian Universalists sanctuary. \nThere will be a 30 minute silent meditation period\, followed by a short 10 – 20 minute period in which individuals may comment on their own practice\, in a safe and supportive space. \n No meditation experience is necessary. Everyone is welcome.
URL:https://www.napainsight.org/event/thursday-morning-meditation-142/
LOCATION:Napa Valley Unitarian Universalists\, 1625 Salvador Ave\, Napa\, CA\, 94559
END:VEVENT
BEGIN:VEVENT
DTSTART;TZID=America/Los_Angeles:20190716T190000
DTEND;TZID=America/Los_Angeles:20190716T203000
DTSTAMP:20260425T084438
CREATED:20190307T064837Z
LAST-MODIFIED:20190812T202318Z
UID:10001232-1563303600-1563309000@www.napainsight.org
SUMMARY:Special Guest: Rik Center
DESCRIPTION:On Tuesday July 16th\, at 7:00 the Napa Valley Insight Meditation will host a talk by mindful meditation instructor Rik Center. He will lead a mindfulness meditation session and give a Dharma talk on aspects of the Buddha’s teachings. \nRik is the co-founder of the Mindfulness Care Center in San Francisco\, where he serves as a Somatic Stress and Trauma Counselor/Practitioner\, Mindfulness Meditation Teacher and Buddhist/Interfaith Chaplain. He has trained in the Martial Art of Kyudo “The Way of The Bow” for over 19 years. Rik has been meditating since the late 1980’s and is a member of the Spirit Rock Community Sangha. \nOur evening sittings generally begin with a 30 minute meditation\, followed by a short break for tea and greetings. The Facilitator will then give a short talk on relevant themes and lead a group discussion.  All levels of experience are welcome.
URL:https://www.napainsight.org/event/special-guest-rik-center-3/
LOCATION:Napa Valley Unitarian Universalists\, 1625 Salvador Ave\, Napa\, CA\, 94559
ATTACH;FMTTYPE=image/jpeg:https://www.napainsight.org/wp-content/uploads/2017/04/Rik-Center.jpeg
END:VEVENT
BEGIN:VEVENT
DTSTART;TZID=America/Los_Angeles:20190718T080000
DTEND;TZID=America/Los_Angeles:20190718T090000
DTSTAMP:20260425T084438
CREATED:20190301T014254Z
LAST-MODIFIED:20190812T202306Z
UID:10001226-1563436800-1563440400@www.napainsight.org
SUMMARY:Thursday Morning Meditation
DESCRIPTION:For those interested in supporting their morning practice\, we invite you to join us on Thursday mornings for silent meditation. The meditation will begin promptly at 8 am in the Napa Valley Unitarian Universalists sanctuary. \nThere will be a 30 minute silent meditation period\, followed by a short 10 – 20 minute period in which individuals may comment on their own practice\, in a safe and supportive space. \n No meditation experience is necessary. Everyone is welcome.
URL:https://www.napainsight.org/event/thursday-morning-meditation-143/
LOCATION:Napa Valley Unitarian Universalists\, 1625 Salvador Ave\, Napa\, CA\, 94559
END:VEVENT
BEGIN:VEVENT
DTSTART;TZID=America/Los_Angeles:20190723T190000
DTEND;TZID=America/Los_Angeles:20190723T203000
DTSTAMP:20260425T084438
CREATED:20190307T070748Z
LAST-MODIFIED:20190812T202256Z
UID:10001066-1563908400-1563913800@www.napainsight.org
SUMMARY:Meditation and Discussion: Forrest Hill
DESCRIPTION:Forrest Hill will facilitate this evening’s meditation and discussion. Forrest has been practicing Insight Meditation since 2004 and is a founding member of Napa Valley Insight Meditation. He is currently enrolled in the Community Dharma Leaders Program at Spirit Rock Meditation Center. \n  \nOur evening sittings generally begin with a 30 minute meditation\, followed by a short break for tea and greetings. The Facilitator will then give a short talk on relevant themes and lead a group discussion.  All levels of experience are welcome.
URL:https://www.napainsight.org/event/meditation-and-discussion-forrest-hill-50/
LOCATION:Napa Valley Unitarian Universalists\, 1625 Salvador Ave\, Napa\, CA\, 94559
END:VEVENT
BEGIN:VEVENT
DTSTART;TZID=America/Los_Angeles:20190725T080000
DTEND;TZID=America/Los_Angeles:20190725T090000
DTSTAMP:20260425T084438
CREATED:20190301T014351Z
LAST-MODIFIED:20190812T202246Z
UID:10001227-1564041600-1564045200@www.napainsight.org
SUMMARY:Thursday Morning Meditation
DESCRIPTION:For those interested in supporting their morning practice\, we invite you to join us on Thursday mornings for silent meditation. The meditation will begin promptly at 8 am in the Napa Valley Unitarian Universalists sanctuary. \nThere will be a 30 minute silent meditation period\, followed by a short 10 – 20 minute period in which individuals may comment on their own practice\, in a safe and supportive space. \n No meditation experience is necessary. Everyone is welcome.
URL:https://www.napainsight.org/event/thursday-morning-meditation-144/
LOCATION:Napa Valley Unitarian Universalists\, 1625 Salvador Ave\, Napa\, CA\, 94559
END:VEVENT
BEGIN:VEVENT
DTSTART;TZID=America/Los_Angeles:20190730T190000
DTEND;TZID=America/Los_Angeles:20190730T203000
DTSTAMP:20260425T084438
CREATED:20190307T070842Z
LAST-MODIFIED:20190812T202231Z
UID:10001067-1564513200-1564518600@www.napainsight.org
SUMMARY:Meditation and Discussion: Lori Stelling
DESCRIPTION:Lori Stelling will facilitate this evening’s meditation and discussion. Lori has practiced Insight Meditation since 2002. She has completed Insight Meditation Center’s 9-Month Eightfold Path Program and is currently engaged in year-long Buddhist studies through Dharmagiri and Dr. Rick Hanson’s Foundations of Well-Being Program. \n  \nOur evening sittings generally begin with a 30 minute meditation\, followed by a short break for tea and greetings. The Facilitator will then give a short talk on relevant themes and lead a group discussion.  All levels of experience are welcome
URL:https://www.napainsight.org/event/meditation-and-discussion-lori-stelling-49/
LOCATION:Napa Valley Unitarian Universalists\, 1625 Salvador Ave\, Napa\, CA\, 94559
END:VEVENT
END:VCALENDAR