BEGIN:VCALENDAR
VERSION:2.0
PRODID:-//Napa Valley Insight Meditation - ECPv6.15.20//NONSGML v1.0//EN
CALSCALE:GREGORIAN
METHOD:PUBLISH
X-ORIGINAL-URL:https://www.napainsight.org
X-WR-CALDESC:Events for Napa Valley Insight Meditation
REFRESH-INTERVAL;VALUE=DURATION:PT1H
X-Robots-Tag:noindex
X-PUBLISHED-TTL:PT1H
BEGIN:VTIMEZONE
TZID:America/Los_Angeles
BEGIN:DAYLIGHT
TZOFFSETFROM:-0800
TZOFFSETTO:-0700
TZNAME:PDT
DTSTART:20180311T100000
END:DAYLIGHT
BEGIN:STANDARD
TZOFFSETFROM:-0700
TZOFFSETTO:-0800
TZNAME:PST
DTSTART:20181104T090000
END:STANDARD
BEGIN:DAYLIGHT
TZOFFSETFROM:-0800
TZOFFSETTO:-0700
TZNAME:PDT
DTSTART:20190310T100000
END:DAYLIGHT
BEGIN:STANDARD
TZOFFSETFROM:-0700
TZOFFSETTO:-0800
TZNAME:PST
DTSTART:20191103T090000
END:STANDARD
BEGIN:DAYLIGHT
TZOFFSETFROM:-0800
TZOFFSETTO:-0700
TZNAME:PDT
DTSTART:20200308T100000
END:DAYLIGHT
BEGIN:STANDARD
TZOFFSETFROM:-0700
TZOFFSETTO:-0800
TZNAME:PST
DTSTART:20201101T090000
END:STANDARD
END:VTIMEZONE
BEGIN:VEVENT
DTSTART;TZID=America/Los_Angeles:20190502T080000
DTEND;TZID=America/Los_Angeles:20190502T090000
DTSTAMP:20260425T114952
CREATED:20190301T013421Z
LAST-MODIFIED:20190812T203317Z
UID:10001211-1556784000-1556787600@www.napainsight.org
SUMMARY:Thursday Morning Meditation
DESCRIPTION:For those interested in supporting their morning practice\, we invite you to join us on Thursday mornings for silent meditation. The meditation will begin promptly at 8 am in the Napa Valley Unitarian Universalists sanctuary. \nThere will be a 30 minute silent meditation period\, followed by a short 10 – 20 minute period in which individuals may comment on their own practice\, in a safe and supportive space. \n No meditation experience is necessary. Everyone is welcome.
URL:https://www.napainsight.org/event/thursday-morning-meditation-132/
LOCATION:Napa Valley Unitarian Universalists\, 1625 Salvador Ave\, Napa\, CA\, 94559
END:VEVENT
BEGIN:VEVENT
DTSTART;TZID=America/Los_Angeles:20190507T190000
DTEND;TZID=America/Los_Angeles:20190507T203000
DTSTAMP:20260425T114952
CREATED:20190307T070012Z
LAST-MODIFIED:20190812T203304Z
UID:10001236-1557255600-1557261000@www.napainsight.org
SUMMARY:Meditation and Discussion: Mike Coughlin
DESCRIPTION:Mike Coughlin will facilitate this evening’s meditation and discussion. Mike has been practicing mindfulness in the vipassana tradition for over a decade. He has received training in Buddhism and mindfulness through Spirit Rock Meditation Center and Mindful Schools and is currently enrolled in UCLA’s Certification in Mindfulness Facilitation program. \n  \nOur evening sittings generally begin with a 30 minute meditation\, followed by a short break for tea and greetings. The Facilitator will then give a short talk on relevant themes and lead a group discussion.  All levels of experience are welcome.
URL:https://www.napainsight.org/event/meditation-and-discussion-mike-coughlin-42/
LOCATION:Napa Valley Unitarian Universalists\, 1625 Salvador Ave\, Napa\, CA\, 94559
END:VEVENT
BEGIN:VEVENT
DTSTART;TZID=America/Los_Angeles:20190509T080000
DTEND;TZID=America/Los_Angeles:20190509T090000
DTSTAMP:20260425T114952
CREATED:20190301T013453Z
LAST-MODIFIED:20190812T203254Z
UID:10001213-1557388800-1557392400@www.napainsight.org
SUMMARY:Thursday Morning Meditation
DESCRIPTION:For those interested in supporting their morning practice\, we invite you to join us on Thursday mornings for silent meditation. The meditation will begin promptly at 8 am in the Napa Valley Unitarian Universalists sanctuary. \nThere will be a 30 minute silent meditation period\, followed by a short 10 – 20 minute period in which individuals may comment on their own practice\, in a safe and supportive space. \n No meditation experience is necessary. Everyone is welcome.
URL:https://www.napainsight.org/event/thursday-morning-meditation-133/
LOCATION:Napa Valley Unitarian Universalists\, 1625 Salvador Ave\, Napa\, CA\, 94559
END:VEVENT
BEGIN:VEVENT
DTSTART;TZID=America/Los_Angeles:20190514T190000
DTEND;TZID=America/Los_Angeles:20190514T203000
DTSTAMP:20260425T114952
CREATED:20190307T062947Z
LAST-MODIFIED:20190812T203244Z
UID:10001230-1557860400-1557865800@www.napainsight.org
SUMMARY:Special Guest: Kevin Griffin
DESCRIPTION:On Tuesday May 14th\, Napa Valley Insight Meditation will host a talk by Kevin Griffin\, author Buddhist teacher and innovator in the field of addiction treatment. \nKevin is a longtime Buddhist practitioner who trained as a Community Dharma Leader at Spirit Rock. He is the author of One Breath at a Time: Buddhism and the Twelve Steps and the forthcoming God\, Buddha\, and the Path of Recovery. A co-founder of the Buddhist Recovery Network\, he teaches regularly at Spirit Rock\, as well as at treatment centers\, Buddhist centers\, professional conferences\, and colleges across the U.S. Kevin has been a member of the Spirit Rock Family Program for ten years. \nOur evening sittings generally begin with a 30 minute meditation\, followed by a short break for tea and greetings. The Facilitator will then give a short talk on relevant themes and lead a group discussion. All levels of experience are welcome. \nNVIM meets at Napa Valley Unitarian Universalists (1625 Salvador Ave\, Napa CA). All levels of experience are welcomed.
URL:https://www.napainsight.org/event/special-guest-kevin-griffin-5/
LOCATION:Napa Valley Unitarian Universalists\, 1625 Salvador Ave\, Napa\, CA\, 94559
ATTACH;FMTTYPE=image/jpeg:https://www.napainsight.org/wp-content/uploads/2017/07/Kevin-Griffin2.jpg
END:VEVENT
BEGIN:VEVENT
DTSTART;TZID=America/Los_Angeles:20190516T080000
DTEND;TZID=America/Los_Angeles:20190516T090000
DTSTAMP:20260425T114952
CREATED:20190301T013533Z
LAST-MODIFIED:20190812T203235Z
UID:10001215-1557993600-1557997200@www.napainsight.org
SUMMARY:Thursday Morning Meditation
DESCRIPTION:For those interested in supporting their morning practice\, we invite you to join us on Thursday mornings for silent meditation. The meditation will begin promptly at 8 am in the Napa Valley Unitarian Universalists sanctuary. \nThere will be a 30 minute silent meditation period\, followed by a short 10 – 20 minute period in which individuals may comment on their own practice\, in a safe and supportive space. \n No meditation experience is necessary. Everyone is welcome.
URL:https://www.napainsight.org/event/thursday-morning-meditation-134/
LOCATION:Napa Valley Unitarian Universalists\, 1625 Salvador Ave\, Napa\, CA\, 94559
END:VEVENT
BEGIN:VEVENT
DTSTART;TZID=America/Los_Angeles:20190518T093000
DTEND;TZID=America/Los_Angeles:20190518T133000
DTSTAMP:20260425T114952
CREATED:20190509T232324Z
LAST-MODIFIED:20190812T203224Z
UID:10001068-1558171800-1558186200@www.napainsight.org
SUMMARY:Waking Up: A Mindful Exploration Of Our Relationship With Climate Crisis
DESCRIPTION:Join Lori Stelling and Mike Coughlin\, local leaders of N.V.I.M.\, for a day of\nmeditation and reflection on our personal and communal\nrelationship with the unfolding and escalating climate\nemergency. How do we look inward and hold the truth of\nour experience without falling into states of overwhelm and\nparalysis? How do we look outward at the world around us\nand find the resolve to take meaningful action while also\nmaintaining a sense of balance and equanimity? \nDuring this half-day retreat\, which is open to experienced\nmeditators as well as those who are new to the practice\, we\nwill participate in periods of meditation\, gentle movement and\nreflective exercises. Through the practice of mindful awareness\,\nwe will cultivate the qualities of compassion\, clarity and wise\nengagement. \nWhat to Bring: \n• Please bring a lunch for yourself that does not need to be\nrefrigerated (filtered water & hot tea will be provided)\n• Layered clothing (temperatures may vary)\n• A notepad and a pen \nSuggested Donation: $50 – $25\nNo one will be turned away for lack of funds \nRegistration and Information: You can register at Eventbrite by clicking on the link below: \nREGISTER FOR HALF DAY RETREAT \nor by contacting Lori Stelling at Lori@napainsight.org
URL:https://www.napainsight.org/event/waking-up-a-mindful-exploration-of-our-relationship-with-climate-crisis/
ATTACH;FMTTYPE=image/jpeg:https://www.napainsight.org/wp-content/uploads/2019/05/Earth-Love.jpg
END:VEVENT
BEGIN:VEVENT
DTSTART;TZID=America/Los_Angeles:20190521T190000
DTEND;TZID=America/Los_Angeles:20190521T203000
DTSTAMP:20260425T114952
CREATED:20190307T070110Z
LAST-MODIFIED:20190812T203213Z
UID:10001237-1558465200-1558470600@www.napainsight.org
SUMMARY:Meditation and Discussion: Forrest Hill
DESCRIPTION:Forrest Hill will facilitate this evening’s meditation and discussion. Forrest has been practicing Insight Meditation since 2004 and is a founding member of Napa Valley Insight Meditation. He is currently enrolled in the Community Dharma Leaders Program at Spirit Rock Meditation Center. \n  \nOur evening sittings generally begin with a 30 minute meditation\, followed by a short break for tea and greetings. The Facilitator will then give a short talk on relevant themes and lead a group discussion.  All levels of experience are welcome.
URL:https://www.napainsight.org/event/meditation-and-discussion-forrest-hill-47/
LOCATION:Napa Valley Unitarian Universalists\, 1625 Salvador Ave\, Napa\, CA\, 94559
END:VEVENT
BEGIN:VEVENT
DTSTART;TZID=America/Los_Angeles:20190523T080000
DTEND;TZID=America/Los_Angeles:20190523T090000
DTSTAMP:20260425T114952
CREATED:20190301T013708Z
LAST-MODIFIED:20190812T203204Z
UID:10001217-1558598400-1558602000@www.napainsight.org
SUMMARY:Thursday Morning Meditation
DESCRIPTION:For those interested in supporting their morning practice\, we invite you to join us on Thursday mornings for silent meditation. The meditation will begin promptly at 8 am in the Napa Valley Unitarian Universalists sanctuary. \nThere will be a 30 minute silent meditation period\, followed by a short 10 – 20 minute period in which individuals may comment on their own practice\, in a safe and supportive space. \n No meditation experience is necessary. Everyone is welcome.
URL:https://www.napainsight.org/event/thursday-morning-meditation-135/
LOCATION:Napa Valley Unitarian Universalists\, 1625 Salvador Ave\, Napa\, CA\, 94559
END:VEVENT
BEGIN:VEVENT
DTSTART;TZID=America/Los_Angeles:20190528T190000
DTEND;TZID=America/Los_Angeles:20190528T203000
DTSTAMP:20260425T114952
CREATED:20190307T070209Z
LAST-MODIFIED:20190812T203156Z
UID:10001238-1559070000-1559075400@www.napainsight.org
SUMMARY:Meditation and Discussion: Lori Stelling
DESCRIPTION:Lori Stelling will facilitate this evening’s meditation and discussion. Lori has practiced Insight Meditation since 2002. She has completed Insight Meditation Center’s 9-Month Eightfold Path Program and is currently engaged in year-long Buddhist studies through Dharmagiri and Dr. Rick Hanson’s Foundations of Well-Being Program. \n  \nOur evening sittings generally begin with a 30 minute meditation\, followed by a short break for tea and greetings. The Facilitator will then give a short talk on relevant themes and lead a group discussion.  All levels of experience are welcome.
URL:https://www.napainsight.org/event/meditation-and-discussion-lori-stelling-47/
LOCATION:Napa Valley Unitarian Universalists\, 1625 Salvador Ave\, Napa\, CA\, 94559
END:VEVENT
BEGIN:VEVENT
DTSTART;TZID=America/Los_Angeles:20190530T080000
DTEND;TZID=America/Los_Angeles:20190530T090000
DTSTAMP:20260425T114952
CREATED:20190301T013744Z
LAST-MODIFIED:20190812T203146Z
UID:10001219-1559203200-1559206800@www.napainsight.org
SUMMARY:Thursday Morning Meditation
DESCRIPTION:For those interested in supporting their morning practice\, we invite you to join us on Thursday mornings for silent meditation. The meditation will begin promptly at 8 am in the Napa Valley Unitarian Universalists sanctuary. \nThere will be a 30 minute silent meditation period\, followed by a short 10 – 20 minute period in which individuals may comment on their own practice\, in a safe and supportive space. \n No meditation experience is necessary. Everyone is welcome.
URL:https://www.napainsight.org/event/thursday-morning-meditation-136/
LOCATION:Napa Valley Unitarian Universalists\, 1625 Salvador Ave\, Napa\, CA\, 94559
END:VEVENT
END:VCALENDAR