BEGIN:VCALENDAR
VERSION:2.0
PRODID:-//Napa Valley Insight Meditation - ECPv6.15.20//NONSGML v1.0//EN
CALSCALE:GREGORIAN
METHOD:PUBLISH
X-WR-CALNAME:Napa Valley Insight Meditation
X-ORIGINAL-URL:https://www.napainsight.org
X-WR-CALDESC:Events for Napa Valley Insight Meditation
REFRESH-INTERVAL;VALUE=DURATION:PT1H
X-Robots-Tag:noindex
X-PUBLISHED-TTL:PT1H
BEGIN:VTIMEZONE
TZID:America/Los_Angeles
BEGIN:DAYLIGHT
TZOFFSETFROM:-0800
TZOFFSETTO:-0700
TZNAME:PDT
DTSTART:20170312T100000
END:DAYLIGHT
BEGIN:STANDARD
TZOFFSETFROM:-0700
TZOFFSETTO:-0800
TZNAME:PST
DTSTART:20171105T090000
END:STANDARD
BEGIN:DAYLIGHT
TZOFFSETFROM:-0800
TZOFFSETTO:-0700
TZNAME:PDT
DTSTART:20180311T100000
END:DAYLIGHT
BEGIN:STANDARD
TZOFFSETFROM:-0700
TZOFFSETTO:-0800
TZNAME:PST
DTSTART:20181104T090000
END:STANDARD
BEGIN:DAYLIGHT
TZOFFSETFROM:-0800
TZOFFSETTO:-0700
TZNAME:PDT
DTSTART:20190310T100000
END:DAYLIGHT
BEGIN:STANDARD
TZOFFSETFROM:-0700
TZOFFSETTO:-0800
TZNAME:PST
DTSTART:20191103T090000
END:STANDARD
END:VTIMEZONE
BEGIN:VEVENT
DTSTART;TZID=America/Los_Angeles:20181204T110000
DTEND;TZID=America/Los_Angeles:20181204T123000
DTSTAMP:20260425T194024
CREATED:20180611T102557Z
LAST-MODIFIED:20181108T063656Z
UID:10001181-1543921200-1543926600@www.napainsight.org
SUMMARY:Meditation and Discussion: Mike Coughlin
DESCRIPTION:Mike Coughlin will facilitate this evening’s meditation and discussion. Mike has been practicing mindfulness in the vipassana tradition for over a decade. He has received training in Buddhism and mindfulness through Spirit Rock Meditation Center and Mindful Schools and is currently enrolled in UCLA’s Certification in Mindfulness Facilitation program. \nOur evening sittings generally begin with a 30 minute meditation\, followed by a short break for tea and greetings. The Facilitator will then give a short talk on relevant themes and lead a group discussion.  All levels of experience are welcome.
URL:https://www.napainsight.org/event/meditation-and-discussion-forrest-hill-42/
LOCATION:Napa Valley Unitarian Universalists\, 1625 Salvador Ave\, Napa\, CA\, 94559
END:VEVENT
BEGIN:VEVENT
DTSTART;TZID=America/Los_Angeles:20181211T110000
DTEND;TZID=America/Los_Angeles:20181211T123000
DTSTAMP:20260425T194024
CREATED:20180611T103749Z
LAST-MODIFIED:20181108T063903Z
UID:10001187-1544526000-1544531400@www.napainsight.org
SUMMARY:Special Guest: Richard Shankman
DESCRIPTION:On Tuesday December 11th\, Napa Valley Insight Meditation will host a talk by Buddhist teacher and author Richard Shankman. \nRichard Shankman has been a meditator since 1970\, and teaches at Dharma centers and groups internationally. He is the guiding teacher of the Metta Dharma Foundation\, a non-residential meditation center in Berkeley\, CA that offers a weekly meditation group\, as well as monthly daylongs\, classes\, workshops\, and residential retreats. \nRichard is the co-founder of Mindful Schools\, a leading organization training educators to learn mindfulness and teach it to youth. He is also co-founder of the Sati Center for Buddhist Studies\, a study center that strives to balance scholarly inquiry into Buddhist teachings with serious meditation practice\, believing that study and practice work together to deepen one’s practice and aid in awakening. \nRichard is the author of The Experience of Samadhi: An In-Depth Investigation of Buddhist Meditation (Shambhala Publications\, 2008)\, and The Art and Skill of Buddhist Meditation (New Harbinger Publications\, 2015).
URL:https://www.napainsight.org/event/special-guest-oren-sofer-2/
LOCATION:Napa Valley Unitarian Universalists\, 1625 Salvador Ave\, Napa\, CA\, 94559
ATTACH;FMTTYPE=image/jpeg:https://www.napainsight.org/wp-content/uploads/2016/07/richard-Shankman.jpg
END:VEVENT
BEGIN:VEVENT
DTSTART;TZID=America/Los_Angeles:20181218T110000
DTEND;TZID=America/Los_Angeles:20181218T123000
DTSTAMP:20260425T194024
CREATED:20180611T102256Z
LAST-MODIFIED:20181108T063956Z
UID:10001174-1545130800-1545136200@www.napainsight.org
SUMMARY:Meditation and Discussion: Forrest Hill
DESCRIPTION:Forrest Hill will facilitate this evening’s meditation and discussion. Forrest has been practicing Insight Meditation since 2004 and is a founding member of Napa Valley Insight Meditation. He is currently enrolled in the Community Dharma Leaders Program at Spirit Rock Meditation Center. \nOur evening sittings generally begin with a 30 minute meditation\, followed by a short break for tea and greetings. The Facilitator will then give a short talk on relevant themes and lead a group discussion.  All levels of experience are welcome.
URL:https://www.napainsight.org/event/meditation-and-discussion-lori-stelling-42/
LOCATION:Napa Valley Unitarian Universalists\, 1625 Salvador Ave\, Napa\, CA\, 94559
END:VEVENT
BEGIN:VEVENT
DTSTART;TZID=America/Los_Angeles:20181226T110000
DTEND;TZID=America/Los_Angeles:20181226T123000
DTSTAMP:20260425T194024
CREATED:20181108T064321Z
LAST-MODIFIED:20181108T064321Z
UID:10001191-1545822000-1545827400@www.napainsight.org
SUMMARY:CLOSED FOR CHRISTMAS
DESCRIPTION:We will not be meeting today\, due to the Christmas holiday. You are invited to use this time to reflect on what you were grateful for in 2018. Metta!
URL:https://www.napainsight.org/event/closed-for-christmas/
LOCATION:Napa Valley Unitarian Universalist Fellowship\, 1625 Salvador Ave\, Napa\, CA\, 94559\, United States
END:VEVENT
END:VCALENDAR