BEGIN:VCALENDAR
VERSION:2.0
PRODID:-//Napa Valley Insight Meditation - ECPv6.15.20//NONSGML v1.0//EN
CALSCALE:GREGORIAN
METHOD:PUBLISH
X-ORIGINAL-URL:https://www.napainsight.org
X-WR-CALDESC:Events for Napa Valley Insight Meditation
REFRESH-INTERVAL;VALUE=DURATION:PT1H
X-Robots-Tag:noindex
X-PUBLISHED-TTL:PT1H
BEGIN:VTIMEZONE
TZID:America/Los_Angeles
BEGIN:DAYLIGHT
TZOFFSETFROM:-0800
TZOFFSETTO:-0700
TZNAME:PDT
DTSTART:20170312T100000
END:DAYLIGHT
BEGIN:STANDARD
TZOFFSETFROM:-0700
TZOFFSETTO:-0800
TZNAME:PST
DTSTART:20171105T090000
END:STANDARD
BEGIN:DAYLIGHT
TZOFFSETFROM:-0800
TZOFFSETTO:-0700
TZNAME:PDT
DTSTART:20180311T100000
END:DAYLIGHT
BEGIN:STANDARD
TZOFFSETFROM:-0700
TZOFFSETTO:-0800
TZNAME:PST
DTSTART:20181104T090000
END:STANDARD
BEGIN:DAYLIGHT
TZOFFSETFROM:-0800
TZOFFSETTO:-0700
TZNAME:PDT
DTSTART:20190310T100000
END:DAYLIGHT
BEGIN:STANDARD
TZOFFSETFROM:-0700
TZOFFSETTO:-0800
TZNAME:PST
DTSTART:20191103T090000
END:STANDARD
END:VTIMEZONE
BEGIN:VEVENT
DTSTART;TZID=America/Los_Angeles:20181106T110000
DTEND;TZID=America/Los_Angeles:20181106T123000
DTSTAMP:20260425T211254
CREATED:20180611T102453Z
LAST-MODIFIED:20180611T102453Z
UID:10001179-1541502000-1541507400@www.napainsight.org
SUMMARY:Meditation and Discussion: Forrest Hill
DESCRIPTION:Forrest Hill will facilitate this evening’s meditation and discussion. Forrest has been practicing Insight Meditation since 2004 and is a founding member of Napa Valley Insight Meditation. He is currently enrolled in the Community Dharma Leaders Program at Spirit Rock Meditation Center. \nOur evening sittings generally begin with a 30 minute meditation\, followed by a short break for tea and greetings. The Facilitator will then give a short talk on relevant themes and lead a group discussion.  All levels of experience are welcome.
URL:https://www.napainsight.org/event/meditation-and-discussion-forrest-hill-41/
LOCATION:Napa Valley Unitarian Universalists\, 1625 Salvador Ave\, Napa\, CA\, 94559
END:VEVENT
BEGIN:VEVENT
DTSTART;TZID=America/Los_Angeles:20181110T013000
DTEND;TZID=America/Los_Angeles:20181110T080000
DTSTAMP:20260425T211254
CREATED:20181020T012424Z
LAST-MODIFIED:20181020T012424Z
UID:10001189-1541813400-1541836800@www.napainsight.org
SUMMARY:Daylong Retreat with Matthew Brensilver -- The Seven Factors of Awakening
DESCRIPTION:The Buddhist path is often characterized as a path of letting go. We practice letting go of clinging. Yet\, the path is not merely about what we relinquish\, it is about cultivation. What do we cultivate? The seven factors of awakening – mindfulness\, investigation\, energy\, joy\, tranquility\, concentration\, and equanimity – refer to both psychological qualities we can develop as well as practices to be undertaken. When fully developed\, they express a life of understanding and love. In this day\, we will explore these qualities of heart and how they can function in our lives. All are welcome. \nWhat to Bring: Please bring a lunch\, beverage and appropriate clothing for outside walking meditation \nSuggested Donation: $25 – $75\nNo one turned away for lack of funds \nFor More Information Contact\nBarbara Dondero at barbdondero@gmail.com \nBio:  Matthew Brensilver\, PhD\, began practice in the Tibetan tradition\, and since 2003 has studied with Shinzen Young. He served as a Buddhist chaplain at USC for four years and teaches about the intersection of mindfulness and mental health at UCLA’s Mindful Awareness Research Center and with Mindful Schools.He completed the Spirit Rock/IMS teacher training program (2016) and regularly offers retreats at Spirit Rock and the Insight Retreat Center. He spent years doing research on addiction treatment at the UCLA Center for Behavioral and Addiction Medicine and continues to be interested in the unfolding dialogue between dharma and science.
URL:https://www.napainsight.org/event/daylong-retreat-with-matthew-brensilver-the-seven-factors-of-awakening/
LOCATION:Napa Valley Unitarian Universalist Fellowship\, 1625 Salvador Ave\, Napa\, CA\, 94559\, United States
ATTACH;FMTTYPE=image/jpeg:https://www.napainsight.org/wp-content/uploads/2018/10/Mathew-Brensilver.jpg
END:VEVENT
BEGIN:VEVENT
DTSTART;TZID=America/Los_Angeles:20181113T110000
DTEND;TZID=America/Los_Angeles:20181113T123000
DTSTAMP:20260425T211254
CREATED:20180611T103537Z
LAST-MODIFIED:20180611T103537Z
UID:10001185-1542106800-1542112200@www.napainsight.org
SUMMARY:Special Guest: Dawn Scott
DESCRIPTION:On November 13th\, Napa Valley Insight Meditation will host a presentation by Dawn Scott \nDawn has been practicing insight meditation since 2008\, is a Diamond Heart practitioner\, and currently serves as the Family Program Coordinator at Spirit Rock Meditation Center. She teaches teen retreats at Inward Bound Mindfulness Education (iBme) and is a participant in the 2017-2021 IMS Teacher Training Program.  Dawn is passionate about liberating the heart and mind through the Diamond Heart Approach and integrating Theravadan principles and practices into her daily life.
URL:https://www.napainsight.org/event/special-guest-dawn-scott/
LOCATION:Napa Valley Unitarian Universalists\, 1625 Salvador Ave\, Napa\, CA\, 94559
ATTACH;FMTTYPE=image/jpeg:https://www.napainsight.org/wp-content/uploads/2018/06/dawn-scott.jpg
END:VEVENT
BEGIN:VEVENT
DTSTART;TZID=America/Los_Angeles:20181120T110000
DTEND;TZID=America/Los_Angeles:20181120T123000
DTSTAMP:20260425T211254
CREATED:20180611T102202Z
LAST-MODIFIED:20181108T063508Z
UID:10001173-1542711600-1542717000@www.napainsight.org
SUMMARY:Meditation and Discussion: Forrest Hill
DESCRIPTION:Forrest Hill will facilitate this evening’s meditation and discussion. Forrest has been practicing Insight Meditation since 2004 and is a founding member of Napa Valley Insight Meditation. He is currently enrolled in the Community Dharma Leaders Program at Spirit Rock Meditation Center. \nOur evening sittings generally begin with a 30 minute meditation\, followed by a short break for tea and greetings. The Facilitator will then give a short talk on relevant themes and lead a group discussion.  All levels of experience are welcome.
URL:https://www.napainsight.org/event/meditation-and-discussion-lori-stelling-41/
LOCATION:Napa Valley Unitarian Universalists\, 1625 Salvador Ave\, Napa\, CA\, 94559
END:VEVENT
BEGIN:VEVENT
DTSTART;TZID=America/Los_Angeles:20181127T110000
DTEND;TZID=America/Los_Angeles:20181127T123000
DTSTAMP:20260425T211254
CREATED:20180611T102010Z
LAST-MODIFIED:20181108T063621Z
UID:10001171-1543316400-1543321800@www.napainsight.org
SUMMARY:Meditation and Discussion: Lori Stelling
DESCRIPTION:Lori Stelling will facilitate this evening’s meditation and discussion. Lori has practiced Insight Meditation since 2002. She has completed Insight Meditation Center’s 9-Month Eightfold Path Program and is currently engaged in year-long Buddhist studies through Dharmagiri and Dr. Rick Hanson’s Foundations of Well-Being Program. \nOur evening sittings generally begin with a 30 minute meditation\, followed by a short break for tea and greetings. The Facilitator will then give a short talk on relevant themes and lead a group discussion.  All levels of experience are welcome.
URL:https://www.napainsight.org/event/meditation-and-discussion-mike-coughlin-38/
LOCATION:Napa Valley Unitarian Universalists\, 1625 Salvador Ave\, Napa\, CA\, 94559
END:VEVENT
END:VCALENDAR