BEGIN:VCALENDAR
VERSION:2.0
PRODID:-//Napa Valley Insight Meditation - ECPv6.15.20//NONSGML v1.0//EN
CALSCALE:GREGORIAN
METHOD:PUBLISH
X-WR-CALNAME:Napa Valley Insight Meditation
X-ORIGINAL-URL:https://www.napainsight.org
X-WR-CALDESC:Events for Napa Valley Insight Meditation
REFRESH-INTERVAL;VALUE=DURATION:PT1H
X-Robots-Tag:noindex
X-PUBLISHED-TTL:PT1H
BEGIN:VTIMEZONE
TZID:America/Los_Angeles
BEGIN:DAYLIGHT
TZOFFSETFROM:-0800
TZOFFSETTO:-0700
TZNAME:PDT
DTSTART:20140309T100000
END:DAYLIGHT
BEGIN:STANDARD
TZOFFSETFROM:-0700
TZOFFSETTO:-0800
TZNAME:PST
DTSTART:20141102T090000
END:STANDARD
BEGIN:DAYLIGHT
TZOFFSETFROM:-0800
TZOFFSETTO:-0700
TZNAME:PDT
DTSTART:20150308T100000
END:DAYLIGHT
BEGIN:STANDARD
TZOFFSETFROM:-0700
TZOFFSETTO:-0800
TZNAME:PST
DTSTART:20151101T090000
END:STANDARD
BEGIN:DAYLIGHT
TZOFFSETFROM:-0800
TZOFFSETTO:-0700
TZNAME:PDT
DTSTART:20160313T100000
END:DAYLIGHT
BEGIN:STANDARD
TZOFFSETFROM:-0700
TZOFFSETTO:-0800
TZNAME:PST
DTSTART:20161106T090000
END:STANDARD
END:VTIMEZONE
BEGIN:VEVENT
DTSTART;TZID=America/Los_Angeles:20150224T110000
DTEND;TZID=America/Los_Angeles:20150224T123000
DTSTAMP:20260422T224414
CREATED:20150113T082122Z
LAST-MODIFIED:20150113T082138Z
UID:10000809-1424775600-1424781000@www.napainsight.org
SUMMARY:Special Guest: Kevin Griffin
DESCRIPTION:On Tuesday February 24th\, at 7:00 Napa Valley Insight Meditation will host a talk by Kevin Griffin\, author Buddhist teacher and innovator in the field of addiction treatment. \nKevin is a longtime Buddhist practitioner who trained as a Community Dharma Leader at Spirit Rock. He is the author of One Breath at a Time: Buddhism and the Twelve Steps and the forthcoming God\, Buddha\, and the Path of Recovery. A co-founder of the Buddhist Recovery Network\, he teaches regularly at Spirit Rock\, as well as at treatment centers\, Buddhist centers\, professional conferences\, and colleges across the U.S. Kevin has been a member of the Spirit Rock Family Program for ten years. \nVisit Keven’s website on Buddhism and Recovery for more information.
URL:https://www.napainsight.org/event/special-guest-kevin-griffin/
LOCATION:Napa Valley Unitarian Universalist Fellowship\, 1625 Salvador Ave\, Napa\, CA\, 94559\, United States
END:VEVENT
BEGIN:VEVENT
DTSTART;TZID=America/Los_Angeles:20150217T110000
DTEND;TZID=America/Los_Angeles:20150217T123000
DTSTAMP:20260422T224414
CREATED:20150113T081548Z
LAST-MODIFIED:20150113T082220Z
UID:10000808-1424170800-1424176200@www.napainsight.org
SUMMARY:Special Guest: Mark Coleman
DESCRIPTION:On Tuesday February 17th\, at 7:00 NVIM will host a talk by author\, naturalist and meditation instructor Mark Coleman. \nMark has practiced Buddhist meditation since 1984. He is a Spirit Rock Meditation Teacher and has been teaching Insight Meditation retreats since 1997. He also leads wilderness meditation retreats from Alaska to Peru\, integrating mindfulness meditation with nature. He is author of Awake in the Wild: Mindfulness in Nature as a Path of Self-Discovery. Mark is a psychotherapist\, life-coach and mindfulness consultant to corporations. He is an avid outdoor enthusiast and passionate about combining the forces of meditation\, silence and nature. \nVisit Mark’s website\, Aware in the Wild\, to  learn more about his approach to nature-based mindfulness practice and how this approach has help students all over the world find greater peace and fulfillment. \n 
URL:https://www.napainsight.org/event/special-guest-mark-coleman/
LOCATION:Napa Valley Unitarian Universalist Fellowship\, 1625 Salvador Ave\, Napa\, CA\, 94559\, United States
END:VEVENT
BEGIN:VEVENT
DTSTART;TZID=America/Los_Angeles:20150210T110000
DTEND;TZID=America/Los_Angeles:20150210T123000
DTSTAMP:20260422T224414
CREATED:20150113T080627Z
LAST-MODIFIED:20150113T080627Z
UID:10000807-1423566000-1423571400@www.napainsight.org
SUMMARY:Meditation & Discussion: Lori Stelling
DESCRIPTION:Napa Valley Insight Meditation is a community of meditation practitioners dedicated to supporting the cultivation of mindful awareness and compassion in daily life. We meet every Tuesday from 7:00pm – 8:30 pm at the Unitarian Universalist Fellowship in Napa (1625 Salvador Ave). All levels of experience are welcome. \nOur Tuesday night Sangha is led by a rotating group of local NVIM Dharma leaders and guest teachers. This week\, Lori Stelling will facilitate the evening’s meditation and discussion. \nEach meeting will generally follow the following structure: \n– 7:00 pm Meditation Sitting Begins \n– Sitting meditation: 30 minutes\n– Short break for tea and greetings: 10 minutes\n– Facilitator’s talk on relevant themes and/or group discussion: 45 – 50 minutes \n– 8:30 pm Meeting Ends
URL:https://www.napainsight.org/event/meditation-discussion-lori-stelling/
LOCATION:Napa Valley Unitarian Universalist Fellowship\, 1625 Salvador Ave\, Napa\, CA\, 94559\, United States
END:VEVENT
BEGIN:VEVENT
DTSTART;TZID=America/Los_Angeles:20150203T110000
DTEND;TZID=America/Los_Angeles:20150203T123000
DTSTAMP:20260422T224414
CREATED:20150113T080306Z
LAST-MODIFIED:20150122T113557Z
UID:10000806-1422961200-1422966600@www.napainsight.org
SUMMARY:Meditation & Discussion: Forrest Hill
DESCRIPTION:Napa Valley Insight Meditation is a community of meditation practitioners dedicated to supporting the cultivation of mindful awareness and compassion in daily life. We meet every Tuesday from 7:00pm – 8:30 pm at the Unitarian Universalist Fellowship in Napa (1625 Salvador Ave). All levels of experience are welcome. \n \nOur Tuesday night Sangha is led by a rotating group of local NVIM Dharma leaders and guest teachers. This week\, Forrest Hill will facilitate the evening’s meditation and discussion. \nEach meeting will generally follow the following structure: \n– 7:00 pm Meditation Sitting Begins \n– Sitting meditation: 30 minutes\n– Short break for tea and greetings: 10 minutes\n– Facilitator’s talk on relevant themes and/or group discussion: 45 – 50 minutes \n– 8:30 pm Meeting Ends \n\n  \n 
URL:https://www.napainsight.org/event/meditation-discussion-forrest-hill/
LOCATION:Napa Valley Unitarian Universalist Fellowship\, 1625 Salvador Ave\, Napa\, CA\, 94559\, United States
END:VEVENT
END:VCALENDAR