BEGIN:VCALENDAR
VERSION:2.0
PRODID:-//Napa Valley Insight Meditation - ECPv6.15.20//NONSGML v1.0//EN
CALSCALE:GREGORIAN
METHOD:PUBLISH
X-ORIGINAL-URL:https://www.napainsight.org
X-WR-CALDESC:Events for Napa Valley Insight Meditation
REFRESH-INTERVAL;VALUE=DURATION:PT1H
X-Robots-Tag:noindex
X-PUBLISHED-TTL:PT1H
BEGIN:VTIMEZONE
TZID:America/Los_Angeles
BEGIN:DAYLIGHT
TZOFFSETFROM:-0800
TZOFFSETTO:-0700
TZNAME:PDT
DTSTART:20240310T100000
END:DAYLIGHT
BEGIN:STANDARD
TZOFFSETFROM:-0700
TZOFFSETTO:-0800
TZNAME:PST
DTSTART:20241103T090000
END:STANDARD
BEGIN:DAYLIGHT
TZOFFSETFROM:-0800
TZOFFSETTO:-0700
TZNAME:PDT
DTSTART:20250309T100000
END:DAYLIGHT
BEGIN:STANDARD
TZOFFSETFROM:-0700
TZOFFSETTO:-0800
TZNAME:PST
DTSTART:20251102T090000
END:STANDARD
BEGIN:DAYLIGHT
TZOFFSETFROM:-0800
TZOFFSETTO:-0700
TZNAME:PDT
DTSTART:20260308T100000
END:DAYLIGHT
BEGIN:STANDARD
TZOFFSETFROM:-0700
TZOFFSETTO:-0800
TZNAME:PST
DTSTART:20261101T090000
END:STANDARD
END:VTIMEZONE
BEGIN:VEVENT
DTSTART;TZID=America/Los_Angeles:20250408T190000
DTEND;TZID=America/Los_Angeles:20250408T203000
DTSTAMP:20260421T041650
CREATED:20241206T021050Z
LAST-MODIFIED:20250309T073053Z
UID:10001350-1744138800-1744144200@www.napainsight.org
SUMMARY:Special Guest Eve Decker
DESCRIPTION:Eve has been singing\, song writing\, and performing since she was 8 years old! In her 20’s she co-founded\, played\, recorded and toured with the feminist folk trio Rebecca Riots for 15 years. Rebecca Riots was dubbed “Best Band with a Conscience” by the San Francisco Bay Guardian. Eve has also released two CDs of original\, dharma based music\, and will release a third in September 2015. \nEve began practicing Vipassana meditation in 1991 and has been a Buddhist teacher since 2006. She am a graduate of UC Berkeley\, and the Community Dharma Leader training programs at Spirit Rock Center in California. She has travel throughout California and internationally to teach mindfulness\, lovingkindness\, compassion and gratitude directly and through music. \nCOVID Recommendations For Gathering Safely\n(recommended by https://covid19.ca.gov “Current Safety Measures”): \n\nIf you have recently been exposed to COVID\, it is recommended that you wear a mask indoors through day 10.\nIf you test positive for COVID without symptoms\, please do not attend sangha for at least 5 full days and wear a mask indoors through day 10.\nIf you test positive for COVID and have symptoms\, please do not attend sangha for at least 5 full days; and then do not return until your symptoms are mild\, improving\, and you are fever-free for at least 24 hours. Wear a mask indoors through Day 10.
URL:https://www.napainsight.org/event/special-guest-eve-decker-6/
LOCATION:Napa Valley Unitarian Universalists\, 1625 Salvador Ave\, Napa\, CA\, 94559
CATEGORIES:Special Event
ATTACH;FMTTYPE=image/jpeg:https://www.napainsight.org/wp-content/uploads/2017/03/eve-decker.jpg
END:VEVENT
END:VCALENDAR